BEGIN:VCALENDAR
VERSION:2.0
PRODID:-//VIA - ECPv5.12.2//NONSGML v1.0//EN
CALSCALE:GREGORIAN
METHOD:PUBLISH
X-WR-CALNAME:VIA
X-ORIGINAL-URL:https://www.via-in-berlin.de
X-WR-CALDESC:Veranstaltungen für VIA
REFRESH-INTERVAL;VALUE=DURATION:PT1H
X-Robots-Tag:noindex
X-PUBLISHED-TTL:PT1H
BEGIN:VTIMEZONE
TZID:Europe/Berlin
BEGIN:DAYLIGHT
TZOFFSETFROM:+0100
TZOFFSETTO:+0200
TZNAME:CEST
DTSTART:20260329T010000
END:DAYLIGHT
BEGIN:STANDARD
TZOFFSETFROM:+0200
TZOFFSETTO:+0100
TZNAME:CET
DTSTART:20261025T010000
END:STANDARD
END:VTIMEZONE
BEGIN:VEVENT
DTSTART;TZID=Europe/Berlin:20260421T150000
DTEND;TZID=Europe/Berlin:20260421T180000
DTSTAMP:20260421T035536
CREATED:20260302T125606Z
LAST-MODIFIED:20260302T142910Z
UID:8051-1776783600-1776794400@www.via-in-berlin.de
SUMMARY:VIA Service-Akademie für MO | Workshopreihe: Projektmanagement für MO in Tempelhof-Schöneberg — Modul I “Einführung & Finanzierung”
DESCRIPTION:Die Work­shoprei­he richtet sich ins­beson­dere an Migrant*innenorganisationen (MO) aus Tem­pel­hof-Schöneberg! Bei ver­füg­baren Plätzen sind MO aus anderen Bezirke her­zlich zur Teil­nahme eingeladen. \nIm 1. Mod­ul wer­den fol­gende The­men besprochen: \n\nGrund­la­gen des Projektmanagements\nPro­jek­t­phasen & Antragstellung\nFörder­arten & Projektförderung\n\nRef­er­enten: Hol­ger Förster & Fuat Şengül | VIA Ser­vice-Akademie für MO \nAnmel­dung bitte per E‑Mail an Nina Grube.
URL:https://www.via-in-berlin.de/events/workshopreihe-projektmanagement-mo-in-tempelhof-schoeneberg-modul-1/
LOCATION:Interkulturelles Haus Schöneberg\, Geßlerstr. 11\, Berlin\, Berlin\, 10829\, Deutschland
CATEGORIES:Qualifizierung für MO
END:VEVENT
BEGIN:VEVENT
DTSTART;TZID=Europe/Berlin:20260428T150000
DTEND;TZID=Europe/Berlin:20260428T180000
DTSTAMP:20260421T035536
CREATED:20260302T130114Z
LAST-MODIFIED:20260302T142850Z
UID:8056-1777388400-1777399200@www.via-in-berlin.de
SUMMARY:VIA Service-Akademie für MO | Workshopreihe: Projektmanagement für MO in Tempelhof-Schöneberg — Modul II “Projektförderung”
DESCRIPTION:Die Work­shoprei­he richtet sich ins­beson­dere an Migrant*innenorganisationen (MO) aus Tem­pel­hof-Schöneberg! Bei ver­füg­baren Plätzen sind MO aus anderen Bezirke her­zlich zur Teil­nahme eingeladen. \nIm 2. Mod­ul wer­den fol­gende The­men besprochen: \n\nÖffentliche Förderung & Verfahren\nKosten­pla­nung (Per­son­al\, Mieten\, Honorare)\nFörder­pro­gramme & Förder­daten­bank (mit Schw­er­punkt auf Förder­pro­gram­men im Bezirk Spandau)\n\nRef­er­enten: Hol­ger Förster & Fuat Şengül | VIA Ser­vice-Akademie für MO \nAnmel­dung bitte per E‑Mail an Nina Grube.
URL:https://www.via-in-berlin.de/events/workshopreihe-projektmanagement-mo-in-tempelhof-schoeneberg-modul-2/
LOCATION:Interkulturelles Haus Schöneberg\, Geßlerstr. 11\, Berlin\, Berlin\, 10829\, Deutschland
CATEGORIES:Qualifizierung für MO
END:VEVENT
BEGIN:VEVENT
DTSTART;TZID=Europe/Berlin:20260505T150000
DTEND;TZID=Europe/Berlin:20260505T180000
DTSTAMP:20260421T035536
CREATED:20260302T132544Z
LAST-MODIFIED:20260302T142822Z
UID:8059-1777993200-1778004000@www.via-in-berlin.de
SUMMARY:VIA Service-Akademie für MO | Workshopreihe: Projektmanagement für MO in Tempelhof-Schöneberg— Modul III “Durchführung & Controlling”
DESCRIPTION:Die Work­shoprei­he richtet sich ins­beson­dere an Migrant*innenorganisationen (MO) aus Tem­pel­hof-Schöneberg! Bei ver­füg­baren Plätzen sind MO aus anderen Bezirke her­zlich zur Teil­nahme eingeladen. \nIm 3. Mod­ul wer­den fol­gende The­men besprochen: \n\nUmset­zung & Steuerung von Projekten\nMit­te­labruf & Aus­gaben nach Kostenart\nBerichtswe­sen & Dokumentation \n\nRef­er­enten: Hol­ger Förster & Fuat Şengül | VIA Ser­vice-Akademie für MO \nAnmel­dung bitte per E‑Mail an Nina Grube.
URL:https://www.via-in-berlin.de/events/workshopreihe-projektmanagement-fuer-mo-in-tempelhof-schoeneberg-modul-3/
LOCATION:Interkulturelles Haus Schöneberg\, Geßlerstr. 11\, Berlin\, Berlin\, 10829\, Deutschland
CATEGORIES:Qualifizierung für MO
END:VEVENT
BEGIN:VEVENT
DTSTART;TZID=Europe/Berlin:20260512T150000
DTEND;TZID=Europe/Berlin:20260512T180000
DTSTAMP:20260421T035536
CREATED:20260302T133015Z
LAST-MODIFIED:20260302T143139Z
UID:8062-1778598000-1778608800@www.via-in-berlin.de
SUMMARY:VIA Service-Akademie für MO | Workshopreihe: Projektmanagement für MO in Tempelhof-Schöneberg— Modul IV "Verwendungsnachweis & Co"
DESCRIPTION:Die Work­shoprei­he richtet sich ins­beson­dere an Migrant*innenorganisationen (MO) aus Tem­pel­hof-Schöneberg! Bei ver­füg­baren Plätzen sind MO aus anderen Bezirke her­zlich zur Teil­nahme eingeladen. \nIm 4. Mod­ul wer­den fol­gende The­men besprochen: \n\nZuwen­dungsrecht & Finanzcontrolling\nBelegführung & Abschlussbericht\nNach­haltige Öffentlichkeitsarbeit\n\nRef­er­enten: Hol­ger Förster & Fuat Şengül | VIA Ser­vice-Akademie für MO \nAnmel­dung bitte per E‑Mail an Nina Grube.
URL:https://www.via-in-berlin.de/events/workshopreihe-projektmanagement-fuer-mo-in-tempelhof-schoeneberg-modul-4/
LOCATION:Interkulturelles Haus Schöneberg\, Geßlerstr. 11\, Berlin\, Berlin\, 10829\, Deutschland
CATEGORIES:Qualifizierung für MO
END:VEVENT
BEGIN:VEVENT
DTSTART;TZID=Europe/Berlin:20260516T100000
DTEND;TZID=Europe/Berlin:20260516T160000
DTSTAMP:20260421T035536
CREATED:20260415T113628Z
LAST-MODIFIED:20260415T113745Z
UID:6691-1778925600-1778947200@www.via-in-berlin.de
SUMMARY:Schulung: Schnelltests (HIV\, Syphilis und Hepatitis C) ohne Ärzt*innen (auf Englisch)
DESCRIPTION:Im Rah­men des Masern­schutzge­set­zes\, das am 14. Novem­ber 2019 im Bun­destag beschlossen und am 20. Dezem­ber gebil­ligt wurde\, kam auch zu Änderun­gen in §24 Infek­tion­ss­chutzge­setz und §3 der Medi­z­in­pro­duk­te­ab­gabeverord­nung: Seit 1.3.2020 ist es in Aid­shil­fen\, Gesund­heit­sämtern\, Check­points\, Aids- und Dro­gen­ber­atungsstellen möglich\, Schnell­tests auf HIV\, Syphilis und Hepati­tis C ohne ärztliche Auf­sicht anzu­bi­eten und durchzuführen. Der Geset­zge­ber reagierte ein­er­seits auf den Ärzte­man­gel\, der sich in diesem Feld beson­ders bzw. früher auswirkt und ander­er­seits auf die Notwendigkeit\, eine bis­lang sta­bil hohe Zahl von unerkan­nten HIV- und Hepati­tis-C-Infek­tio­nen zu reduzieren. \nIm the­o­retis­chen Teil des Sem­i­nars geht es neben medi­zinis­chen Grund­la­gen zu den Schnell­tests um die Auf­gaben und Pflicht­en\, die mit der Über­nahme der Ver­ant­wor­tung ver­bun­den sind. \nIm prak­tis­chen Teil wer­den ver­schiedene Schnell­tests durchge­führt und es erfol­gt eine Ein­weisung in ver­schiedene Pro­duk­te entsprechend Medizinprodukteverordnung. \nDas Sem­i­nar ist auf 12 Teil­nehmende begrenzt. \nZer­ti­fikate: \nBei erfol­gre­ich­er Teil­nahme am Sem­i­nar wer­den 2 Zer­ti­fikate vergeben: \n\nQual­i­fika­tion­snach­weis für die Durch­führung von Schnell­tests ohne Ärzte/Ärztinnen\nEin­weisung in ver­schiedene Point-of-Care-Tests nach Medizinprodukteverordnung\n\nZiel­gruppe: \nMultiplikator*innen \nSprache: \nEnglisch \nKosten: \n\nDie Teil­nahme ist kostenfrei\nEine Über­nahme von Reise- und Über­nach­tungskosten ist lei­der nicht möglich\n\nReferent*innen: \nDr. Bamidele Ade­miluyi\, Ros­aline M’Bayo\, Dr. Stephen Amoah \n Anmel­dung: \nAnmel­dung per E‑Mail an Stephen Amoah oder Ros­aline M’bayo (Pro­jekt Afrika­herz) erforderlich. \n\nPro­gramm: \n10:00 Uhr – 12:15 Uhr           Theorie \n\nArztvor­be­halt\, Infek­tion­ss­chutzge­setz\, Rechtliche Grund­la­gen zur Durch­führung von Schnell­tests (HIV\, Hepati­tis C\, Syphilis) ohne Ärztinnen/Ärzte\nEin­willi­gung in die Diag­nos­tik\, Einwilligungsfähigkeit\nMöglichkeit­en und Gren­zen von Schnell­tests. Sen­si­tiv­ität\, Spez­i­fität\, falsch pos­i­tive und falsch neg­a­tive Ergeb­nisse\, Diag­nos­tis­ches Fenster\nHIV\, Hepatitis‑C und Syphilis-Diag­nos­tik im Labor und mit Schnelltests.\nDurch­führung von Schnell­tests\, Fehlerquellen\nHygiene\, Abfal­l­entsorgung\nMedi­z­in­pro­duk­teverord­nung\, Meldewege\, Ein­weisung in die Anwen­dung von Medizinprodukten\nHaftpflichtver­sicherung / Berufshaftpflichtversicherung\nMedi­zinis­ch­er Not­fall (Synkopen)\n\n13:00 Uhr – 16:00 Uhr           Praxis  \n\nDurch­führung von Schnell­tests (HIV\, Syphilis\, Hepati­tis C) mit Kapillarblutentnahme\nEin­weisung in ver­schiedene Schnell­test-Fab­rikate nach Medizinprodukteverordnung\n\n  \n 
URL:https://www.via-in-berlin.de/events/schulung-schnelltests-ohne-aerztinnen-2026-englisch/
LOCATION:Afrikaherz\, Elsenstr. 75\, Berlin\, Berlin\, 12059\, Deutschland
CATEGORIES:Seminare für Migrant*innen,Weitere Veranstaltungen,Workshop
END:VEVENT
END:VCALENDAR