BEGIN:VCALENDAR
VERSION:2.0
PRODID:-//VIA - ECPv5.12.2//NONSGML v1.0//EN
CALSCALE:GREGORIAN
METHOD:PUBLISH
X-WR-CALNAME:VIA
X-ORIGINAL-URL:https://www.via-in-berlin.de
X-WR-CALDESC:Veranstaltungen für VIA
REFRESH-INTERVAL;VALUE=DURATION:PT1H
X-Robots-Tag:noindex
X-PUBLISHED-TTL:PT1H
BEGIN:VTIMEZONE
TZID:Europe/Berlin
BEGIN:DAYLIGHT
TZOFFSETFROM:+0100
TZOFFSETTO:+0200
TZNAME:CEST
DTSTART:20210328T010000
END:DAYLIGHT
BEGIN:STANDARD
TZOFFSETFROM:+0200
TZOFFSETTO:+0100
TZNAME:CET
DTSTART:20211031T010000
END:STANDARD
END:VTIMEZONE
BEGIN:VEVENT
DTSTART;TZID=Europe/Berlin:20210312T140000
DTEND;TZID=Europe/Berlin:20210312T160000
DTSTAMP:20260426T055930
CREATED:20210307T124144Z
LAST-MODIFIED:20210307T131956Z
UID:2835-1615557600-1615564800@www.via-in-berlin.de
SUMMARY:Box66 | Veranstaltung zum Internat. Frauentag: Sind Frauen die Verliererinnen der Corona-Pandemie? (Online)
DESCRIPTION:    \nDie BOX66 lädt in Koop­er­a­tion mit Frauen­cafe Berlin­Glob­al anlässlich des Inter­na­tionalen Frauen­tags zu der dig­i­tal­en Gespräch­srunde “Sind Frauen die Ver­liererin­nen der Coro­na-Pan­demie?” ein. \nAlle lei­den unter der Coro­na-Pan­demie\, aber die ökonomis­chen und sozialen Fol­gen tre­f­fen Frauen deut­lich härter als Män­ner. Plöt­zlich find­en Kinder­be­treu­ung und Arbeit zusät­zlich zur “nor­malen Hausar­beit” dauer­haft zu Hause statt. Frauen tra­gen die Haupt­last der unbezahlten Sorgear­beit. Im Rah­men der Podi­ums­diskus­sion sollen fol­gende Fra­gen disku­tiert werden: \n\nWas sind die großen Her­aus­forderun­gen und die Chan­cen für Frauen in der Corona-Zeit?\nWas bedeutet die Coro­na-Pan­demie für die Gleichstellung?\nVer­schärft die Krise die Defizite der Gle­ich­stel­lung im Erwerbsleben?\nIst die zunehmende Dig­i­tal­isierung Chance oder Risiko für Frauen?\n\nDie Ver­anstal­tung find­et dig­i­tal per Zoom statt. Der Anmeldelink wird 1–2 Tage vorher per E‑Mail verschickt. \nEine Anmel­dung per E‑Mail an Frau Remziye Uykun ist erforderlich. \nAlle Inter­essierten sind her­zlich willkom­men. Die Ver­anstal­tung ist kosten­frei und find­et auf Deutsch statt. \nHier gehts zum Face­book-Event. \n  \n 
URL:https://www.via-in-berlin.de/events/box66-frauentag-2021/
LOCATION:Digitaler Schulungsraum VIA Berlin/Brandenburg
CATEGORIES:Fachveranstaltungen,Seminare für Migrant*innen
END:VEVENT
END:VCALENDAR