BEGIN:VCALENDAR
VERSION:2.0
PRODID:-//VIA - ECPv5.12.2//NONSGML v1.0//EN
CALSCALE:GREGORIAN
METHOD:PUBLISH
X-WR-CALNAME:VIA
X-ORIGINAL-URL:https://www.via-in-berlin.de
X-WR-CALDESC:Veranstaltungen für VIA
REFRESH-INTERVAL;VALUE=DURATION:PT1H
X-Robots-Tag:noindex
X-PUBLISHED-TTL:PT1H
BEGIN:VTIMEZONE
TZID:Europe/Berlin
BEGIN:DAYLIGHT
TZOFFSETFROM:+0100
TZOFFSETTO:+0200
TZNAME:CEST
DTSTART:20210328T010000
END:DAYLIGHT
BEGIN:STANDARD
TZOFFSETFROM:+0200
TZOFFSETTO:+0100
TZNAME:CET
DTSTART:20211031T010000
END:STANDARD
END:VTIMEZONE
BEGIN:VEVENT
DTSTART;TZID=Europe/Berlin:20210316T180000
DTEND;TZID=Europe/Berlin:20210316T180000
DTSTAMP:20260426T055931
CREATED:20210307T125625Z
LAST-MODIFIED:20210310T094536Z
UID:2852-1615917600-1615917600@www.via-in-berlin.de
SUMMARY:Internationale Woche gegen Rassismus 2021 Fhain-Xberg: Empower Remix - Künstlerische Position gegen Rassismus (Online)
DESCRIPTION:Der VIA Region­alver­band Berlin/Brandenburg e.V. lädt in Koop­er­a­tion mit dem Inte­gra­tions­beirat Friedrichshain-Kreuzberg zu dieser Ver­anstal­tung anlässlich der Inter­na­tionalen Woche gegen Ras­sis­mus 2021 ein. Alle Inter­essierten sind her­zlich willkommen! \n \nEmpow­er Remix – kün­st­lerische Posi­tion gegen  Rassismus \nMod­er­a­tion: \nTes­sa Hart \nGäste: \nSte­fanie Lahya Aukon­go: Poet­ry Slam \nZuher Jaz­mati und Dominik Djialeu: ‑Der Black Brown Queer Podcast \nMut­lu Ergün-Hamaz: Per­for­mance \nDie Ver­anstal­tung wird live auf YouTube gestreamt.
URL:https://www.via-in-berlin.de/events/internat-woche-rassismus-2021-f-k-1/
LOCATION:YouTube: https://bit.ly/30hSMwZ
END:VEVENT
END:VCALENDAR