BEGIN:VCALENDAR
VERSION:2.0
PRODID:-//VIA - ECPv5.12.2//NONSGML v1.0//EN
CALSCALE:GREGORIAN
METHOD:PUBLISH
X-WR-CALNAME:VIA
X-ORIGINAL-URL:https://www.via-in-berlin.de
X-WR-CALDESC:Veranstaltungen für VIA
REFRESH-INTERVAL;VALUE=DURATION:PT1H
X-Robots-Tag:noindex
X-PUBLISHED-TTL:PT1H
BEGIN:VTIMEZONE
TZID:Europe/Berlin
BEGIN:DAYLIGHT
TZOFFSETFROM:+0100
TZOFFSETTO:+0200
TZNAME:CEST
DTSTART:20210328T010000
END:DAYLIGHT
BEGIN:STANDARD
TZOFFSETFROM:+0200
TZOFFSETTO:+0100
TZNAME:CET
DTSTART:20211031T010000
END:STANDARD
END:VTIMEZONE
BEGIN:VEVENT
DTSTART;TZID=Europe/Berlin:20210318T100000
DTEND;TZID=Europe/Berlin:20210318T120000
DTSTAMP:20260426T055930
CREATED:20210303T105239Z
LAST-MODIFIED:20210303T120109Z
UID:2821-1616061600-1616068800@www.via-in-berlin.de
SUMMARY:9. Netzwerktreffen Steglitz-Zehlendorf
DESCRIPTION:Im Jahr 2018 ist im Bezirk Steglitz-Zehlen­dorf das Net­zw­erk zum The­ma „Arbeits­mark­t­in­te­gra­tion von Zuge­wan­derten\, ins­beson­dere von Frauen und EU-Zuge­wan­derten“ gegründet und etabliert wor­den. Wir – das VIA-Teil­pro­jekt „Kom­mune interkul­turell“ im IQ Lan­desnet­zw­erk Berlin laden Sie in Koop­er­a­tion mit der Inte­gra­tions­beauf­tragten des Bezirkes und der Migra­tions­beauf­tragten des Job­cen­ters Steglitz-Zehlen­dorf her­zlich zum neun­ten Net­zw­erk­tr­e­f­fen ein: \nam Don­ner­stag\, den 18. März 2021 von 10:00 bis 12:00 Uhr. \nAuf­grund der erforder­lichen COVID-19-Maß­nah­men in Berlin wird diese Ver­anstal­tung dig­i­tal durchgeführt.\n \n\n\n\n  \nAls Exper­tin­nen und Experten sind der Arbeit­ge­berser­vice Asyl der Agen­tur für Arbeit zu aktuellen Infor­ma­tio­nen bezüglich der aktuellen Arbeits­mark­t­lage\, ins­beson­dere für Per­so­n­en mit Migra­tionsh­in­ter­grund ein­ge­laden. In welchen Bere­ichen gibt es aktuell noch Arbeitsmöglichkeiten? Wir gehen davon aus\, dass die Dig­i­tal­isierung ins­beson­dere für weib­liche Migran­tinnen ein Hin­der­nis darstellen könnte. Gehen die Arbeit­ge­ber darauf ein? \nDarüber hin­aus wer­den uns die Lei­t­erin­nen der Gemein­schaft­sun­terkun­ft (GU) Finck­en­steinallee sowie vom Paten­schaft­spro­gramm „Men­schen stärken Men­schen“ der Vil­la Mit­tel­hof zu aktuellen The­men zum Arbeits­mark­tzu­gang von Per­so­n­en mit Fluchter­fahrun­gen und Dig­i­tal­isierung berichten. \n\n\n\n\nProgramm\n10:00 Begrüßung und Vorstellungsrunde\n10:10 Input und Diskus­sion – Aktuelles Arbeit­ge­berser­vice Asyl\, Herr Lewald\n10:40 Input und Diskus­sion – Aktuelles GU Finck­en­steinallee\, Frau Dolo­vac (Leitung)\n11:00 Vorstel­lung des Paten­schaft­spro­gramms „Men­schen stärken Men­schen“ des Stadt­teilzen­trums Vil­la Mit­tel­hof e.V.\, Frau Strätz\n11:20 Austauschgespräch – The­men­samm­lung für 2021\n12:00 Ausklang \n\n\n\n  \nAnmel­dung bis zum 10. März 2021 unter anmeldung-iq@via-in-berlin.de.
URL:https://www.via-in-berlin.de/events/9-netzwerktreffen-steglitz-zehlendorf/
LOCATION:Digitaler Schulungsraum VIA Berlin/Brandenburg\, Berlin\, Deutschland
CATEGORIES:IQ Kommune Interkulturell,Netzwerktreffen
ATTACH;FMTTYPE=image/png:https://www.via-in-berlin.de/wp-content/uploads/2021/03/Netzwerktreffen-Steglitz-Zehlendorf-banner.png
END:VEVENT
END:VCALENDAR