BEGIN:VCALENDAR
VERSION:2.0
PRODID:-//VIA - ECPv5.12.2//NONSGML v1.0//EN
CALSCALE:GREGORIAN
METHOD:PUBLISH
X-WR-CALNAME:VIA
X-ORIGINAL-URL:https://www.via-in-berlin.de
X-WR-CALDESC:Veranstaltungen für VIA
REFRESH-INTERVAL;VALUE=DURATION:PT1H
X-Robots-Tag:noindex
X-PUBLISHED-TTL:PT1H
BEGIN:VTIMEZONE
TZID:Europe/Berlin
BEGIN:DAYLIGHT
TZOFFSETFROM:+0100
TZOFFSETTO:+0200
TZNAME:CEST
DTSTART:20210328T010000
END:DAYLIGHT
BEGIN:STANDARD
TZOFFSETFROM:+0200
TZOFFSETTO:+0100
TZNAME:CET
DTSTART:20211031T010000
END:STANDARD
END:VTIMEZONE
BEGIN:VEVENT
DTSTART;TZID=Europe/Berlin:20210319T120000
DTEND;TZID=Europe/Berlin:20210319T140000
DTSTAMP:20260426T055931
CREATED:20210307T130850Z
LAST-MODIFIED:20210307T132157Z
UID:2860-1616155200-1616162400@www.via-in-berlin.de
SUMMARY:Internationale Woche gegen Rassismus 2021 Fhain-Xberg: Mahnwache zur Erinnerung der Opfer rassistischer Gewalt
DESCRIPTION:Der VIA Region­alver­band Berlin/Brandenburg e.V. und die Part­ner­schaft für Demokratie Friedrichshain-Kreuzberg laden in Koop­er­a­tion mit dem Inte­gra­tions­beirat Friedrichshain-Kreuzberg zu dieser Ver­anstal­tung anlässlich der Inter­na­tionalen Woche gegen Ras­sis­mus 2021 ein. Alle Inter­essierten sind her­zlich willkommen! \n \nMah­nwache zur Erin­nerung der Opfer ras­sis­tis­ch­er Gewalt \nRas­sis­muser­fahrene\, Vertreter*innen des Beirates für Inte­gra­tion und Migra­tion des Bezirks Friedrichshain-Kreuzberg sowie die Bezirks­bürg­er­meis­terin Moni­ka Her­rmann kom­men zum Wort. \nSelb­stver­ständlich wer­den die aktuelle Abstands- und Hygien­eregelun­gen eingehalten.
URL:https://www.via-in-berlin.de/events/internationale-woche-gegen-rassismus-2021-fhain-xberg-mahnwache-zur-erinnerung-der-opfer-rassistischer-gewalt/
LOCATION:Frankfurter Tor\, Berlin\, Deutschland
END:VEVENT
END:VCALENDAR