BEGIN:VCALENDAR
VERSION:2.0
PRODID:-//VIA - ECPv5.12.2//NONSGML v1.0//EN
CALSCALE:GREGORIAN
METHOD:PUBLISH
X-WR-CALNAME:VIA
X-ORIGINAL-URL:https://www.via-in-berlin.de
X-WR-CALDESC:Veranstaltungen für VIA
REFRESH-INTERVAL;VALUE=DURATION:PT1H
X-Robots-Tag:noindex
X-PUBLISHED-TTL:PT1H
BEGIN:VTIMEZONE
TZID:Europe/Berlin
BEGIN:DAYLIGHT
TZOFFSETFROM:+0100
TZOFFSETTO:+0200
TZNAME:CEST
DTSTART:20210328T010000
END:DAYLIGHT
BEGIN:STANDARD
TZOFFSETFROM:+0200
TZOFFSETTO:+0100
TZNAME:CET
DTSTART:20211031T010000
END:STANDARD
END:VTIMEZONE
BEGIN:VEVENT
DTSTART;TZID=Europe/Berlin:20210331T100000
DTEND;TZID=Europe/Berlin:20210331T120000
DTSTAMP:20260426T055843
CREATED:20210315T141641Z
LAST-MODIFIED:20210315T141641Z
UID:2894-1617184800-1617192000@www.via-in-berlin.de
SUMMARY:Qualifizierungsseminar zum Thema Duldung und Duldungsrecht: Wer in Deutschland arbeiten darf
DESCRIPTION:2019 wur­den im Rah­men des Migra­tionspakets mehrere Gesetzesänderungen ver­ab­schiedet\, welche auch Kon­se­quen­zen für Men­schen mit Dul­dun­gen hat­ten. Trotz manch­er pos­i­tiv­er Auswirkun­gen wird Geflüchteten der Zugang zum deutschen Arbeits­markt häufig immer noch teils oder ganz vorenthalten. \nDas Teil­pro­jekt „Kom­mune Interkul­turell“ im IQ-Net­zw­erk Berlin bietet Qual­i­fizierungs- und Beratungsange­bote für Migrant*innenorganisationen (MO) an\, die mit geflüchteten Men­schen arbeit­en. In diesem Work­shop geht es in Koop­er­a­tion mit bridge — Berlin­er  Net­zw­erk für Bleiberecht um das The­ma Dul­dung\, speziell die Beschäftigungsduldung und Ausbildungsduldung. \nBehan­delt wer­den unter anderem: \n\nder Zugang zum deutschen Arbeits­markt von gedulde­ten Personen.\nVoraus­set­zun­gen für die Erteilung ein­er Aus­bil­dungs­dul­dung nach § 60c Aufen­thG oder Beschäftigungsduldung nach § 60d AufenthG.\ndie Leis­tun­gen nach dem Asyl­be­wer­ber­leis­tungs­ge­setz \, Aus­bil­dungs- und Sprachförderung .\n\nAlle ehre­namtlichen und haup­tamtlichen Mitar­bei­t­erin­nen und Mitar­beit­er von MO sind her­zlich eingeladen. \n  \nAuf­grund der erforder­lichen COVID-19-Maß­nah­men in Berlin wird diese Ver­anstal­tung dig­i­tal durchge­führt. Angemeldete Per­so­n­en erhal­ten vor der Ver­anstal­tung den Ver­anstal­tungslink. Die Teil­nahme ist kosten­los und find­et auf Deutsch statt. \n  \nEine Anmel­dung ist erforder­lich bis zum 26.3.2021 unter: anmeldung-iq@via-in-berlin.de \n  \nTer­min:     31. März 2021\, 10:00 — 12:00 Uhr \nOrt:        VIA Dig­i­tal (Zoom-Plat­tform) \nRef­er­entin:    Sun­na Keles\, Juristin | bridge – Berlin­er Net­zw­erke für Bleiberecht bei der Berlin­er Integrationsbeauftragten
URL:https://www.via-in-berlin.de/events/qualifizierungsseminar-zum-thema-duldung-und-duldungsrecht-wer-in-deutschland-arbeiten-darf/
LOCATION:Digitaler Schulungsraum VIA Berlin/Brandenburg\, Berlin\, Deutschland
CATEGORIES:IQ Kommune Interkulturell,Qualifizierung für MO
ATTACH;FMTTYPE=image/png:https://www.via-in-berlin.de/wp-content/uploads/2021/03/2.-Veranstaltungsbanner-Qualifizierungsseminare.png
END:VEVENT
END:VCALENDAR