BEGIN:VCALENDAR
VERSION:2.0
PRODID:-//VIA - ECPv5.12.2//NONSGML v1.0//EN
CALSCALE:GREGORIAN
METHOD:PUBLISH
X-WR-CALNAME:VIA
X-ORIGINAL-URL:https://www.via-in-berlin.de
X-WR-CALDESC:Veranstaltungen für VIA
REFRESH-INTERVAL;VALUE=DURATION:PT1H
X-Robots-Tag:noindex
X-PUBLISHED-TTL:PT1H
BEGIN:VTIMEZONE
TZID:Europe/Berlin
BEGIN:DAYLIGHT
TZOFFSETFROM:+0100
TZOFFSETTO:+0200
TZNAME:CEST
DTSTART:20210328T010000
END:DAYLIGHT
BEGIN:STANDARD
TZOFFSETFROM:+0200
TZOFFSETTO:+0100
TZNAME:CET
DTSTART:20211031T010000
END:STANDARD
END:VTIMEZONE
BEGIN:VEVENT
DTSTART;TZID=Europe/Berlin:20210408T160000
DTEND;TZID=Europe/Berlin:20210408T190000
DTSTAMP:20260426T042634
CREATED:20210322T134102Z
LAST-MODIFIED:20210322T134150Z
UID:2945-1617897600-1617908400@www.via-in-berlin.de
SUMMARY:Arbeitsmarktgespräch "Selbstständigkeit & Existenzgründung für Frauen"
DESCRIPTION:Die Zahl der Selb­ständi­gen\, die in Berlin eine eigene Exis­tenz grün­den wollen\, um ihren Leben­sun­ter­halt abzu­sich­ern\, wächst stetig. Die Gründe\, warum sich jemand weg vom fes­tangestell­ten Arbeitsver­hält­nis selb­st­ständig beschäfti­gen möchte\, vari­ieren stark – aber nicht sel­ten beste­ht der Wun­sch\, aus prekären Arbeitsver­hält­nis­sen auszusteigen\, das eigene Gehalt aufzu­s­tock­en oder eine Arbeit zu machen\, die für diese Per­son im klas­sis­chen Arbeitsver­hält­nis gar nicht existiert. Aus diesem Grund wird in diesem Arbeits­mark­t­ge­spräch untersucht\, \n\nwie man sich selb­st­ständig machen kann\nauf was man bei ein­er Selb­st­ständigkeit acht­en muss\nauf welchem Weg man die eigene Selb­st­ständigkeit erfol­gre­ich gestal­ten kann.\n\n  \nRef­er­entin: Jen­ny Xavier Kocher­il | Gründungsberaterin \n  \nWir – als Teil­pro­jekt „Kom­mune Interkul­turell“ im IQ-Net­zw­erk Berlin – laden Sie in Koop­er­a­tion mit I.S.I. — Ini­tia­tive Selb­ständi­ger Immi­gran­tinnen e. V. her­zlich zu dieser Ver­anstal­tung ein. \nDie Ver­anstal­tung find­et auf Deutsch statt. Die Teil­nahme ist kostenlos. \nAnmel­dung: leitung-box66@via-in-berlin.de \n 
URL:https://www.via-in-berlin.de/events/arbeitsmarktgespraech-selbststaendigkeit-existenzgruendung-fuer-frauen/
LOCATION:Digitaler Schulungsraum VIA Berlin/Brandenburg\, Berlin\, Deutschland
CATEGORIES:IQ Kommune Interkulturell,Seminare für Migrant*innen
ATTACH;FMTTYPE=image/png:https://www.via-in-berlin.de/wp-content/uploads/2021/03/Veranstaltungsbanner-Arbeitsmarktgespräche.png
END:VEVENT
END:VCALENDAR