BEGIN:VCALENDAR
VERSION:2.0
PRODID:-//VIA - ECPv5.12.2//NONSGML v1.0//EN
CALSCALE:GREGORIAN
METHOD:PUBLISH
X-WR-CALNAME:VIA
X-ORIGINAL-URL:https://www.via-in-berlin.de
X-WR-CALDESC:Veranstaltungen für VIA
REFRESH-INTERVAL;VALUE=DURATION:PT1H
X-Robots-Tag:noindex
X-PUBLISHED-TTL:PT1H
BEGIN:VTIMEZONE
TZID:Europe/Berlin
BEGIN:DAYLIGHT
TZOFFSETFROM:+0100
TZOFFSETTO:+0200
TZNAME:CEST
DTSTART:20210328T010000
END:DAYLIGHT
BEGIN:STANDARD
TZOFFSETFROM:+0200
TZOFFSETTO:+0100
TZNAME:CET
DTSTART:20211031T010000
END:STANDARD
END:VTIMEZONE
BEGIN:VEVENT
DTSTART;TZID=Europe/Berlin:20210505T160000
DTEND;TZID=Europe/Berlin:20210505T180000
DTSTAMP:20260426T025204
CREATED:20210429T114930Z
LAST-MODIFIED:20210429T115145Z
UID:3028-1620230400-1620237600@www.via-in-berlin.de
SUMMARY:Box66 | Infoveranstaltung "Steuererklärung  – was muss man beachten?“ (Online)
DESCRIPTION:Die MBE — Migra­tions­ber­atung für Erwach­sene in der BOX66 lädt in Koop­er­a­tion mit Guw­bi e.V. zu der dig­i­tal­en Infor­ma­tionsver­anstal­tung zum Thema\n„ Steuer­erk­lärung  – was muss man beacht­en?“ ein. \nBei dieser Ver­anstal­tung wer­den alle wichti­gen Punk­te\, sowohl  für Angestellte als auch für selb­ständig Tätige\, erk­lärt\, die bei der Erstel­lung der Steuer­erk­lärung zu beacht­en sind. Ref­er­entin ist Frau Daniela Wies­ner (Mas­ter of Arts in Tax­a­tion) vom Lohn­s­teuer­ber­atungsver­bund und Lohn­s­teuer­hil­fevere­in e.V. Sie wird ihre Fachkom­pe­ten­zen in Form eines infor­ma­tiv­en Online-Semi­anrs zur Ver­fü­gung stellen. Anschließend wird es Raum für Fra­gen geben. \nDie Ver­anstal­tung ist kosten­frei und wird in deutsch­er Sprache durchge­führt. Es ste­ht eine Sprach­mit­tlung für Ital­ienisch sprechende Teilnehmer*innen zur Ver­fü­gung. Für die Teil­nahme an der Ver­anstal­tung ist eine Anmel­dung per E‑Mail notwendig (Ansprech­part­ner­in­nen: Frau Lori­ta Fac­chi­ni\, Frau Rocio Vazquez). Der Link zur VEr­anstal­tung geht nach der Anmel­dung per E‑Mail zu (WICHTIG: Falls Sie keine Antwort von uns erhal­ten\, kon­trol­lieren Sie bitte Ihren Spam-Ord­ner oder schreiben Sie uns bitte erneut eine Email ggf. mit Telefonnumer). \n**** \nVERSIONE ITALIANA \nGen­tili clienti\, \nnell´ambito del Pro­gram­ma MBE – Migra­tions­ber­atung für Erwach­sene e in coop­er­azione con l´associazione GUWBI e.V. orga­nizzi­amo un even­to infor­ma­ti­vo sul tema del­la dichiarazione dei red­di­ti in Germania. \nNel cor­so dell´evento ver­ran­no trasmesse infor­mazioni di carat­tere gen­erale riguardan­ti i pun­ti fon­da­men­tali che devono essere pre­si in con­sid­er­azione quan­do si pre­sen­ta una dichiarazione dei red­di­ti sen­za ricor­rere all´aiuto di un* com­mer­cial­ista. I con­tenu­ti dell´evento si riv­ol­go­no sia a lavo­ra­tori dipen­den­ti che a liberi pro­fes­sion­isti. A trattare la tem­at­i­ca sarà la Dott.ssa Daniela Wies­ner dell´associazione Lohn­s­teuer­ber­atungsver­bund e Lohn­s­teuer­hil­fevere­in e.V. L´evento si svol­gerà Online per ZOOM in lin­gua tedesca con traduzione con­sec­u­ti­va in lin­gua italiana. \nPer la parte­ci­pazione è nec­es­sario reg­is­trar­si al seguente ind­i­riz­zo. Suc­ces­si­va­mente alla reg­is­trazione Vi sarà invi­a­to un link per accedere all´incontro. IMPORTANTE: Qualo­ra non rice­vi­ate nes­suna rispos­ta alla Vos­tra reg­is­trazione\, Vi preghi­amo di con­trol­lare nel­la cartel­la Spam o di con­tattar­ci nuo­va­mente ponen­do even­tual­mente un recapi­to telefonico. \nVi aspet­ti­amo! \nCor­diali Saluti
URL:https://www.via-in-berlin.de/events/box66-veranstaltung-steuererklaerung-2021/
LOCATION:Digitaler Schulungsraum VIA Berlin/Brandenburg
CATEGORIES:Fachveranstaltungen,Seminare für Migrant*innen
END:VEVENT
END:VCALENDAR