BEGIN:VCALENDAR
VERSION:2.0
PRODID:-//VIA - ECPv5.12.2//NONSGML v1.0//EN
CALSCALE:GREGORIAN
METHOD:PUBLISH
X-WR-CALNAME:VIA
X-ORIGINAL-URL:https://www.via-in-berlin.de
X-WR-CALDESC:Veranstaltungen für VIA
REFRESH-INTERVAL;VALUE=DURATION:PT1H
X-Robots-Tag:noindex
X-PUBLISHED-TTL:PT1H
BEGIN:VTIMEZONE
TZID:Europe/Berlin
BEGIN:DAYLIGHT
TZOFFSETFROM:+0100
TZOFFSETTO:+0200
TZNAME:CEST
DTSTART:20210328T010000
END:DAYLIGHT
BEGIN:STANDARD
TZOFFSETFROM:+0200
TZOFFSETTO:+0100
TZNAME:CET
DTSTART:20211031T010000
END:STANDARD
END:VTIMEZONE
BEGIN:VEVENT
DTSTART;TZID=Europe/Berlin:20210520T100000
DTEND;TZID=Europe/Berlin:20210520T130000
DTSTAMP:20260426T025128
CREATED:20210503T140543Z
LAST-MODIFIED:20210503T140948Z
UID:3043-1621504800-1621515600@www.via-in-berlin.de
SUMMARY:Die 3 Ws des Freelancing
DESCRIPTION:WER kann als Freelancer*in arbeit­en\, WIE funk­tion­iert Free­lanc­ing in Deutsch­land und WAS kann man damit alles machen? Das sind drei der häu­fig­sten Fra­gen\, die sich Neu-Freelancer*innen oder ange­hende Freelancer*innen\, stellen. Denn\, obwohl es eine Def­i­n­i­tion gibt\, ist oft unklar\, welche Aktiv­itäten unter Free­lanc­ing fall­en und welche nicht. Vor allem zu Beginn stellt man sich Fra­gen wie Muss steuer­lich per EÜ-Rech­nung oder per Bilanz gear­beit­et wer­den? oder Was darf man und was darf man nicht als Freelancer*in? Diese und weit­ere grundle­gende Fra­gen wer­den in unserem näch­sten Arbeits­mark­t­ge­spräch erläutert wie \n\nwas ist Free­lanc­ing und wie kann man sich selb­st­ständig machen?\nauf was muss man bei Selb­st­ständigkeit achten?\nwie unter­schei­det sich Free­lanc­ing von anderen selb­st­ständi­gen Tätigkeiten.\n\n  \nWir – als Teil­pro­jekt „Kom­mune Interkul­turell“ im IQ-Net­zw­erk Berlin – laden Sie in Koop­er­a­tion mit Xochicuicatl e.V. - lateinamerikanis­ch­er Frauen­vere­in her­zlich zu dieser Ver­anstal­tung ein. Die Ver­anstal­tung find­et auf Spanisch statt. Die Teil­nahme ist kostenlos. \nAuf­grund der erforder­lichen COVID-19-Maß­nah­men in Berlin wird diese Ver­anstal­tung dig­i­tal durchgeführt. \n  \nAnmel­dung:    mail@xochicuicatl.de \nRef­er­entin:    Aran­cha Vallez Zamar­ro | Coachin
URL:https://www.via-in-berlin.de/events/die-3-ws-des-freelancing/
LOCATION:Digitaler Schulungsraum VIA Berlin/Brandenburg\, Berlin\, Deutschland
CATEGORIES:IQ Kommune Interkulturell,Mitgliedsorganisationen,Seminare für Migrant*innen
ATTACH;FMTTYPE=image/png:https://www.via-in-berlin.de/wp-content/uploads/2021/05/Veranstaltungsbanner-Arbeitsmarktgespräche.png
END:VEVENT
END:VCALENDAR