BEGIN:VCALENDAR
VERSION:2.0
PRODID:-//VIA - ECPv5.12.2//NONSGML v1.0//EN
CALSCALE:GREGORIAN
METHOD:PUBLISH
X-WR-CALNAME:VIA
X-ORIGINAL-URL:https://www.via-in-berlin.de
X-WR-CALDESC:Veranstaltungen für VIA
REFRESH-INTERVAL;VALUE=DURATION:PT1H
X-Robots-Tag:noindex
X-PUBLISHED-TTL:PT1H
BEGIN:VTIMEZONE
TZID:Europe/Berlin
BEGIN:DAYLIGHT
TZOFFSETFROM:+0100
TZOFFSETTO:+0200
TZNAME:CEST
DTSTART:20210328T010000
END:DAYLIGHT
BEGIN:STANDARD
TZOFFSETFROM:+0200
TZOFFSETTO:+0100
TZNAME:CET
DTSTART:20211031T010000
END:STANDARD
END:VTIMEZONE
BEGIN:VEVENT
DTSTART;TZID=Europe/Berlin:20210818T170000
DTEND;TZID=Europe/Berlin:20210818T193000
DTSTAMP:20260425T221121
CREATED:20210708T141923Z
LAST-MODIFIED:20210708T144106Z
UID:3451-1629306000-1629315000@www.via-in-berlin.de
SUMMARY:Berliner Fast Track City Initiative to end Aids | Null Stigma Online-Workshop „Auf dem Weg zur Null“
DESCRIPTION:Im Rah­men der Berlin­er Fast Track City Ini­tia­tive to end Aids lädt die Net­zw­erk­stelle HIV/Aids und Migra­tion gemein­sam mit Jens Ahrens von der Berlin­er Aid­shil­fe zu einem Null Stig­ma-Work­shop “Auf dem Weg zur Null” ein. \nMod­er­a­tion: Klaus Steinkem­per (Train­er\, Coach) \nDer Work­shop ist der zweite Teil ein­er zweit­eil­gen Work­shoprei­he der Berlin­er Fast Track City Ini­tia­tive to end Aids\, die das Ziel hat\, den Stand der Dinge\, neue Erken­nt­nisse\, Ideen\, Erfahrun­gen und Exper­tisen zusam­men­zu­tra­gen\, um auf dieser Basis eine konz­ertierte Strate­gie zur Reduk­tion der HIV-Neuin­fek­tio­nen und von Aids in Berlin zu entwickeln. \nDie Ergeb­nisse der bei­den Work­shops wer­den auf dem Berlin: Fast-Track Cities Sum­mit (aka: HIV im Dia­log) am 24./25. Sep­tem­ber 2021 im Roten Rathaus Berlin zusam­menge­führt und ver­tieft disku­tiert wer­den. Die Diskus­sion soll Grund­lage sein für die strate­gis­che Aus­rich­tung und Organ­isierung der Fast-Track City Ini­tia­tive Berlin. \nDer Work­shop richtet sich an Aktivist*innen und Selbthilfevertreter*innen\, Mitarbeiter*innen der Sen­atsver­wal­tun­gen\, Behörden und Zen­trum für sex­uelle Gesund­heit\, Vertreter*innen von Migrant*innenorganisationen\, Mitarbeiter*innen der Aid­shil­fen\, Dro­gen­ber­atungsstellen\, Sexar­beit und den LSBTI*-Organisationen\, Ärzt*innen und Kranken- und Gesundheitspfleger*innen etc. \nWeit­ere Infor­ma­tio­nen und ein Anmeldelink fol­gen in Kürze… \nDer­weil wird um Anmel­dung per E‑Mail an Frau Line Göt­tke gebeten. \n 
URL:https://www.via-in-berlin.de/events/fast-track-city-null-stigma-workshop/
LOCATION:Online
CATEGORIES:Netzwerktreffen,Selbsthilfe,Seminare für Migrant*innen,Workshop
ORGANIZER;CN="Netzwerkstelle%20HIV%2FAids%20und%20Migration":MAILTO:netzwerkstelle@via-in-berlin.de
END:VEVENT
END:VCALENDAR