BEGIN:VCALENDAR
VERSION:2.0
PRODID:-//VIA - ECPv5.12.2//NONSGML v1.0//EN
CALSCALE:GREGORIAN
METHOD:PUBLISH
X-WR-CALNAME:VIA
X-ORIGINAL-URL:https://www.via-in-berlin.de
X-WR-CALDESC:Veranstaltungen für VIA
REFRESH-INTERVAL;VALUE=DURATION:PT1H
X-Robots-Tag:noindex
X-PUBLISHED-TTL:PT1H
BEGIN:VTIMEZONE
TZID:Europe/Berlin
BEGIN:DAYLIGHT
TZOFFSETFROM:+0100
TZOFFSETTO:+0200
TZNAME:CEST
DTSTART:20210328T010000
END:DAYLIGHT
BEGIN:STANDARD
TZOFFSETFROM:+0200
TZOFFSETTO:+0100
TZNAME:CET
DTSTART:20211031T010000
END:STANDARD
END:VTIMEZONE
BEGIN:VEVENT
DTSTART;TZID=Europe/Berlin:20210819T140000
DTEND;TZID=Europe/Berlin:20210819T170000
DTSTAMP:20260425T221121
CREATED:20210706T092012Z
LAST-MODIFIED:20210713T135925Z
UID:3423-1629381600-1629392400@www.via-in-berlin.de
SUMMARY:Online-Workshop für Berliner MO „Einführung in die Projektantragstellung mit FAZIT Berlin Online“
DESCRIPTION:Alle Migrant*innenorganisationen und Ini­tia­tiv­en\, die beab­sichti­gen im Herb­st dieses Jahres einen Antrag auf Förderung aus dem Par­tizipa­tions- und Inte­gra­tionspro­gramm für die Förder­pe­ri­ode 2021/2022 zu stellen\, müssen sich spätestens in der 2. Antragsstufe mit dem Online-Por­tal FAZIT Berlin Online auseinandersetzen. \nMit unserem ZOOM-Work­shop  „Ein­führung in die Pro­jek­tantrag­stel­lung mit FAZIT Berlin Online“ möcht­en wir Sie dabei unter­stützen\, Ihren Pro­jek­tantrag kor­rekt und “ressourcenscho­nend” zu stellen. \nAnhand eines beispiel­haften Pro­jek­tantrages wer­den im Work­shop die Vordrucke \n\nZuwen­dungsantrag\nFinanzierungs­plan\nStel­len­plan\nAnlage LGV\nHon­o­rarkosten\n\nerläutert und prak­tis­che Infor­ma­tio­nen ver­mit­telt\, die die Erfas­sung der Dat­en erle­ichtern sollen. Anschließend ste­hen wir für Fra­gen zur Verfügung. \nRef­er­enten: Hol­ger Förster & Kol­le­gen (VIA Region­alver­band Berlin/Brandenburg e.V.) \nDer Work­shop find­et per ZOOM statt\, die Teil­nahme ist kosten­frei. Er richtet sich sowohl an neue\, als auch an erfahrene Vertreter*innen von Berlin­er MO. \nAus Kapaz­itäts­grün­den bit­ten wir um Anmel­dung bis spätestens 16.08.2021 per E‑Mail an Frau Nozo­mi Spennemann.
URL:https://www.via-in-berlin.de/events/online-workshop-einfuehrung-fazit/
LOCATION:Digitaler Schulungsraum VIA Berlin/Brandenburg\, Berlin\, Deutschland
CATEGORIES:Qualifizierung für MO,Seminare für Migrant*innen
ORGANIZER;CN="VIA%20Servicestelle%20f%C3%BCr%20MO%20im%20IKMO%20Berlin":MAILTO:servicestelle@via-in-berlin.de
END:VEVENT
END:VCALENDAR