BEGIN:VCALENDAR
VERSION:2.0
PRODID:-//VIA - ECPv5.12.2//NONSGML v1.0//EN
CALSCALE:GREGORIAN
METHOD:PUBLISH
X-WR-CALNAME:VIA
X-ORIGINAL-URL:https://www.via-in-berlin.de
X-WR-CALDESC:Veranstaltungen für VIA
REFRESH-INTERVAL;VALUE=DURATION:PT1H
X-Robots-Tag:noindex
X-PUBLISHED-TTL:PT1H
BEGIN:VTIMEZONE
TZID:Europe/Berlin
BEGIN:DAYLIGHT
TZOFFSETFROM:+0100
TZOFFSETTO:+0200
TZNAME:CEST
DTSTART:20210328T010000
END:DAYLIGHT
BEGIN:STANDARD
TZOFFSETFROM:+0200
TZOFFSETTO:+0100
TZNAME:CET
DTSTART:20211031T010000
END:STANDARD
END:VTIMEZONE
BEGIN:VEVENT
DTSTART;TZID=Europe/Berlin:20210820T170000
DTEND;TZID=Europe/Berlin:20210820T210000
DTSTAMP:20260425T221035
CREATED:20210629T085925Z
LAST-MODIFIED:20210629T090619Z
UID:3355-1629478800-1629493200@www.via-in-berlin.de
SUMMARY:Ausstellung "Stories of Empowerment"
DESCRIPTION:Alle Inter­essierte sind her­zlich ein­ge­laden zur Ausstel­lung “Sto­ries of Empow­er­ment” des Pro­jek­ts “Empow­er­ment von Frauen — die eigene Stimme ent­deck­en”! \n \n***Präsen­zver­anstal­tung! Die Hygien­evorschriften wer­den eingehalten.***
URL:https://www.via-in-berlin.de/events/ausstellung-stories-of-empowerment/
LOCATION:SprachCafé Polnisch\, Schulzestr. 1\, Berlin\, Berlin\, 13187\, Deutschland
CATEGORIES:Ausstellungen,Vernissage,Weitere Veranstaltungen
ORGANIZER;CN="BOX66%20%7C%20Projekt%20%22Empowerment%20von%20Frauen%20-%20Die%20eigene%20Stimme%20entdecken%22":MAILTO:empowerment-box66@via-in-berlin.de
END:VEVENT
END:VCALENDAR