BEGIN:VCALENDAR
VERSION:2.0
PRODID:-//VIA - ECPv5.12.2//NONSGML v1.0//EN
CALSCALE:GREGORIAN
METHOD:PUBLISH
X-WR-CALNAME:VIA
X-ORIGINAL-URL:https://www.via-in-berlin.de
X-WR-CALDESC:Veranstaltungen für VIA
REFRESH-INTERVAL;VALUE=DURATION:PT1H
X-Robots-Tag:noindex
X-PUBLISHED-TTL:PT1H
BEGIN:VTIMEZONE
TZID:Europe/Berlin
BEGIN:DAYLIGHT
TZOFFSETFROM:+0100
TZOFFSETTO:+0200
TZNAME:CEST
DTSTART:20210328T010000
END:DAYLIGHT
BEGIN:STANDARD
TZOFFSETFROM:+0200
TZOFFSETTO:+0100
TZNAME:CET
DTSTART:20211031T010000
END:STANDARD
END:VTIMEZONE
BEGIN:VEVENT
DTSTART;TZID=Europe/Berlin:20210901T190000
DTEND;TZID=Europe/Berlin:20210901T210000
DTSTAMP:20260425T205610
CREATED:20210719T082106Z
LAST-MODIFIED:20210719T082445Z
UID:3462-1630522800-1630530000@www.via-in-berlin.de
SUMMARY:Improtheater divers: Vernetzungstreffen der BIPOC Improtheaterszene
DESCRIPTION:Die Part­ner­schaft für Demokratie Friedrichshain-Kreuzberg lädt gemein­sam mit Christoph Jung­mann (Die Goril­las Improthe­ater Berlin) zu einem Ver­net­zungstr­e­f­fen von Improspieler*innen ein\, die bish­er vielle­icht noch wenig Anschluss an die “Profiszene” hat­ten oder auch ein­fach nur am Aus­tausch inter­essiert sind. \nDiese Ein­ladung richtet sich vor­rang­ing an BIPOCs Grup­pen und Einzelper­so­n­en aus dem Bere­ich Improthe­ater — von Anfänger*innen bis Profis. \n  \nImprotheater divers\nGet togeth­er \nExpert*innengespräch mit Inbal Lori (pro­fes­sionelle Improschaupielerin aus Berlin): „impro-mid­dle-east-berlin“ \nVer­net­zung \n  \n  \nAnmel­dung und Fra­gen bitte per E‑Mail an Matthias Hof­mann (Koor­dinierungs- und Fach­stelle der Part­ner­schaft für Demokratie Friedrichshain-Kreuzberg). Die Teil­nahme ist kosten­los\, Hygien­e­maß­nah­men wer­den eingehalten. \n  \n***************************************************************************** \n The Part­ner­ship for Democ­ra­cy Friedrichshain-Kreuzberg and Christoph Jung­mann (Die Goril­las improv the­atre Berlin) cor­dial­ly invite you to join the net­work­ing event for BIPOC improv the­atre actors.  \nImprotheater divers\nGet togeth­er \nExpert talk with Inbal Lori (pro­fes­sion­al improv artist / Berlin): „impro-mid­dle-east-berlin“ \nNet­work­ing \n  \nPlease reg­is­ter via E‑Mail to Matthias Hof­mann (Koor­dinierungs- und Fach­stelle der Part­ner­schaft für Demokratie Friedrichshain-Kreuzberg). No par­tic­i­pa­tion fee\, we kind­ly ask you to adhere to any COVID-19 guide­lines valid at the time of the event.  \n 
URL:https://www.via-in-berlin.de/events/improtheater-divers-2021/
LOCATION:Bona Peiser — soziokulturelle Projekträume\, Oranienstraße 72\, Berlin\, Berlin\, 10969\, Deutschland
CATEGORIES:Fachveranstaltungen,Netzwerktreffen
END:VEVENT
END:VCALENDAR