BEGIN:VCALENDAR
VERSION:2.0
PRODID:-//VIA - ECPv5.12.2//NONSGML v1.0//EN
CALSCALE:GREGORIAN
METHOD:PUBLISH
X-WR-CALNAME:VIA
X-ORIGINAL-URL:https://www.via-in-berlin.de
X-WR-CALDESC:Veranstaltungen für VIA
REFRESH-INTERVAL;VALUE=DURATION:PT1H
X-Robots-Tag:noindex
X-PUBLISHED-TTL:PT1H
BEGIN:VTIMEZONE
TZID:Europe/Berlin
BEGIN:DAYLIGHT
TZOFFSETFROM:+0100
TZOFFSETTO:+0200
TZNAME:CEST
DTSTART:20210328T010000
END:DAYLIGHT
BEGIN:STANDARD
TZOFFSETFROM:+0200
TZOFFSETTO:+0100
TZNAME:CET
DTSTART:20211031T010000
END:STANDARD
END:VTIMEZONE
BEGIN:VEVENT
DTSTART;TZID=Europe/Berlin:20210909T100000
DTEND;TZID=Europe/Berlin:20210909T130000
DTSTAMP:20260425T205637
CREATED:20210820T130206Z
LAST-MODIFIED:20210825T094309Z
UID:3540-1631181600-1631192400@www.via-in-berlin.de
SUMMARY:2. Online-Workshop für Berliner MO „Projektantragstellung mit FAZIT Berlin Online inkl. Personalkosten und Stellenplan“
DESCRIPTION:Alle Migrant*innenorganisationen und Ini­tia­tiv­en\, die beab­sichti­gen im Herb­st dieses Jahres einen Antrag auf Förderung aus dem Par­tizipa­tions- und Inte­gra­tionspro­gramm für die Förder­pe­ri­ode 2021/2022 zu stellen\, müssen sich spätestens in der 2. Antragsstufe mit dem Online-Por­tal FAZIT Berlin Online auseinandersetzen. \nMit unserem 2. ver­tiefend­en ZOOM-Work­shop  “Antrag­stel­lung mit FAZIT Berlin Online mit Fokus auf Stel­len­plan und Per­son­alkosten“ möcht­en wir Sie dabei unter­stützen\, Ihren Pro­jek­tantrag kor­rekt und “ressourcenscho­nend” zu stellen. \nDer Work­shop geht ver­tiefend auf das The­ma der Antrag­stel­lung über FAZIT Berlin Online ein und wid­met sich dabei vor­rangig der Frage nach der Erstel­lung des Stel­len­plans und der Berech­nung der Per­son­alkosten. Es wer­den wieder prak­tis­che Infor­ma­tio­nen ver­mit­telt\, die die Erfas­sung der Dat­en erle­ichtern sollen. Anschließend ste­hen wir für Fra­gen zur Ver­fü­gung. Alle Inter­essierten\, die sich für den Fol­ge­work­shop anmelden\, erhal­ten die Mate­ri­alien des 1. Work­shops am 19.08.2021 zur Vorbereitung. \nRef­er­enten: Hol­ger Förster & Kol­le­gen (VIA Region­alver­band Berlin/Brandenburg e.V.) \nDer Work­shop find­et per ZOOM statt\, die Teil­nahme ist kosten­frei.  Der Zoom-Link wird einige Tage vor der Ver­anstal­tung an die angemelde­ten Organ­i­sa­tio­nen ver­schickt. Der Work­shop richtet sich sowohl an neue\, als auch an erfahrene Vertreter*innen von Berlin­er MO. \nAus Kapaz­itäts­grün­den bit­ten wir um Anmel­dung bis spätestens 06.09.2021 per E‑Mail an Nina Grube.  \nEin weit­er­er Work­shop soll am 16.09.2021 fol­gen (Fokus­the­men sind bish­er Hon­o­rare und Ver­gabev­er­fahren\, Anre­gun­gen für The­men wer­den aus dem 2. Work­shop aufgenom­men werden).
URL:https://www.via-in-berlin.de/events/2-online-workshop-fuer-berliner-mo-pojektantragstellung-mit-fazit-berlin-online-inkl-personalkosten-und-stellenplan/
LOCATION:Digitaler Schulungsraum VIA Berlin/Brandenburg\, Berlin\, Deutschland
END:VEVENT
END:VCALENDAR