BEGIN:VCALENDAR
VERSION:2.0
PRODID:-//VIA - ECPv5.12.2//NONSGML v1.0//EN
CALSCALE:GREGORIAN
METHOD:PUBLISH
X-WR-CALNAME:VIA
X-ORIGINAL-URL:https://www.via-in-berlin.de
X-WR-CALDESC:Veranstaltungen für VIA
REFRESH-INTERVAL;VALUE=DURATION:PT1H
X-Robots-Tag:noindex
X-PUBLISHED-TTL:PT1H
BEGIN:VTIMEZONE
TZID:Europe/Berlin
BEGIN:DAYLIGHT
TZOFFSETFROM:+0100
TZOFFSETTO:+0200
TZNAME:CEST
DTSTART:20210328T010000
END:DAYLIGHT
BEGIN:STANDARD
TZOFFSETFROM:+0200
TZOFFSETTO:+0100
TZNAME:CET
DTSTART:20211031T010000
END:STANDARD
END:VTIMEZONE
BEGIN:VEVENT
DTSTART;TZID=Europe/Berlin:20210922T160000
DTEND;TZID=Europe/Berlin:20210922T190000
DTSTAMP:20260425T211353
CREATED:20210907T134649Z
LAST-MODIFIED:20210907T134649Z
UID:3593-1632326400-1632337200@www.via-in-berlin.de
SUMMARY:Netzwerk für seelische Gesundheit von vietnamesischen Migrant:innen
DESCRIPTION:Bed­ingt durch die Ein­schränkung der TN-Zahl wer­den wir mit einen kleinen Gruppe von max. 20 Per­so­n­en gemein­sam daran arbeit­en\, die Außen­darstel­lung der psy­chosozialen Ver­sorgung von viet­name­sis­chen Men­schen durch das Net­zw­erk herauszuarbeiten. \nDazu wollen wir gern wis­sen\, wie die Schnittstellen geregelt sind\, was sich alles im niedrigschwelli­gen Bere­ich (Migra­tions­ber­atung\, Integrationslots*in\, Stadt­teilmüt­ter\, Grup­penange­bote bei Vere­inen) tut und welche Rolle benach­barte Fach­bere­ite (Jugend­hil­fe\, Hos­piz\, Pflege usw.) im Net­zw­erk für die psy­chosoziale Ver­sorgung von viet­name­sis­chsprachi­gen Men­schen spielen. \nDie Ver­anstal­tung richtet sich an Pro­jek­te und Ein­rich­tun­gen\, die im Net­zw­erk aktiv sind. \nKon­takt: Nozo­mi Spennemann  \n 
URL:https://www.via-in-berlin.de/events/netzwerk-fuer-seelische-gesundheit-von-vietnamesischen-migrantinnen/
LOCATION:FLAT-FAMILY Begegnungs- und Beratungszentrum\, Franz-Jacob-Straße 16-18\, Berlin\, 10369\, Deutschland
CATEGORIES:Netzwerktreffen
ORGANIZER;CN="VIA%20Servicestelle%20f%C3%BCr%20MO%20im%20IKMO%20Berlin":MAILTO:servicestelle@via-in-berlin.de
END:VEVENT
END:VCALENDAR