BEGIN:VCALENDAR
VERSION:2.0
PRODID:-//VIA - ECPv5.12.2//NONSGML v1.0//EN
CALSCALE:GREGORIAN
METHOD:PUBLISH
X-WR-CALNAME:VIA
X-ORIGINAL-URL:https://www.via-in-berlin.de
X-WR-CALDESC:Veranstaltungen für VIA
REFRESH-INTERVAL;VALUE=DURATION:PT1H
X-Robots-Tag:noindex
X-PUBLISHED-TTL:PT1H
BEGIN:VTIMEZONE
TZID:Europe/Berlin
BEGIN:DAYLIGHT
TZOFFSETFROM:+0100
TZOFFSETTO:+0200
TZNAME:CEST
DTSTART:20210328T010000
END:DAYLIGHT
BEGIN:STANDARD
TZOFFSETFROM:+0200
TZOFFSETTO:+0100
TZNAME:CET
DTSTART:20211031T010000
END:STANDARD
END:VTIMEZONE
BEGIN:VEVENT
DTSTART;TZID=Europe/Berlin:20210929T123000
DTEND;TZID=Europe/Berlin:20210929T153000
DTSTAMP:20260425T194712
CREATED:20210906T133034Z
LAST-MODIFIED:20210907T114909Z
UID:3573-1632918600-1632929400@www.via-in-berlin.de
SUMMARY:Thematische Fachrunde "Facebook-Marketing für soziale Organisationen mit vietnamesischsprachigen Adressant*innen" (Teil II)
DESCRIPTION:Face­book ist ein wichtiges Medi­um für Zuge­wan­derte aus Viet­nam\, wo Infor­ma­tio­nen ver­mit­telt und aus­ge­tauscht wer­den. Auch für soziale Organ­i­sa­tio­nen bietet Face­book ein großes Poten­tial\, um die Adressat*innen der Arbeit (die Ziel­gruppe) effek­tiv zu erre­ichen\, um Ange­bote bekan­nt zu geben und Ver­anstal­tun­gen anzukündi­gen\, aber auch um die Bedarfe der Ziel­gruppe bess­er ken­nen zu lernen. \nBei dieser Qual­i­fizierungsver­anstal­tun­gen geben Expert*innen für Online-Mar­ket­ing Ein­blicke in fol­gende The­men und ver­mit­teln tech­nis­che Fähigkeit­en\, die man als Min­dest­stan­dard beherrschen müsste\, um Face­book für die eigene Arbeit zu nutzen: \n\nWie funk­tion­ieren Fan­page\, Face­book-Gruppe für gemein­nützige Organ­i­sa­tio­nen und die Marketingmethode?\nPri­vat­sphäre und Daten­schutz auf sozialen Medien\nVer­hal­ten und Benutzung auf Face­book der Viet­name­sen in Deutsch­land (basierend auf Alter und Lebenserfahrung)\nKom­merziell unter­stützende Möglichkeit­en und Tools\nGrund­be­grif­f­en und Maß­nah­men gegen “Fake-News” im Cyberspace\nOpti­mierung der Ziel­grup­pen­erre­ichung durch Ver­wen­dung von Date­n­analyse-Funk­tio­nen und ‑Tools\nZiel­grup­pe­spez­i­fis­che Ver­wen­dung von Social-Media-Trends\nErstel­lung\, Bear­beitung und Verbesserung der visuellen Ele­mente und Anpas­sung des Text-Lay­outs für einen Facebook-Beitrag\n\nDie zweit­eilige Qual­i­fizierung find­et in viet­name­sis­ch­er Sprache statt. Die Teil­nahme an bei­den Ter­mi­nen ist erforder­lich (Teil I am 28.09.\, 12:30–15:30 Uhr). Ab 12.30 Uhr gibt es jew­eils die Möglichkeit\, konkrete Fra­gen zu stellen\, die ggf. nach den Schu­lung­ster­mi­nen in der Zeit von 15:00–15.30 Uhr indi­vidu­ell beant­wortet wer­den können. \n  \nThe­ma­tis­che Fachrunde ist eine Qual­i­fizierungsrei­he für MO. Teil­nehmen kön­nen haupt- und ehre­namtliche Mitarbeiter*innen ein­er Migrant*innenorganisation.  \nDie Teil­nahme ist kosten­los. Den Teil­nah­melink für Zoom-Meet­ing erhal­ten Sie nach der Anmel­dung bis zum 20.09.2021 an: nozomi.spennemann@via-in-berlin.de.  
URL:https://www.via-in-berlin.de/events/thematische-fachrunde-facebook-marketing-fuer-soziale-organisationen-mit-vietnamesischsprachigen-adressantinnen-teil-i/
LOCATION:Digitaler Schulungsraum VIA Berlin/Brandenburg
CATEGORIES:Qualifizierung für MO
END:VEVENT
END:VCALENDAR