BEGIN:VCALENDAR
VERSION:2.0
PRODID:-//VIA - ECPv5.12.2//NONSGML v1.0//EN
CALSCALE:GREGORIAN
METHOD:PUBLISH
X-WR-CALNAME:VIA
X-ORIGINAL-URL:https://www.via-in-berlin.de
X-WR-CALDESC:Veranstaltungen für VIA
REFRESH-INTERVAL;VALUE=DURATION:PT1H
X-Robots-Tag:noindex
X-PUBLISHED-TTL:PT1H
BEGIN:VTIMEZONE
TZID:Europe/Berlin
BEGIN:DAYLIGHT
TZOFFSETFROM:+0100
TZOFFSETTO:+0200
TZNAME:CEST
DTSTART:20210328T010000
END:DAYLIGHT
BEGIN:STANDARD
TZOFFSETFROM:+0200
TZOFFSETTO:+0100
TZNAME:CET
DTSTART:20211031T010000
END:STANDARD
END:VTIMEZONE
BEGIN:VEVENT
DTSTART;TZID=Europe/Berlin:20211007T100000
DTEND;TZID=Europe/Berlin:20211007T120000
DTSTAMP:20260425T193839
CREATED:20210924T125456Z
LAST-MODIFIED:20210924T125456Z
UID:3650-1633600800-1633608000@www.via-in-berlin.de
SUMMARY:11. Netzwerktreffen Steglitz-Zehlendorf
DESCRIPTION:Im Jahr 2018 ist im Bezirk Steglitz-Zehlen­dorf das Net­zw­erk zum The­ma „Arbeits­mark­t­in­te­gra­tion von Zuge­wan­derten\, ins­beson­dere von Frauen und EU-Zuge­wan­derten“ gegrün­det und etabliert wor­den. Das VIA-Teil­pro­jekt „Kom­mune interkul­turell“ im IQ Lan­desnet­zw­erk Berlin organ­isiert in Koop­er­a­tion mit der Inte­gra­tions­beauf­tragten des Bezirks und der Migra­tions­beauf­tragten des Job­cen­ters Steglitz-Zehlen­dorf nun das 11. Net­zw­erk­tr­e­f­fen Steglitz-Zehlen­dorf\, dies­mal in Präsenz: \nam Don­ner­stag\, den 7. Okto­ber 2021 von 10:00 bis 12:00 Uhr \nOrt: Hel­lenis­che Gemeinde\, Mit­tel­str. 33\, Steglitz 12167 Berlin* \n \nAls Expert*innen sind Referent*innen von LIFE Bil­dung Umwelt Chan­cen­gle­ich­heit e.V. mit aktuellen Infor­ma­tio­nen bezüglich des “Teilzeit- und Befris­tungs­ge­set­zes (TzBfG)” ein­ge­laden. Darüber hin­aus sind ein Input zu den Leis­tun­gen des Bil­dungs- und Teil­habepaketes (BuT)\, beson­ders mit Blick auf die aktuelle Pan­demiesi­t­u­a­tion\, sowie die Vorstel­lung des neuen Pro­jek­tes für Frauen von Studio2B GmbH geplant. \nTagesordnung:\n10:00 Begrüßung und Vorstellungsrunde \n10:10 Input und Diskus­sion — “Teilzeit- und Befris­tungs­ge­set­zes (TzBfG)” — Gabrielle Kaller\, LIFE Bil­dung Umwelt Chan­cen­gle­ich­heit e.V.   \n10:40 Input und Diskus­sion — Bil­dung und Teil­habepaket in Coro­na-Zeit (BuT) — André Zim­mer­mann\, Job­cen­ter Steglitz-Zehlendorf \n11:00 Vorstel­lung des Pro­jek­tes “Ich.Einfach.Digital – gemein­sam zurück in den Beruf!” — Ste­fanie Heip­ieper\, Studio2B GmbH \n11:20 Austauschgespräch/Sonstiges \n12:00 Ausklang \nWir freuen uns sehr auf Ihre Teil­nahme und bit­ten um Anmel­dung bis spätestens zum 3. Okto­ber 2021 unter anmeldung-iq@via-in-berlin.de.  Weit­er unten find­en Sie Infor­ma­tio­nen zu den Hygien­eregelun­gen für die und während der Veranstaltung. \n  \n* Besondere Teilnahmebedingungen bei Präsenzveranstaltungen im Zusammenhang mit der Corona-Pandemie\n\nAuf­grund der erforder­lichen COVID-19-Maß­nah­men gibt es nur begren­zt Plätze. Allen\, die sich nach der Erre­ichung dieser Zahl anmelden\, müssen wir lei­der eine Absage erteilen.\nInner­halb geschlossen­er Räume (nicht jedoch außer­halb) dür­fen grund­sät­zlich nur voll­ständig geimpfte\, gene­sene oder neg­a­tiv getestete Per­so­n­en (max. 24 Stun­den alter Anti­gen-Schnell­test oder 48 Stun­den alter PCR-Test) mit einem entsprechen­den Nach­weis teilnehmen.\nWir behal­ten uns vor\, dieses Tre­f­fen online durchzuführen\, sollte ein Präsen­ztr­e­f­fen auf­grund von COVID-19 nicht mehr vertret­bar sein.
URL:https://www.via-in-berlin.de/events/11-netzwerktreffen-steglitz-zehlendorf/
LOCATION:Hellenische Gemeinde zu Berlin e.V.\, Mittelstr. 33\, Berlin\, 12167\, Deutschland
CATEGORIES:IQ Kommune Interkulturell,Netzwerktreffen
ATTACH;FMTTYPE=image/png:https://www.via-in-berlin.de/wp-content/uploads/2021/05/Veranstaltungsbanner-Netzwerk.png
END:VEVENT
BEGIN:VEVENT
DTSTART;TZID=Europe/Berlin:20211007T130000
DTEND;TZID=Europe/Berlin:20211007T150000
DTSTAMP:20260425T193839
CREATED:20210825T090807Z
LAST-MODIFIED:20210927T083729Z
UID:3553-1633611600-1633618800@www.via-in-berlin.de
SUMMARY:BEFaN Online-Workshop 2021 "Quechua in Berlin - ein anthropologischer Blick. Die indigene Sprache Quechua (Runa Simi)"
DESCRIPTION:       \nDas BEFaN-Net­zw­erk lädt in Koop­er­a­tion mit dem Frauenkollek­tiv MigrArte Perú zu dem Online-Work­shop “Quechua in Berlin — ein anthro­pol­o­gis­ch­er Blick. Die indi­gene Sprache Quechua (Runa Simi)” ein. \nQuechua gilt als die größte indi­gene Sprache der amerikanis­chen Kon­ti­nente. Schätzun­gen zufolge wird sie von 9 — 10 Mil­lio­nen Men­schen in Südameri­ka gesprochen. Damit zählt Quechua zu den 100 meist gesproch­enen Sprachen der Welt. Auch in Berlin wächst das Inter­esse an Quechua. In diesem Work­shop möcht­en wir die Quechua-Sprache vorstellen. \nWork­shopleitung: Annett Hof­mann (MigrArte Perú) \nQuechua \nRuna sim­iqa Awya Yalapi hatun­l­la rimay­ta chay suyu­man­ta. Chay­man­ta ninku\, 9.000 000 – 10.000 000 runaku­naqa runa simi­ta rimanku Urin Awya Yalapi all­pa pachapi. Hinas­pa\, astawan rimaqniyuqwan­mi yupasyan. Berlin­pi\, runa simi­ta yachanan­chis. Tin­kukusun­chis runa simi­ta riqsichinapaq. \nDie Ver­anstal­tung richtet sich an inter­essierte Eltern\, Expert*innen aus Migrant*innenorganisationen\, Lehrkräfte und päd­a­gogis­che Fachkräfte. Sie findet online per Zoom und in deutsch­er Sprache statt. \nAnmel­dung bitte über das Online-For­mu­lar.  \nFür mehr Infor­ma­tio­nen bitte Frau Mari­ta Orbegoso per E‑Mail kontaktieren.
URL:https://www.via-in-berlin.de/events/mehrsprachigkeit-in-berlin-workshop-4/
LOCATION:per Zoom
END:VEVENT
END:VCALENDAR