BEGIN:VCALENDAR
VERSION:2.0
PRODID:-//VIA - ECPv5.12.2//NONSGML v1.0//EN
CALSCALE:GREGORIAN
METHOD:PUBLISH
X-WR-CALNAME:VIA
X-ORIGINAL-URL:https://www.via-in-berlin.de
X-WR-CALDESC:Veranstaltungen für VIA
REFRESH-INTERVAL;VALUE=DURATION:PT1H
X-Robots-Tag:noindex
X-PUBLISHED-TTL:PT1H
BEGIN:VTIMEZONE
TZID:Europe/Berlin
BEGIN:DAYLIGHT
TZOFFSETFROM:+0100
TZOFFSETTO:+0200
TZNAME:CEST
DTSTART:20210328T010000
END:DAYLIGHT
BEGIN:STANDARD
TZOFFSETFROM:+0200
TZOFFSETTO:+0100
TZNAME:CET
DTSTART:20211031T010000
END:STANDARD
END:VTIMEZONE
BEGIN:VEVENT
DTSTART;TZID=Europe/Berlin:20211008T100000
DTEND;TZID=Europe/Berlin:20211008T120000
DTSTAMP:20260425T193009
CREATED:20210924T135609Z
LAST-MODIFIED:20210924T135609Z
UID:3658-1633687200-1633694400@www.via-in-berlin.de
SUMMARY:7. Treffen der Arbeitsgruppe Arbeitsmarktintegration des Migrationsbeirates Mitte
DESCRIPTION:Nach der Auf­tak­tver­anstal­tung am 03. Mai 2019 möcht­en wir Sie nun zu unserem näch­sten Net­zw­erk­tr­e­f­fen der Arbeits­gruppe (AG) Arbeit und Beschäf­ti­gung und Arbeits­mark­t­in­te­gra­tion ein­laden. Die AG hat sich zum Ziel geset­zt\, die Arbeits­mark­t­in­te­gra­tion von Zuge­wan­derten zu fördern und bei prekären Lebenssi­t­u­a­tio­nen wie Arbeit­saus­beu­tung von Migran­tinnen\, Migranten und Geflüchteten mit niedrigem Bil­dungsniveau zu unterstützen. \nWir — das VIA-Teil­pro­jekt „Kom­mune interkul­turell — Inte­gra­tion von Bezirksver­wal­tun­gen und Migrant*innenorganisationen (MO) im Kon­text der Arbeits­mark­t­in­te­gra­tion in Berlin­er Bezirken“ im IQ Net­zw­erk Berlin organ­isieren in Koop­er­a­tion mit dem Migra­tions­beirat Mitte sowie der Migra­tions­beauf­tragten des Job­cen­ters Mitte nun das 7. Tre­f­fen der AG Arbeits­mark­t­in­te­gra­tion\, dies­mal in Präsenz: \nam Fre­itag\, den 8. Okto­ber 2021 von 10:00 bis 12:00 Uhr  \nOrt: Art-Café AVIATOR\, Club Dia­log e.V.\, Lin­dow­er Str. 18\, 13347 Berlin* \nTagesordnung\n\nBericht von Sibel Duyar-Aydin­li\, Migra­tions­beauf­tragte des Job­cen­ters Mitte\, über die aktuelle Sit­u­a­tion von Frauen in der Coro­na-Zeit und För­der­möglichkeit­en der Arbeitgeber*innen im Allgemeinen.\nVorstel­lung der neuen “Berufs­ber­atung im Erwerb­sleben” bei der Agen­tur für Arbeit Berlin-Mitte\, Ver­bund Berlin-Bran­den­burg Ost\, Thorsten Nieberg.\n\nBei diesem Tre­f­fen möcht­en wir auch die Stel­lvertre­tung der Lan­desko­or­di­na­tion des IQ Net­zw­erks Berlin\, Anna Stahl-Czechows­ka\, willkom­men heißen. \nWir freuen uns sehr auf Ihre Teil­nahme und bit­ten um Anmel­dung bis spätestens zum 04.10.2021 unter anmeldung-iq@via-in-berlin.de. Weit­er unten find­en Sie Infor­ma­tio­nen zu den Hygien­eregelun­gen für die und während der Veranstaltung. \n\n*Besondere Teilnahmebedingungen bei Präsenzveranstaltungen im Zusammenhang mit der Corona-Pandemie\n\nAuf­grund der erforder­lichen COVID-19-Maß­nah­men gibt es nur begren­zt Plätze. Allen\, die sich nach der Erre­ichung dieser Zahl anmelden\, müssen wir lei­der eine Absage erteilen.\nInner­halb geschlossen­er Räume (nicht jedoch außer­halb) dür­fen grund­sät­zlich nur voll­ständig geimpfte\, gene­sene oder neg­a­tiv getestete Per­so­n­en (max. 24 Stun­den alter Anti­gen-Schnell­test oder 48 Stun­den alter PCR-Test) mit einem entsprechen­den Nach­weis teilnehmen.\nWir behal­ten uns vor\, dieses Tre­f­fen online durchzuführen\, sollte ein Präsen­ztr­e­f­fen auf­grund von COVID-19 nicht mehr vertret­bar sein.
URL:https://www.via-in-berlin.de/events/7-treffen-der-arbeitsgruppe-arbeitsmarktintegration-des-migrationsbeirates-mitte/
LOCATION:Art-Café AVIATOR\, Club Dialog e.V.\, Lindower Str. 18\, 13347\, 13347\, Deutschland
CATEGORIES:IQ Kommune Interkulturell,Netzwerktreffen
ATTACH;FMTTYPE=image/png:https://www.via-in-berlin.de/wp-content/uploads/2021/03/Veranstaltungsbanner-Netzwerke.png
END:VEVENT
END:VCALENDAR