BEGIN:VCALENDAR
VERSION:2.0
PRODID:-//VIA - ECPv5.12.2//NONSGML v1.0//EN
CALSCALE:GREGORIAN
METHOD:PUBLISH
X-WR-CALNAME:VIA
X-ORIGINAL-URL:https://www.via-in-berlin.de
X-WR-CALDESC:Veranstaltungen für VIA
REFRESH-INTERVAL;VALUE=DURATION:PT1H
X-Robots-Tag:noindex
X-PUBLISHED-TTL:PT1H
BEGIN:VTIMEZONE
TZID:Europe/Berlin
BEGIN:DAYLIGHT
TZOFFSETFROM:+0100
TZOFFSETTO:+0200
TZNAME:CEST
DTSTART:20210328T010000
END:DAYLIGHT
BEGIN:STANDARD
TZOFFSETFROM:+0200
TZOFFSETTO:+0100
TZNAME:CET
DTSTART:20211031T010000
END:STANDARD
END:VTIMEZONE
BEGIN:VEVENT
DTSTART;TZID=Europe/Berlin:20211111T130000
DTEND;TZID=Europe/Berlin:20211111T150000
DTSTAMP:20260425T181602
CREATED:20211015T091604Z
LAST-MODIFIED:20211025T075625Z
UID:3734-1636635600-1636642800@www.via-in-berlin.de
SUMMARY:BEFaN Online-Veranstaltung "Yekmal: Die Geschichte eines kurdischen Elternvereins - Mehrsprachigkeit in sozialen Unternehmen"
DESCRIPTION:Das BEFaN-Net­zw­erk lädt im Rah­men der Ver­anstal­tungsrei­he zum Fach­tag Mehrsprachigkeit 2021 zu fol­gen­der Ver­anstal­tung ein: \nYekmal: Die Geschichte eines kurdischen Elternvereins — Mehrsprachigkeit in sozialen Unternehmen \nVortrag & Storytelling\nGünay Dari­ci und Mer­ih Ergün vom kur­dis­chen Eltern­vere­in Yek­mal e.V. erzählen die Geschichte des Vere­ins aus der Per­spek­tive von mar­gin­al­isierten Men­schen. Im Fokus ste­ht die Erfol­gs­geschichte eines migrantis­chen sozialen Unternehmens im Kampf um Anerken­nung sowie die prak­tis­chen Erfahrun­gen und Exper­tisen im Bere­ich Mehrsprachigkeit in der Zusam­me­nar­beit mit Fam­i­lien und Kindern. \n**************************************************************** \nYekmal: Çîroka Komeleyeke Malbatên Kurd — Pirzimanî di Rêxistinên Civakî de\nGünay Dari­ci\, rêve­bera kome­leya mal­batên kurd\, Yek­mal e. V.\, çîrokê ji çavekê pişt­guhkirî pêşkêş dike. Di naven­da çîrokê de serkefti­na komeleyeke civakî ya koçber­an heye ku bi arman­ca nasandin û pêşve­bi­ri­na pirz­i­maniyê ji bo mal­bat û zarokan têdikoşe. \n***************************************************************** \nLeitung: Günay Dari­ci & Mer­ih Ergün | Yek­mal e.V. \nZiel­gruppe: Die Ver­anstal­tung richtet sich an inter­essierte Eltern\, Expert*innen aus Migrant*innenorganisationen\, Lehrkräfte und päd­a­gogis­che Fachkräfte. \nFor­mat: Die Ver­anstal­tung find­et online per Zoom und in deutsch­er Sprache statt\, die Teil­nahme ist kostenfrei. \nAnmel­dung: Bitte bis spätestens 09.11.202021 über das Online-For­mu­lar! \nMehr Infor­ma­tio­nen per E‑Mail an Mari­ta Orbegoso Alvarez (Koor­di­na­torin BEFaN Netzwerk).  \nWir freuen uns auf Ihre Teilnahme! \n \n  \n  \n*Das BEFaN Net­zw­erk wird koor­diniert von der VIA Ser­vices­telle für MO im IKMO*     \n  \n****************************************************************** \n\n\n\nDer diesjährige Fach­tag Mehrsprachigkeit beste­ht aus zwei Teilen: dem Hauptevent\, das am 21.09.2021 stattge­fun­den hat\, sowie ein­er Ver­anstal­tungsrei­he\, in deren Rah­men fol­gende Ver­anstal­tun­gen bere­its real­isiert wurden: \n\n\n\n\n✅ 22.04.21 | Fachgespräch mit Dr. Mark Ham­precht Sen­atsver­wal­tung für Bil­dung ‚Jugend und Familie. \n✅ 26.05.21 | I. Work­shop „Ara­bisch mit Freude Ler­nen. Für eine bessere Verständigung“ in Koop­er­a­tion mit der Deutsch-Libane­sis­chen Freundschaftsbrücke e.V. \n✅ 02.06.21 | Podi­ums­diskus­sion mit den bil­dungspoli­tis­chen Sprecher*innen der Parteien „Herkun­ftssprachen auf die Fahnen“ \n✅ 17.06.21 | II. Work­shop „Mehrsprachigkeit als Eltern­recht in den Kindertage­sein­rich­tun­gen und in der Schule“ in Koop­er­a­tion mit dem Türkischen Eltern­vere­in Berlin/Brandenburg e.V. \n✅ 12.08.21 | III. Work­shop „Wie Sprachlosigkeit überwunden wer­den kann“ — Sensibilisierungsansätze zum Mehrspracher­werb am Beispiel der viet­name­sis­chen Community.
URL:https://www.via-in-berlin.de/events/befan-veranstaltung-yekmal/
LOCATION:Digitaler Schulungsraum VIA Berlin/Brandenburg
CATEGORIES:Fachveranstaltungen,Qualifizierung für MO,Seminare für Migrant*innen
END:VEVENT
END:VCALENDAR