BEGIN:VCALENDAR
VERSION:2.0
PRODID:-//VIA - ECPv5.12.2//NONSGML v1.0//EN
CALSCALE:GREGORIAN
METHOD:PUBLISH
X-WR-CALNAME:VIA
X-ORIGINAL-URL:https://www.via-in-berlin.de
X-WR-CALDESC:Veranstaltungen für VIA
REFRESH-INTERVAL;VALUE=DURATION:PT1H
X-Robots-Tag:noindex
X-PUBLISHED-TTL:PT1H
BEGIN:VTIMEZONE
TZID:Europe/Berlin
BEGIN:DAYLIGHT
TZOFFSETFROM:+0100
TZOFFSETTO:+0200
TZNAME:CEST
DTSTART:20210328T010000
END:DAYLIGHT
BEGIN:STANDARD
TZOFFSETFROM:+0200
TZOFFSETTO:+0100
TZNAME:CET
DTSTART:20211031T010000
END:STANDARD
END:VTIMEZONE
BEGIN:VEVENT
DTSTART;TZID=Europe/Berlin:20211117T180000
DTEND;TZID=Europe/Berlin:20211117T210000
DTSTAMP:20260425T181433
CREATED:20211116T141031Z
LAST-MODIFIED:20211116T141031Z
UID:3885-1637172000-1637182800@www.via-in-berlin.de
SUMMARY:Existenzgründung für Ernährungsberufe
DESCRIPTION:Ernährung spielt im Leben eines Men­schen eine wichtige Rolle. Sie bee­in­flusst sowohl unsere kör­per­liche als auch men­tale Gesund­heit und sorgt eben nicht nur für die nötige Energiezu­fuhr\, son­dern – wenn richtig gemacht – auch für die essen­tiellen Nährstoffe und den gesun­den Genuss. Berufe\, die in diese Kat­e­gorie fall­en\, reichen von Lebensmittelproduzent*innen über Speisenbereiter*innen bis hin zu Ernährungsberater*innen. In dieser Ver­anstal­tung wird die selb­st­ständi­ge Ernährungs­ber­a­terin Vivian Schmitt über ihre Erfahrun­gen und darüber berichten\, \n\nwie man eine Exis­tenz im Bere­ich Ernährung grün­den kann\,\nwelche beson­deren Hin­dernisse aber auch Poten­tiale in dieser Branche steck­en und\nwie man die Dig­i­tal­isierung in Ernährungs­berufen am besten für sich nutzen kann.\n\nDiese Fachver­anstal­tung aus der Gespräch­srei­he „Vor­bilder zeigen“ gibt einen Ein­blick in Ein­stiegs- und Pro­fes­sion­al­isierungsmöglichkeit­en in Berlin. Sie wird von ein­er Per­son aus Ihrer Com­mu­ni­ty geführt\, die hierzu­lande bere­its erfol­gre­ich tätig ist\, und richtet sich an Men­schen aus der­sel­ben Com­mu­ni­ty\, die sich auf dem Arbeits­markt behaupten möchten. \nWir – als Teil­pro­jekt „Kom­mune Interkul­turell“ im IQ-Net­zw­erk Berlin – laden Sie in Koop­er­a­tion mit Fraue­na­lia ganz her­zlich zu dieser Ver­anstal­tung ein. Die Ver­anstal­tung find­et auf Spanisch statt. Die Teil­nahme ist kosten­los. Auf­grund der erforder­lichen COVID-19-Maß­nah­men in Berlin wird diese Ver­anstal­tung dig­i­tal durchge­führt. Weit­ere Infor­ma­tio­nen zur Anmel­dung find­en Sie weit­er unten. \n  \nAnmel­dung:      info@frauenalia.com \nTer­min:     17.11.2021\, 18:00–21:00 Uhr \nOrt:        Dig­i­taler Schulungsraum \nRef­er­entin:    Vivian Schmitt | Ernährungs- und Wech­sel­jahres­ber­a­terin\, Grün­derin von Midlife Nutri­tion \n  \nVIA-Teilprojekt “Kommune Interkulturell” goes digital\n  \nDas VIA-Teil­pro­jekt “Kom­mune Interkul­turell” möchte Teilnehmer*innen während der COVID-19-Pan­demie die Möglichkeit geben\, sich­er und gesund­heits­be­wusst an Ver­anstal­tun­gen teilzunehmen. Aus diesem Grund bieten wir unsere Sem­i­nare und Work­shops nun auch online an. \nVoraussetzungen\nUm an dieser Ver­anstal­tung teilzunehmen\, benöti­gen Sie ein Gerät (PC\, Tablet\, Smart­phone)\, eine Inter­netverbindung\, Mikro­fon\, Laut­sprech­er\, bzw. Kopfhörer. \nAnmeldungs- und Teilnahmeverlauf\n\nMelden Sie sich hier unter info@frauenalia.com an.\nSie erhal­ten ein paar Tage vor der Ver­anstal­tung eine E‑Mail mit Link und Zugangs­dat­en zum Zoom-Meeting.\nNehmen Sie sich genü­gend Zeit vor dem Beginn der Ver­anstal­tung\, um dem Meet­ing beizutreten.
URL:https://www.via-in-berlin.de/events/existenzgruendung-fuer-ernaehrungsberufe/
LOCATION:Digitaler Schulungsraum VIA Berlin/Brandenburg\, Berlin\, Deutschland
CATEGORIES:IQ Kommune Interkulturell,Seminare für Migrant*innen
ATTACH;FMTTYPE=image/png:https://www.via-in-berlin.de/wp-content/uploads/2021/11/Veranstaltungsbanner-Vorbilder-zeigen-I-Frauenalia.png
END:VEVENT
BEGIN:VEVENT
DTSTART;TZID=Europe/Berlin:20211117T180000
DTEND;TZID=Europe/Berlin:20211117T210000
DTSTAMP:20260425T181433
CREATED:20211116T141516Z
LAST-MODIFIED:20211116T141516Z
UID:3891-1637172000-1637182800@www.via-in-berlin.de
SUMMARY:Berufliche Etablierung als Marketing- und Social Media-Spezialist*innen
DESCRIPTION:Die Dig­i­tal­isierung hat viele neue Berufe mit sich gebracht\, darunter fall­en auch die (Online-)Marketing- und Social Media-Spezialist*innen. Diese Beruf­s­gruppe ist nun­mehr schon etwas älter als 10 Jahre\, wirft aber durch den steti­gen Fortschritt der dig­i­tal­en Welt immer wieder neue Fra­gen auf. In dieser Ver­anstal­tung set­zen wir uns mit der Spezial­istin für Social Media Com­mu­ni­ty Build­ing Lizeth Soto Rivas zusam­men und sprechen darüber \n\nwie man sich als selb­st­ständi­ge Spezial­istin für Social Media Com­mu­ni­ty Build­ing in Deutsch­land etablieren kann\,\nwie ver­meintlich sim­ple Ideen zu großen Pro­jek­ten wer­den kön­nen und\nwelche Chan­cen es gibt\, sich lebenslang beru­flich weiterzubilden.\n\nDiese Fachver­anstal­tung aus der Gespräch­srei­he „Vor­bilder zeigen“ gibt einen Ein­blick in Ein­stiegs- und Pro­fes­sion­al­isierungsmöglichkeit­en in Berlin. Sie wird von ein­er Per­son aus Ihrer Com­mu­ni­ty geführt\, die hierzu­lande bere­its erfol­gre­ich tätig ist\, und richtet sich an Men­schen aus der­sel­ben Com­mu­ni­ty\, die sich auf dem Arbeits­markt behaupten möchten. \nWir – als Teil­pro­jekt „Kom­mune Interkul­turell“ im IQ-Net­zw­erk Berlin – laden Sie in Koop­er­a­tion mit Fraue­na­lia ganz her­zlich zu dieser Ver­anstal­tung ein. Die Ver­anstal­tung find­et auf Spanisch statt. Die Teil­nahme ist kosten­los. Auf­grund der erforder­lichen COVID-19-Maß­nah­men in Berlin wird diese Ver­anstal­tung dig­i­tal durchge­führt. Weit­ere Infor­ma­tio­nen zur Anmel­dung find­en Sie weit­er unten. \n  \nAnmel­dung:     info@frauenalia.com \nTer­min:     17.11.2021\, 18:00–21:00 Uhr \nOrt:        Dig­i­taler Schulungsraum \nRef­er­entin:    Lizeth Soto Rivas | Mar­ket­ing-Spezial­istin\, Grün­derin der Face­book-Gruppe Lati­nas en Berlin \n  \nVIA-Teilprojekt “Kommune Interkulturell” goes digital\n  \nDas VIA-Teil­pro­jekt “Kom­mune Interkul­turell” möchte Teilnehmer*innen während der COVID-19-Pan­demie die Möglichkeit geben\, sich­er und gesund­heits­be­wusst an Ver­anstal­tun­gen teilzunehmen. Aus diesem Grund bieten wir unsere Sem­i­nare und Work­shops nun auch online an. \nVoraussetzungen\nUm an dieser Ver­anstal­tung teilzunehmen\, benöti­gen Sie ein Gerät (PC\, Tablet\, Smart­phone)\, eine Inter­netverbindung\, Mikro­fon\, Laut­sprech­er\, bzw. Kopfhörer. \nAnmeldungs- und Teilnahmeverlauf\n\nMelden Sie sich hier unter info@frauenalia.com an.\nSie erhal­ten ein paar Tage vor der Ver­anstal­tung eine E‑Mail mit Link und Zugangs­dat­en zum Zoom-Meeting.\nNehmen Sie sich genü­gend Zeit vor dem Beginn der Ver­anstal­tung\, um dem Meet­ing beizutreten.
URL:https://www.via-in-berlin.de/events/berufliche-etablierung-als-marketing-und-social-media-spezialistinnen/
LOCATION:Digitaler Schulungsraum VIA Berlin/Brandenburg\, Berlin\, Deutschland
CATEGORIES:IQ Kommune Interkulturell,Seminare für Migrant*innen
ATTACH;FMTTYPE=image/png:https://www.via-in-berlin.de/wp-content/uploads/2021/11/Veranstaltungsbanner-Vorbilder-zeigen-II-Frauenalia.png
END:VEVENT
END:VCALENDAR