BEGIN:VCALENDAR
VERSION:2.0
PRODID:-//VIA - ECPv5.12.2//NONSGML v1.0//EN
CALSCALE:GREGORIAN
METHOD:PUBLISH
X-WR-CALNAME:VIA
X-ORIGINAL-URL:https://www.via-in-berlin.de
X-WR-CALDESC:Veranstaltungen für VIA
REFRESH-INTERVAL;VALUE=DURATION:PT1H
X-Robots-Tag:noindex
X-PUBLISHED-TTL:PT1H
BEGIN:VTIMEZONE
TZID:Europe/Berlin
BEGIN:DAYLIGHT
TZOFFSETFROM:+0100
TZOFFSETTO:+0200
TZNAME:CEST
DTSTART:20210328T010000
END:DAYLIGHT
BEGIN:STANDARD
TZOFFSETFROM:+0200
TZOFFSETTO:+0100
TZNAME:CET
DTSTART:20211031T010000
END:STANDARD
END:VTIMEZONE
BEGIN:VEVENT
DTSTART;VALUE=DATE:20211119
DTEND;VALUE=DATE:20211121
DTSTAMP:20260425T181525
CREATED:20211102T095807Z
LAST-MODIFIED:20211102T130235Z
UID:3816-1637280000-1637452799@www.via-in-berlin.de
SUMMARY:Multiplikator:innen-Schulung: Grundlagen der HIV-Testberatung
DESCRIPTION:Im Rah­men der Fast Track City-Ini­tia­tive organ­isiert Afrika­herz eine Schu­lung zum The­ma Grund­la­gen der HIV-Test­ber­atung. \nHIV‑\, STI- und Hepati­tis-Tests sind ein Schlüs­sel zu unserem Ziel\, dass nie­mand mehr an Aids erkranken oder Kom­p­lika­tio­nen und Langzeitschä­den durch nicht diag­nos­tizierte STIs oder Hepati­ti­den erlei­den muss. Die Schu­lung wird die fol­gen­den Aspek­te behandeln: \n\nWis­sen zur HIV‑\, STI- und Hepatitis-Diagnostik\nStrate­gien zur Förderung der HIV/STI/Hep­ati­tis-Tests\nPrak­tis­che Übungen\n\nTer­min: 19.+20.11.2021\, jew­eils 10:00–16:00 Uhr \nZiel­gruppe: Multiplikator:innen der afrikanis­chen Communities \nLeitung:         Ros­aline M‘bayo und Stephen Amoah \nTrain­er:         Car­lo Kantwerk (Deutsche Aids Hil­fe e.V.)\, Maite Lamuño und  Ker­stin Dettmer (Zen­trum für sex­uelle Gesund­heit und Fam­i­lien­pla­nung Charlottenburg-Wilmersdorf) \nTeil­nah­mege­bühr: Die Teil­nahme ist kostenfrei. \nAnmel­dung per E‑Mail: Afrikaherz@via-in-berlin.de; stephen.amoah@via-in-berlin.de \nAnmelde­schluss: 15.11.2021 \nKon­takt: Stephen Amoah\, Tel.: 030–35 05 00 13 \n***Die Ver­anstal­tung find­et mit 3G-Regel (geimpft\, getestet\, gene­sen) statt. Bitte die entsprechen­den Nach­weise zur Schu­lung mitbringen!***
URL:https://www.via-in-berlin.de/events/multiplikatorinnen-schulung-grundlagen-hiv-testberatung/
LOCATION:VIA — Verband für Interkulturelle Arbeit Regionalverband Berlin/Brandenburg e.V. (VIA Regional)\, Petersburger Str. 92\, Berlin\, 10247\, Deutschland
CATEGORIES:Seminare für Migrant*innen,Workshop
END:VEVENT
END:VCALENDAR