BEGIN:VCALENDAR
VERSION:2.0
PRODID:-//VIA - ECPv5.12.2//NONSGML v1.0//EN
CALSCALE:GREGORIAN
METHOD:PUBLISH
X-WR-CALNAME:VIA
X-ORIGINAL-URL:https://www.via-in-berlin.de
X-WR-CALDESC:Veranstaltungen für VIA
REFRESH-INTERVAL;VALUE=DURATION:PT1H
X-Robots-Tag:noindex
X-PUBLISHED-TTL:PT1H
BEGIN:VTIMEZONE
TZID:Europe/Berlin
BEGIN:DAYLIGHT
TZOFFSETFROM:+0100
TZOFFSETTO:+0200
TZNAME:CEST
DTSTART:20210328T010000
END:DAYLIGHT
BEGIN:STANDARD
TZOFFSETFROM:+0200
TZOFFSETTO:+0100
TZNAME:CET
DTSTART:20211031T010000
END:STANDARD
END:VTIMEZONE
BEGIN:VEVENT
DTSTART;TZID=Europe/Berlin:20211127T140000
DTEND;TZID=Europe/Berlin:20211127T180000
DTSTAMP:20260425T181556
CREATED:20211025T080231Z
LAST-MODIFIED:20211102T200813Z
UID:3767-1638021600-1638036000@www.via-in-berlin.de
SUMMARY:9. Fachtag Vietnamesisches Berlin  „Nước mắt (không) chảy xuôi!"  Älterwerden im vietnamesischen Berlin  Lass uns drüber reden!
DESCRIPTION:Das viet­name­sis­che Berlin wächst jedes Jahr und umfasst derzeit ca. 30.000 Per­so­n­en mit viet­name­sis­chen Migra­tions­geschicht­en. Die Alters­gruppe von 65+ Jahren stellt mit knapp 4 % eine Min­der­heit unter ihnen dar\, jedoch wird ihr Anteil in den näch­sten fünf bis zehn Jahren auf 15 % steigen. \n2014 fand erst­mals der gle­ich­namige Fach­tag „Älter wer­den“ statt\, um aus Sicht der Akteuer:innen in den viet­name­sis­chen Com­mu­ni­ties die Bedarfe der älter wer­den­den Migrant:innen für die nahe Zukun­ft zu ermit­teln. Als Ergeb­nis dessen ent­stand das Net­zw­erk „Alter und viet­name­sis­che Migra­tion“\, in dem sich seit­dem fach­liche Stellen (Pflegestützpunk­te\, Pflege­heime usw.) und viet­name­sis­che Vere­ine sowie Beratungsstellen aus­tauschen\, gegen­seit­ig informieren und fortbilden. \nMit­tler­weile ist eine viet­name­sis­chsprachige Brück­en­bauerin in der Pflege tätig und ver­mit­telt zwis­chen Fam­i­lien und der pro­fes­sionellen Beratung rund um das The­ma Pflege. Gle­ichzeit­ig wächst bei den (erwach­se­nen) Kindern zunehmend das Bewusst­sein für das Älter­w­er­den ihrer Eltern und damit auch die Sor­gen darum. \nMuss ich meine Eltern pfle­gen und dafür meine Arbeit aufgeben?\nGibt es Wohn­heime für viet­name­sis­che Senior:innen?\nWie kön­nen meine Eltern gesund bleiben?\nWer bezahlt den Unter­halt mein­er Eltern? \nUnd wer trifft Entschei­dun­gen\, wenn meinen Eltern etwas passiert? Und und und… \nViele sind mit solchen Fra­gen kon­fron­tiert. Dies nehmen wir zum Anlass für einen zweit­en Fach­tag zu dem The­ma\, der sich primär an erwach­sene Kinder viet­name­sis­ch­er Eltern richtet. Diese in Deutsch­land sozial­isierte Gen­er­a­tion stellt eine wichtige Ressource in der Infor­ma­tion und Aufk­lärung der Eltern­gener­a­tion dar. \nDer Fach­tag soll die Gen­ra­tion der Kinder über wichtige The­men rund ums Alter informieren\, spezielle Bedarfe aus ihrer Per­spek­tive erfassen und sie gegebe­nen­falls als Aktive/Initiator:innen für kün­ftige Pro­jek­te gewinnen. \nVer­anstal­tende \n\nVIA Berlin/Brandenburg (Ser­vices­telle für Migrant*innenorganisationen)\nVLab Berlin\n\nSchirmher­rin \n\nBär­bel. Olha­garay (Inte­gra­tions­beauf­tragte des Bezirk­samtes Lichtenberg)\n\nIn Koop­er­a­tion mit \n\nBezirk­samt Licht­en­berg (Altenhil­feko­or­di­na­torin)\nVere­ini­gung der Viet­name­sen Berlin & Bran­den­burg e.V.\nGepGe­mi e.V.\nBürg­erini­tia­tive Aus­ländis­che Mit­bürg­erIn­nen e.V.\n\nPro­gramm  \n14.00 Uhr        Eröffnung/Begrüßung \n14.05 Uhr        Input „Gesund altern“ (Mai-Thy Phan-Nguyen\, Ärztin/Praxis Wünsche) \n\nWarum ist eine hausärztliche Ver­sorgung notwendig?\nWichtige Vor­sorge­un­ter­suchun­gen für Erwachsene\nWie bringe ich meine Eltern dazu?\nGesund­heits­förderung im Alter (-> Tipps für Kurssuche)\n\n14.45 Uhr        Input „Pflege“ (Veroni­ka Vahrenhorst/ Pflegestützpunkt Ein­beck­er Straße) \n\nWas heißt Pflegebedürftigkeit?\nÜberblick über die Leistungen\nUnter­stützun­gen für pfle­gende Angehörige\nWer trägt die Kosten der Pflege?\n\n15.30 Uhr        Input „Lebensende“ (Thanh Ha Pham & Dr. Dhar­ma Bhusal/ Dong Ban Ja) \n\nUnter­stützung und Begleitung für Ange­hörige schw­erkranker Vietnames:innen\nThe­ma „Ster­ben“ mit Eltern kommunizieren\n\n16.00 Uhr        Input „Rechtliche Vor­sorge“ (Felic­i­tas Hob­je-Schulz/ Betreu­ungswerk Berlin –KBW e.V.) \n\nWann wird eine Vor­sorgevoll­macht notwendig?\nWas man son­st noch ken­nen sollte: Rechtliche Betreu­ung und Patientenverfügung\nBetreuer:in mit viet­name­sis­chen Sprachkenntnissen\n\n16.45 Uhr        Input „Wohnen im Alter“ (Theo Killewald/ Net­zw­erk­a­gen­tur GenerationenWohnen) \n\nFor­men des gemein­schaftlichen Wohnens im Alter\nMach­barkeit eines viet­name­sis­chen Wohnprojekts\n\n17.30 Uhr        Vorstel­lung der viet­name­sis­chsprachi­gen Infor­ma­tion­splat­tform VCare (München) & offen­er Austausch  \n  \nAnmel­dung erfol­gt über Zoom-Reg­istrierung hier (Nach dem Aus­füllen des Anmelde­for­mu­la­rs wird der Teil­nah­melink sofort verschickt)\nAlter­na­tiv an: nozomi.spennemann(at)via-in-berlin.de oder 030/ 2900 6948
URL:https://www.via-in-berlin.de/events/altwerden-vietnamesisches-berlin/
LOCATION:per Zoom
CATEGORIES:Fachveranstaltungen,Seminare für Migrant*innen
ATTACH;FMTTYPE=image/jpeg:https://www.via-in-berlin.de/wp-content/uploads/2021/10/VIA_VLAB_facebook-event-coverbild_V03_thi-scaled.jpg
ORGANIZER;CN="VIA%20Servicestelle%20f%C3%BCr%20MO%20im%20IKMO%20Berlin":MAILTO:servicestelle@via-in-berlin.de
END:VEVENT
END:VCALENDAR