BEGIN:VCALENDAR
VERSION:2.0
PRODID:-//VIA - ECPv5.12.2//NONSGML v1.0//EN
CALSCALE:GREGORIAN
METHOD:PUBLISH
X-WR-CALNAME:VIA
X-ORIGINAL-URL:https://www.via-in-berlin.de
X-WR-CALDESC:Veranstaltungen für VIA
REFRESH-INTERVAL;VALUE=DURATION:PT1H
X-Robots-Tag:noindex
X-PUBLISHED-TTL:PT1H
BEGIN:VTIMEZONE
TZID:Europe/Berlin
BEGIN:DAYLIGHT
TZOFFSETFROM:+0100
TZOFFSETTO:+0200
TZNAME:CEST
DTSTART:20220327T010000
END:DAYLIGHT
BEGIN:STANDARD
TZOFFSETFROM:+0200
TZOFFSETTO:+0100
TZNAME:CET
DTSTART:20221030T010000
END:STANDARD
END:VTIMEZONE
BEGIN:VEVENT
DTSTART;TZID=Europe/Berlin:20220126T100000
DTEND;TZID=Europe/Berlin:20220126T120000
DTSTAMP:20260425T123015
CREATED:20211209T112633Z
LAST-MODIFIED:20211210T115423Z
UID:3960-1643191200-1643198400@www.via-in-berlin.de
SUMMARY:Beschäftigungschancen durch Aus-\, Fort- und Weiterbildungen
DESCRIPTION:Anmel­dung:     anmeldung-iq@via-in-berlin.de                                                                  Ter­min:     26. Jan­u­ar 2022\, 10:00 — 12:00 Uhr \n\nDie Arbeitswelt ist einem kon­tinuier­lichen Wan­del unter­legen\, mit dem es einem manch­mal schw­er fällt\, Schritt zu hal­ten. “Alte” Berufe verän­dern sich\, “neue” Betä­ti­gungs­felder entste­hen. Allen Krisen zum Trotz wird Inter­na­tion­al­isierung ein wichtiger Fak­tor bleiben und Sprachan­forderun­gen und interkul­turellen Kom­pe­ten­zen einen Stem­pel auf­drück­en – während Dig­i­tal­isierung und Automa­tisierung weit­eren Schwung erhal­ten und die Bedeu­tung von stetiger Aus‑\, Fort- und Weit­er­bil­dung unter­stre­ichen. Aber welche Arten von Qual­i­fizierungsmöglichkeit­en gibt es? Und welche Unter­stützung kommt jew­eils in Frage? Darüber möcht­en wir in diesem Sem­i­nar sprechen und Mitarbeiter*innen und Mitar­beit­er von Migrant*innenorganisationen sowie Engagierte mit Bezug zur The­matik her­zlich einladen. \nDas VIA-Teil­pro­jekt „Kom­mune Interkul­turell“ im IQ-Net­zw­erk Berlin bietet Beratun­gen und Qual­i­fizierungsange­bote für MO im Bere­ich der Arbeits­mark­t­in­te­gra­tion an\, die mit Migran­tinnen\, Migranten und geflüchteten Men­schen arbeit­en. Diese Ver­anstal­tung wird in Koop­er­a­tion mit der Agen­tur für Arbeit durchgeführt. \nAuf­grund der erforder­lichen COVID-19-Maß­nah­men in Berlin wird diese Ver­anstal­tung dig­i­tal durchge­führt. Weit­ere Infor­ma­tio­nen zur Anmel­dung find­en Sie weit­er unten. Die Ver­anstal­tung find­et auf Deutsch statt und ist kostenlos. \nEine Anmel­dung ist erforder­lich bis zum 21.01.2022 unter: anmeldung-iq@via-in-berlin.de \nRef­er­ent:        Dr. Thorsten Nieberg | Berufs­ber­ater für Beschäftigte \n  \nVIA-Teilprojekt “Kommune Interkulturell” goes digital\nDas VIA-Teil­pro­jekt “Kom­mune Interkul­turell” möchte Teilnehmer*innen während der COVID-19-Pan­demie die Möglichkeit geben\, sich sich­er und gesund­heits­be­wusst weit­erzu­bilden. Aus diesem Grund bieten wir unsere Sem­i­nare und Work­shops nun auch online an. \nVoraussetzungen\nUm an dieser Ver­anstal­tung teilzunehmen\, benöti­gen Sie ein Gerät mit Inter­net­zu­gang (PC\, Tablet\, Smart­phone)\, Mikro­fon und Laut­sprech­er\, bzw. Kopfhörer. \nTeilnahmeverlauf\n\nMelden Sie sich per E‑Mail unter Nen­nung der Ver­anstal­tung bei anmeldung-iq@via-in-berlin.de an.\nSie erhal­ten ein paar Tage vor der Ver­anstal­tung eine E‑Mail mit einem Link zum Zoom-Meeting.\nNehmen Sie sich genü­gend Zeit vor Beginn der Ver­anstal­tung\, um dem Meet­ing beizutreten und die Bas­is­funk­tio­nen wie Mikro­fon\, Ton und Kam­era zu testen. Dies kann zwis­chen 10 und 20 Minuten dauern.
URL:https://www.via-in-berlin.de/events/arbeitsmarktintegration-durch-aus-fort-und-weiterbildungen/
LOCATION:Digitaler Schulungsraum VIA Berlin/Brandenburg\, Berlin\, Deutschland
CATEGORIES:IQ Kommune Interkulturell,Qualifizierung für MO
ATTACH;FMTTYPE=image/png:https://www.via-in-berlin.de/wp-content/uploads/2021/12/Veranstaltungsbanner-Qualifizierungsseminare.png
END:VEVENT
BEGIN:VEVENT
DTSTART;TZID=Europe/Berlin:20220126T100000
DTEND;TZID=Europe/Berlin:20220126T120000
DTSTAMP:20260425T123015
CREATED:20211213T151456Z
LAST-MODIFIED:20211220T140607Z
UID:3986-1643191200-1643198400@www.via-in-berlin.de
SUMMARY:Netzwerktreffen "Alter und vietnamesische Migration" (Zoom)
DESCRIPTION:Am 27.11.2021 fand mit ein­er großen Beteil­gung von Ange­höri­gen\, wer­den­den Senior:innen und Fach­per­so­n­en der 9. Fach­tag Viet­name­sis­ches Berlin “Älter wer­den viet­name­sis­ch­er Berliner­in­nen und Berlin­er 2.0”.  Es war ein langer\, aber sehr infor­ma­tiv­er Sam­sta­gnach­mit­tag\, wo lei­der zum Teil der Aus­tausch zu kurz gekom­men ist. Welche Erkent­nisse haben wir daraus gewon­nen\, die wir im Net­zw­erk weit­er behan­deln müssten? Wie kön­nen wir als Net­zw­erk die Ini­tia­tive von jun­gen Vietnamses:innen VCARE unter­stützen. Dazu wollen wir uns am beim 23. Net­zw­erk­tr­e­f­fen austauschen. \nTOP: \n\nBericht über den Fach­tag Viet­name­sis­ches Berlin “Älter wer­den” am 27.11.2021\nVorstel­lung der Ini­tia­tive VCARE\nSon­stiges\n\n \nAnmel­dung ist erforder­lich bis 21.01.2022 zum  an: nozomi.spennemann@via-in-berlin.de
URL:https://www.via-in-berlin.de/events/netzwerkterffen-alter-und-vietnamesische-migration-zoom/
LOCATION:per Zoom
CATEGORIES:Netzwerktreffen
END:VEVENT
END:VCALENDAR