BEGIN:VCALENDAR
VERSION:2.0
PRODID:-//VIA - ECPv5.12.2//NONSGML v1.0//EN
CALSCALE:GREGORIAN
METHOD:PUBLISH
X-WR-CALNAME:VIA
X-ORIGINAL-URL:https://www.via-in-berlin.de
X-WR-CALDESC:Veranstaltungen für VIA
REFRESH-INTERVAL;VALUE=DURATION:PT1H
X-Robots-Tag:noindex
X-PUBLISHED-TTL:PT1H
BEGIN:VTIMEZONE
TZID:Europe/Berlin
BEGIN:DAYLIGHT
TZOFFSETFROM:+0100
TZOFFSETTO:+0200
TZNAME:CEST
DTSTART:20220327T010000
END:DAYLIGHT
BEGIN:STANDARD
TZOFFSETFROM:+0200
TZOFFSETTO:+0100
TZNAME:CET
DTSTART:20221030T010000
END:STANDARD
END:VTIMEZONE
BEGIN:VEVENT
DTSTART;TZID=Europe/Berlin:20220223T150000
DTEND;TZID=Europe/Berlin:20220223T170000
DTSTAMP:20260425T171205
CREATED:20220220T205111Z
LAST-MODIFIED:20220220T205815Z
UID:4388-1645628400-1645635600@www.via-in-berlin.de
SUMMARY:Netzwerk für psychische Gesundheit von vietnamesischen Migrant:innen
DESCRIPTION:Am 23.02.2022 find­et von 15.00 Uhr bis 17.00 Uhr das näch­ste Net­zw­erk­tr­e­f­fen (per Zoom) statt. Neben dem Aus­tausch aktueller Pro­jek­te und Ein­rich­tun­gen wird M.Sc. Thi Quynh-Nhu Tran von der Char­ité einen kurzen Ein­blick in die aktuell laufende Studie “Costs of Car­ing” vorstellen. Zudem bericht­en Phuong Anh Dang und Hang Hoang von ein­er kür­zlich ange­laufe­nen Selbsthilfegruppe. \nAnmel­dung ist erforder­lich an: nozomi.spennemann@via-in-berlin.de
URL:https://www.via-in-berlin.de/events/netzwerk-fuer-psychische-gesundheit-von-vietnamesischen-migrantinnen/
LOCATION:Online
CATEGORIES:Netzwerktreffen
ATTACH;FMTTYPE=image/jpeg:https://www.via-in-berlin.de/wp-content/uploads/2020/09/logo_suckhoe-02-e1645390687374.jpg
END:VEVENT
END:VCALENDAR