BEGIN:VCALENDAR
VERSION:2.0
PRODID:-//VIA - ECPv5.12.2//NONSGML v1.0//EN
CALSCALE:GREGORIAN
METHOD:PUBLISH
X-WR-CALNAME:VIA
X-ORIGINAL-URL:https://www.via-in-berlin.de
X-WR-CALDESC:Veranstaltungen für VIA
REFRESH-INTERVAL;VALUE=DURATION:PT1H
X-Robots-Tag:noindex
X-PUBLISHED-TTL:PT1H
BEGIN:VTIMEZONE
TZID:Europe/Berlin
BEGIN:DAYLIGHT
TZOFFSETFROM:+0100
TZOFFSETTO:+0200
TZNAME:CEST
DTSTART:20220327T010000
END:DAYLIGHT
BEGIN:STANDARD
TZOFFSETFROM:+0200
TZOFFSETTO:+0100
TZNAME:CET
DTSTART:20221030T010000
END:STANDARD
END:VTIMEZONE
BEGIN:VEVENT
DTSTART;TZID=Europe/Berlin:20220405T090000
DTEND;TZID=Europe/Berlin:20220405T113000
DTSTAMP:20260425T193105
CREATED:20220302T124546Z
LAST-MODIFIED:20220302T134709Z
UID:4454-1649149200-1649158200@www.via-in-berlin.de
SUMMARY:Thematischen Fachrunde (Fortbildung) für vietnamesische Fachkräfte "Menschenhandel" (online per Zoom)
DESCRIPTION:Da es kaum legale Ein­reisewege für Men­schen aus Viet­nam gibt\, wer­den immer wieder die Ange­bote für die Ein­schleusung nach Europa in Anspruch genommen.\nDieser Weg ist fast immer mit hohen Schulden ver­bun­den\, so dass ein extremes Abhängigkeitsver­hält­nis in die Schleusungsstruk­turen der Tran­sit- und Ziel­län­der entste­hen kann. Aus dem Schleusungsange­bot kann sich Men­schen­han­del entwickeln. \nDie Fort­bil­dung richtet sich an viet­name­sis­che Fachkräfte der Beratungsstellen und Pro­jek­te. Sie ken­nen die die Umstände der Migra­tion aus Viet­nam und haben einen guten Zugang zu Frauen und Män­nern\, die neu in Deutsch­land sind. \nIn der ein­führen­den Fort­bil­dung soll \n\nder Unter­schied zwis­chen Schleusung und Men­schen­han­del her­aus­gear­beit­et werden\n\nund \n\nüber Wege aus diesen Abhängigkeit­en (Exit-Struk­turen) gesprochen werden.\n\nSchließlich soll gemein­sam mit teil­nehmenden Fachkräften disku­tiert wer­den\, welchen Beitrag sie an der Basis in den Com­mu­ni­ties leis­ten kön­nen und wann und wie fach­liche Hil­fen einzu­holen sind. \nBan Ying e.V. berät seit über 30 Jahren Frauen weltweit (mit dem Schw­er­punkt Asien und Afri­ka)\, die Betrof­fene von Aus­beu­tung und Men­schen­han­del sind. \nThe­ma­tis­che Fachrunde ist eine Qual­i­fizierungsrei­he für MO. Teil­nehmen kön­nen haupt- und ehre­namtliche Mitarbeiter*innen ein­er Migrant*innenorganisation.Die Teil­nahme ist kosten­los. Den Teil­nah­melink für Zoom-Meet­ing erhal­ten Sie nach der Anmel­dung bis zum 29.03.2022 an: nozomi.spennemann@via-in-berlin.de.  \nEine Ver­anstal­tung in Koop­er­a­tion mit:
URL:https://www.via-in-berlin.de/events/thematischen-fachrunde-fuer-vietnamesische-fachkraefte-menschenhandel/
LOCATION:Digitaler Schulungsraum VIA Berlin/Brandenburg\, Berlin\, Deutschland
CATEGORIES:Qualifizierung für MO
END:VEVENT
END:VCALENDAR