BEGIN:VCALENDAR
VERSION:2.0
PRODID:-//VIA - ECPv5.12.2//NONSGML v1.0//EN
CALSCALE:GREGORIAN
METHOD:PUBLISH
X-WR-CALNAME:VIA
X-ORIGINAL-URL:https://www.via-in-berlin.de
X-WR-CALDESC:Veranstaltungen für VIA
REFRESH-INTERVAL;VALUE=DURATION:PT1H
X-Robots-Tag:noindex
X-PUBLISHED-TTL:PT1H
BEGIN:VTIMEZONE
TZID:Europe/Berlin
BEGIN:DAYLIGHT
TZOFFSETFROM:+0100
TZOFFSETTO:+0200
TZNAME:CEST
DTSTART:20220327T010000
END:DAYLIGHT
BEGIN:STANDARD
TZOFFSETFROM:+0200
TZOFFSETTO:+0100
TZNAME:CET
DTSTART:20221030T010000
END:STANDARD
END:VTIMEZONE
BEGIN:VEVENT
DTSTART;TZID=Europe/Berlin:20220519T100000
DTEND;TZID=Europe/Berlin:20220519T130000
DTSTAMP:20260425T205734
CREATED:20220414T120955Z
LAST-MODIFIED:20220420T174148Z
UID:4652-1652954400-1652965200@www.via-in-berlin.de
SUMMARY:Projektmanagement in MO IV: Verwendungsnachweis und Abschlussbericht
DESCRIPTION:Die VIA Ser­vices­telle für Migrant:innenorganisationen (MO) im Interkul­turellen Kom­pe­ten­znet­zw­erk (IKMO) Berlin lädt her­zlich zu Teil IV ein­er vierteili­gen Work­shoprei­he zum The­ma “Pro­jek­t­man­a­gen­emt in MO” ein. \nTeil IV wird sich mit der Frage “Ver­wen­dungsnach­weis und Abschluss­bericht” befassen und u. a. auf die fol­gen­den Aspek­te eingehen: \n\nGrund­la­gen des Zuwen­dungsrechts (ANBest.\, LHO\, BHO usw.)\nFinanz­con­trol­ling II\nZahlen­mäßiger Nachweis\nBelegerfas­sung\, ‑führung und –über­sicht\nPro­jek­t­bericht\nNach­haltige Doku­men­ta­tion und Öffentlichkeitsarbeit\nRück­forderung von Mitteln\n\nRef­er­enten: Hol­ger Förster & Fuat Şengül (VIA Region­alver­band Berlin/Brandenburg e.V.) \nDie Ver­anstal­tung richtet sich an neue und erfahrene Vertreter:innen von Berlin­er MO. Die Teil­nahme ist kosten­frei. Die Ver­anstal­tung find­et dig­i­tal per ZOOM statt\, der Link wird kurz vor der Ver­anstal­tung per E‑Mail zugeschickt. \nEine Anmel­dung per E‑Mail an Nina Grube ist bis spätestens 17.05.2022 erforder­lich: servicestelle@via-in-berlin.de. \n  \nHier geht es zu den anderen Workshops\nPro­jek­t­man­age­ment in MO I: Ein­führung in das Projektmanagement \nPro­jek­t­man­age­ment in MO II: Fördertöpfe und –pro­gramme \nPro­jek­t­man­age­ment in MO III: Wie funk­tion­iert ein Projekt?
URL:https://www.via-in-berlin.de/events/projektmanagement-in-mo-iv-verwendungsnachweis-und-abschlussbericht/
LOCATION:Digitaler Schulungsraum VIA Berlin/Brandenburg\, Berlin\, Deutschland
CATEGORIES:Qualifizierung für MO,Seminare für Migrant*innen,Workshop
ATTACH;FMTTYPE=image/png:https://www.via-in-berlin.de/wp-content/uploads/2022/04/Projektmanagement-in-MO-4.png
ORGANIZER;CN="VIA%20Servicestelle%20f%C3%BCr%20MO%20im%20IKMO%20Berlin":MAILTO:servicestelle@via-in-berlin.de
END:VEVENT
END:VCALENDAR