BEGIN:VCALENDAR
VERSION:2.0
PRODID:-//VIA - ECPv5.12.2//NONSGML v1.0//EN
CALSCALE:GREGORIAN
METHOD:PUBLISH
X-WR-CALNAME:VIA
X-ORIGINAL-URL:https://www.via-in-berlin.de
X-WR-CALDESC:Veranstaltungen für VIA
REFRESH-INTERVAL;VALUE=DURATION:PT1H
X-Robots-Tag:noindex
X-PUBLISHED-TTL:PT1H
BEGIN:VTIMEZONE
TZID:Europe/Berlin
BEGIN:DAYLIGHT
TZOFFSETFROM:+0100
TZOFFSETTO:+0200
TZNAME:CEST
DTSTART:20220327T010000
END:DAYLIGHT
BEGIN:STANDARD
TZOFFSETFROM:+0200
TZOFFSETTO:+0100
TZNAME:CET
DTSTART:20221030T010000
END:STANDARD
END:VTIMEZONE
BEGIN:VEVENT
DTSTART;TZID=Europe/Berlin:20220531T170000
DTEND;TZID=Europe/Berlin:20220531T200000
DTSTAMP:20260425T211134
CREATED:20220516T174439Z
LAST-MODIFIED:20220524T112501Z
UID:4735-1654016400-1654027200@www.via-in-berlin.de
SUMMARY:Ehrenamt als Schlüssel für den Karrierestart für soziale Berufe
DESCRIPTION:Anmel­dung: leitung-box66@via-in-berlin.de                    Ort: BOX66\, Dolziger Straße 16\, 10247 Berlin                    Ref­er­entin: Doro­ta Kot | Kul­tur­man­agerin \n\nEin Kar­ri­er­estart als Migrant*in ist nicht immer ein­fach\, vor allem\, wenn man einen Beruf ausübt\, der von hoher Konkur­renz auf dem Arbeits­markt geprägt ist. In diesem Vor­bilder zeigen wird uns deswe­gen die Kul­tur­man­agerin Doro­ta Kot erk­lären\, warum und wie Ehre­namt dazu genutzt wer­den kann\, um den Beruf­se­in­stieg zu erzie­len. Wir wer­den unter anderem darüber sprechen\, \n\nwas Ehre­namt genau ist und warum man es machen sollte\nwie man den Sprung vom Ehre­namt in den Beruf schaf­fen kann und\nwie die per­sön­lichen Erfahrun­gen der Ref­er­entin mit dem Ehre­namt zum Kar­ri­er­estart beitra­gen kon­nten und wie dieser Prozess aussah.\n\nDiese Fachver­anstal­tung aus der Gespräch­srei­he „Vor­bilder zeigen“ gibt einen Ein­blick in Ein­stiegs- und Pro­fes­sion­al­isierungsmöglichkeit­en in Berlin. Sie wird von ein­er Per­son aus Ihrer Com­mu­ni­ty geführt\, die hierzu­lande bere­its erfol­gre­ich tätig ist\, und richtet sich an Men­schen aus der­sel­ben Com­mu­ni­ty\, die sich auf dem Arbeits­markt behaupten möchten. \nWir – als Teil­pro­jekt „Kom­mune Interkul­turell“ im IQ-Net­zw­erk Berlin – laden Sie in Koop­er­a­tion mit Box66 ganz her­zlich zu dieser Ver­anstal­tung ein. Die Ver­anstal­tung find­et auf Pol­nisch statt. Die Teil­nahme ist kosten­los. Auf­grund der erforder­lichen COVID-19-Maß­nah­men in Berlin gibt es eine begren­zte Platz­zahl und eine Anmel­dung ist erforderlich. \nBesondere Teilnahmebedingungen bei Veranstaltungen\n\nAuf­grund der Coro­na-Pan­demie gibt es nur begren­zt Plätze vor Ort.\n\nUm auch weit­er­hin die Gesund­heit aller Teil­nehmenden sich­er­stellen zu kön­nen\, dür­fen inner­halb geschlossen­er Räume (nicht jedoch außer­halb) grund­sät­zlich nur voll­ständig geimpfte\, gene­sene oder neg­a­tiv getestete Per­so­n­en (max. 24 Stun­den alter Anti­gen-Schnell­test) mit einem entsprechen­den Nach­weis teil­nehmen. In den Räum­lichkeit­en beste­ht weit­er­hin Maskenpflicht\, unab­hängig des Impfstatus.\n\n\nWir behal­ten uns vor\, dieses Tre­f­fen online durchzuführen\, sollte ein Präsen­ztr­e­f­fen auf­grund von COVID-19 nicht mehr vertret­bar sein.\n\n\nWolontariat jako klucz do kariery w zawodach socjalnych\nLicz­ba miejsc jest ograniczona. \nProsimy o zgłoszenia drogą mailową: leitung-box66@via-in-berlin.de \nWydarze­nie odbędzie się w języku polskim. \nRef­er­en­t­ka: Doro­ta Kot\, menedżer­ka kultury \nRozpoczę­cie kari­ery jako migrant­ka jest częs­to niełatwe\, szczegól­nie w zawodach\, w których konkurenc­ja na rynku jest duża. Dlat­ego w naszym wydarze­niu z cyk­lu Vor­bilder zeigen (Pokazy­wanie przykładów) menedżer­ka kul­tu­ry Doro­ta Kot wyjaśni nam\, jak wolon­tari­at może służyć rozwi­ja­niu dro­gi zawodowej w tej branży. \nBędziemy roz­maw­iać między inny­mi o tym: \n\nCzym jest wolon­tari­at i dlaczego powin­no się go praktykować?\nJak dokon­ać prze­jś­cia z wolon­tariatu do pełnopłat­nej pracy?\nJak oso­biste doświad­czenia ref­er­en­t­ki wpłynęły na jej rozwój kari­ery i jak wyglą­dał ten proces?\n\nWydarze­nie z cyk­lu Vor­bilder zeigen daje nam wgląd w pro­cesy rozpoczy­na­nia i pro­fesjon­al­iza­cji kari­ery w Berlin­ie. Jest prowad­zone przez osobę z Waszego com­mu­ni­ty\, która w danej dziedzinie już osią­ga sukcesy i skierowane do osób\, które chci­ały­by rozwinąć się na tute­jszym rynku pracy. \nMy\, jako część pro­jek­tu Kom­mune Interkul­turell w IQ-Net­zw­erk w Berlin­ie serdecznie zaprasza­my Was do wzię­cia udzi­ału w tym wydarzeniu. \nOdbędzie się ono w języku pol­skim\, a udzi­ał jest bezpłatny. \nZe wzglę­du na sytu­ację pan­demiczną związaną z Covid-19\,  licz­ba miejsc jest ogranic­zona\, dlat­ego wyma­gane jest wcześniejsze zgłosze­nie drogą mailową. \n  \nSzczególne warunki dotyczące wydarzeń z udziałem osobistym na miejscu:\nLicz­ba miejsc w pomieszczeni­ach zamknię­tych jest ogranic­zona. Aby zapewnić dostate­czną ochronę zdrowia wszys­t­kich uczest­niczek\, w pomieszcze­niu mogą zna­j­dować się tylko oso­by w pełni zaszczepi­one prze­ci­wko Covid-19\, ozdrowień­cy\, lub z negaty­wnym wynikiem tes­tu nie starszym niż 24 godziny. W pomieszczeni­ach obow­iązu­je nadal obow­iązek noszenia maseczek ochronnych. \nZas­trzegamy sobie pra­wo do przeprowadzenia spotka­nia online\, gdy­by z powodów pan­demicznych przeprowadze­nie go na miejs­cu nie było możliwe.
URL:https://www.via-in-berlin.de/events/ehrenamt-als-schluessel-fuer-den-karrierestart-fuer-soziale-berufe/
LOCATION:Box66 — Interkulturelles Beratungs- und Begegnungszentrum für Frauen und Familien in Friedrichshain\, Dolziger Straße 16\, Berlin\, 10247\, Deutschland
CATEGORIES:IQ Kommune Interkulturell,Mitgliedsorganisationen,Seminare für Migrant*innen
ATTACH;FMTTYPE=image/png:https://www.via-in-berlin.de/wp-content/uploads/2022/05/Veranstaltungsbanner-Vorbilder-zeigen-polnisch.png
END:VEVENT
END:VCALENDAR