BEGIN:VCALENDAR
VERSION:2.0
PRODID:-//VIA - ECPv5.12.2//NONSGML v1.0//EN
CALSCALE:GREGORIAN
METHOD:PUBLISH
X-WR-CALNAME:VIA
X-ORIGINAL-URL:https://www.via-in-berlin.de
X-WR-CALDESC:Veranstaltungen für VIA
REFRESH-INTERVAL;VALUE=DURATION:PT1H
X-Robots-Tag:noindex
X-PUBLISHED-TTL:PT1H
BEGIN:VTIMEZONE
TZID:Europe/Berlin
BEGIN:DAYLIGHT
TZOFFSETFROM:+0100
TZOFFSETTO:+0200
TZNAME:CEST
DTSTART:20220327T010000
END:DAYLIGHT
BEGIN:STANDARD
TZOFFSETFROM:+0200
TZOFFSETTO:+0100
TZNAME:CET
DTSTART:20221030T010000
END:STANDARD
END:VTIMEZONE
BEGIN:VEVENT
DTSTART;TZID=Europe/Berlin:20220601T160000
DTEND;TZID=Europe/Berlin:20220601T190000
DTSTAMP:20260425T205536
CREATED:20220505T084625Z
LAST-MODIFIED:20220505T095216Z
UID:4704-1654099200-1654110000@www.via-in-berlin.de
SUMMARY:27. Treffen des Netzwerks für psychische Gesundheit von vietnamesischen Migrant:innen
DESCRIPTION:Das Net­zw­erk für psy­chis­che Gesund­heit von viet­name­sis­chen Migrant:innen lädt zu seinem näch­sten Tre­f­fen ein. \nSchw­er­punkt wird dies­mal ein Vor­trag der Psy­chi­a­terin Fr. Dr. med. Thi Minh Tam Ta der Spezialam­bu­lanz für Viet­name­sis­che Migrant:innen zum The­ma “Psy­chis­che Fol­gen häus­lich­er Gewalt” sein. \nDie Tage­sor­d­nung des Net­zw­erk­tr­e­f­fens find­et sich hier. \nDie Teil­nahme am Net­zw­erk ist nur nach per­sön­lich­er Rück­sprache mit der Koor­di­na­torin Frau Nozo­mi Spen­ne­mann möglich. Eine verbindliche Anmel­dung per E‑Mail an Nozo­mi Spen­ne­mann ist bis 25.05.2022 erforder­lich. nozomi.spennemann@via-in-berlin.de \nHier ste­hen weit­ere Infos zum Net­zw­erk und sein­er Arbeit.
URL:https://www.via-in-berlin.de/events/27-treffen-des-netzwerks-fuer-psychische-gesundheit-von-vietnamesischen-migrantinnen/
LOCATION:FLAT-FAMILY Begegnungs- und Beratungszentrum\, Franz-Jacob-Straße 16-18\, Berlin\, 10369\, Deutschland
CATEGORIES:Netzwerktreffen
ATTACH;FMTTYPE=image/jpeg:https://www.via-in-berlin.de/wp-content/uploads/2020/09/logo_suckhoe-02-e1645390687374.jpg
END:VEVENT
END:VCALENDAR