BEGIN:VCALENDAR
VERSION:2.0
PRODID:-//VIA - ECPv5.12.2//NONSGML v1.0//EN
CALSCALE:GREGORIAN
METHOD:PUBLISH
X-WR-CALNAME:VIA
X-ORIGINAL-URL:https://www.via-in-berlin.de
X-WR-CALDESC:Veranstaltungen für VIA
REFRESH-INTERVAL;VALUE=DURATION:PT1H
X-Robots-Tag:noindex
X-PUBLISHED-TTL:PT1H
BEGIN:VTIMEZONE
TZID:Europe/Berlin
BEGIN:DAYLIGHT
TZOFFSETFROM:+0100
TZOFFSETTO:+0200
TZNAME:CEST
DTSTART:20220327T010000
END:DAYLIGHT
BEGIN:STANDARD
TZOFFSETFROM:+0200
TZOFFSETTO:+0100
TZNAME:CET
DTSTART:20221030T010000
END:STANDARD
END:VTIMEZONE
BEGIN:VEVENT
DTSTART;TZID=Europe/Berlin:20220602T130000
DTEND;TZID=Europe/Berlin:20220602T143000
DTSTAMP:20260425T210220
CREATED:20220511T210223Z
LAST-MODIFIED:20220516T100307Z
UID:4717-1654174800-1654180200@www.via-in-berlin.de
SUMMARY:Online-Workshop: Einführung in die wirkungsorientierte Projektarbeit für MO
DESCRIPTION:Die VIA Ser­vices­telle für Migrant:innenorganisationen (MO) im Interkul­turellen Kom­pe­ten­znet­zw­erk (IKMO) Berlin lädt her­zlich zu einem Online-Work­shop zum The­ma “Ein­führung in die wirkung­sori­en­tierte Pro­jek­tar­beit für MO” ein.\nWirkung­sori­en­tierte Pro­jek­tar­beit bedeutet\, ein Pro­jekt von der Wirkung her zu pla­nen und umzuset­zen. In diesem Ein­führungswork­shop wer­den fol­gende Inhalte vermittelt: \n\nWirkung­sori­en­tierung nach PHINEO\nWirkungslogik\nWirkungsziele for­mulieren\nggf. Wirkungsziele mit Indika­toren überprüfen\n\nDer Fokus liegt auf der For­mulierung der “Wirkungsziele”. Teil­nehmende kön­nen ihre Pro­jek­tziele als Beispiel einbringen. \n\nRef­er­entin: Nozo­mi Spen­ne­mann (VIA Region­alver­band Berlin/Brandenburg e.V.) \nDie Ver­anstal­tung richtet sich an neue und erfahrene Vertreter:innen von Berlin­er MO. Die Teil­nahme ist kosten­frei. Die Ver­anstal­tung find­et dig­i­tal per ZOOM statt\, der Link wird kurz vor der Ver­anstal­tung per E‑Mail zugeschickt. \nEine Anmel­dung per E‑Mail an Nina Grube ist bis spätestens 31.05.2022 erforder­lich: servicestelle@via-in-berlin.de
URL:https://www.via-in-berlin.de/events/workshop-einfuehrung-in-die-wirkungsorientierte-projektarbeit-online/
LOCATION:Digitaler Schulungsraum VIA Berlin/Brandenburg\, Berlin\, Deutschland
CATEGORIES:Qualifizierung für MO,Seminare für Migrant*innen,Workshop
ATTACH;FMTTYPE=image/jpeg:https://www.via-in-berlin.de/wp-content/uploads/2022/05/Workshop-WIrkung.jpg
END:VEVENT
BEGIN:VEVENT
DTSTART;TZID=Europe/Berlin:20220602T130000
DTEND;TZID=Europe/Berlin:20220602T150000
DTSTAMP:20260425T210220
CREATED:20220520T084355Z
LAST-MODIFIED:20220520T084355Z
UID:4747-1654174800-1654182000@www.via-in-berlin.de
SUMMARY:BEFaN Netzwerk: VIII. Fachtag 2022 | Workshop I „Besondere“ Geschichten. Auf dem Weg zur Partizipation von Müttern und Vätern im Bereich der Inklusion und Mehrsprachigkeit.
DESCRIPTION:Anmeldung für den Workshop bitte über das Online-Formular.
URL:https://www.via-in-berlin.de/events/befan-netzwerk-viii-fachtag-2022-workshop-i-besondere-geschichten-auf-dem-weg-zur-partizipation-von-muettern-und-vaetern-im-bereich-der-inklusion-und-mehrsprachigkeit/
LOCATION:per Zoom
CATEGORIES:Fachveranstaltungen,Seminare für Migrant*innen,Workshop
ATTACH;FMTTYPE=image/png:https://www.via-in-berlin.de/wp-content/uploads/2021/10/BEFaN-Baer-Logo-klein.png
END:VEVENT
END:VCALENDAR