BEGIN:VCALENDAR
VERSION:2.0
PRODID:-//VIA - ECPv5.12.2//NONSGML v1.0//EN
CALSCALE:GREGORIAN
METHOD:PUBLISH
X-WR-CALNAME:VIA
X-ORIGINAL-URL:https://www.via-in-berlin.de
X-WR-CALDESC:Veranstaltungen für VIA
REFRESH-INTERVAL;VALUE=DURATION:PT1H
X-Robots-Tag:noindex
X-PUBLISHED-TTL:PT1H
BEGIN:VTIMEZONE
TZID:Europe/Berlin
BEGIN:DAYLIGHT
TZOFFSETFROM:+0100
TZOFFSETTO:+0200
TZNAME:CEST
DTSTART:20220327T010000
END:DAYLIGHT
BEGIN:STANDARD
TZOFFSETFROM:+0200
TZOFFSETTO:+0100
TZNAME:CET
DTSTART:20221030T010000
END:STANDARD
END:VTIMEZONE
BEGIN:VEVENT
DTSTART;TZID=Europe/Berlin:20220616T130000
DTEND;TZID=Europe/Berlin:20220616T143000
DTSTAMP:20260425T221326
CREATED:20220602T131034Z
LAST-MODIFIED:20220614T113031Z
UID:4782-1655384400-1655389800@www.via-in-berlin.de
SUMMARY:Wirkungsorientierte Projektarbeit für MO II: Zielerreichung überprüfen mit Indikatoren
DESCRIPTION:Die VIA Ser­vices­telle für Migrant:innenorganisationen (MO) im Interkul­turellen Kom­pe­ten­znet­zw­erk (IKMO) Berlin lädt her­zlich zum II. Teil der Online-Work­shoprei­he “Wirkung­sori­en­tierte Pro­jek­tar­beit für MO” ein.\nWirkung­sori­en­tierte Pro­jek­tar­beit bedeutet\, ein Pro­jekt von der Wirkung her zu pla­nen und umzuset­zen. In diesem Work­shop wird sich alles um “Indika­toren und Berichter­stat­tung” drehen. Fol­gende Inhalte wer­den vermittelt: \n\nIndika­toren entwick­eln zur Über­prü­fung der Zielerreichung\nggf. Wirkungsziele anpassen\nMeth­o­d­en zur angemesse­nen Daten­er­he­bung ken­nen lernen\nÜber Wirkung berichten\n\nAngemeldete bekom­men eine Arbeitsvor­lage zur Vor­bere­itung auf den Workshop. \nRef­er­entin: Nozo­mi Spen­ne­mann (VIA Region­alver­band Berlin/Brandenburg e.V.)\n\n\nVoraus­set­zung für die Teil­nahme an diesem Work­shop ist die Teil­nahme am I. Teil “Ein­führung in die wirkung­sori­en­tierte Projektarbeit”.\n\nDie Teil­nahme ist kosten­frei. Die Ver­anstal­tung find­et dig­i­tal per ZOOM statt\, der Link wird kurz vor der Ver­anstal­tung per E‑Mail zugeschickt.\n\n\nEine Anmel­dung per E‑Mail an Nina Grube ist bis spätestens 14.06.2022 erforder­lich: servicestelle@via-in-berlin.de
URL:https://www.via-in-berlin.de/events/wirkungsorientierung-fuer-mo-indikatoren/
LOCATION:Digitaler Schulungsraum VIA Berlin/Brandenburg
CATEGORIES:Qualifizierung für MO,Seminare für Migrant*innen,Workshop
ATTACH;FMTTYPE=image/jpeg:https://www.via-in-berlin.de/wp-content/uploads/2022/06/Wirkung-II.jpg
ORGANIZER;CN="VIA%20Servicestelle%20f%C3%BCr%20MO%20im%20IKMO%20Berlin":MAILTO:servicestelle@via-in-berlin.de
END:VEVENT
END:VCALENDAR