BEGIN:VCALENDAR
VERSION:2.0
PRODID:-//VIA - ECPv5.12.2//NONSGML v1.0//EN
CALSCALE:GREGORIAN
METHOD:PUBLISH
X-WR-CALNAME:VIA
X-ORIGINAL-URL:https://www.via-in-berlin.de
X-WR-CALDESC:Veranstaltungen für VIA
REFRESH-INTERVAL;VALUE=DURATION:PT1H
X-Robots-Tag:noindex
X-PUBLISHED-TTL:PT1H
BEGIN:VTIMEZONE
TZID:Europe/Berlin
BEGIN:DAYLIGHT
TZOFFSETFROM:+0100
TZOFFSETTO:+0200
TZNAME:CEST
DTSTART:20220327T010000
END:DAYLIGHT
BEGIN:STANDARD
TZOFFSETFROM:+0200
TZOFFSETTO:+0100
TZNAME:CET
DTSTART:20221030T010000
END:STANDARD
END:VTIMEZONE
BEGIN:VEVENT
DTSTART;TZID=Europe/Berlin:20220617T160000
DTEND;TZID=Europe/Berlin:20220617T180000
DTSTAMP:20260425T221035
CREATED:20220512T121245Z
LAST-MODIFIED:20220614T112522Z
UID:4721-1655481600-1655488800@www.via-in-berlin.de
SUMMARY:Netzwerk Alter und vietnamesische Migration "Wenn ich mit meinen Eltern über das Altwerden und Lebensende rede...."
DESCRIPTION:Im Novem­ber 2021 fand der Fach­tag „Viet­name­sis­ches Berlin: Älter­w­er­den viet­name­sis­ch­er Berliner­in­nen und Berlin­er (2)“ statt\, der sich in erster Lin­ie an Ange­hörige (erwach­sene Kinder) richtete. Der Fach­tag diente zur Infor­ma­tionsver­mit­tlung in ver­schiede­nen The­men­bere­ichen\, bot aus zeitlichen Grün­den wenig Raum für aus­giebige Diskus­sio­nen\, so dass viele Fra­gen offen blieben. \nNun wollen VIA und VCARE* zusam­men alle inter­essierte Ange­hörige der 2. Gen­er­a­tion in den Aus­tausch gehen und laden zum offe­nen Gespräch­skreis „Wenn ich mit meinen Eltern über das Altwer­den und Lebensende rede…“ ein. \nIm Mit­telpunkt ste­ht die Frage der Kom­mu­nika­tion mit Eltern über die The­men wie z.B. Krankheit\, Pflege\, Tod oder Trauer\, worüber in der Fam­i­lie vor allem seit­ens der Eltern ungern gesprochen wird. Die Kinder wollen jedoch für alle Fälle eine Vor­sorge tre­f­fen\, um den Wünschen/den Bedürfnis­sen ihrer Eltern möglichst Rech­nung zu tra­gen. Anhand von konkreten Beispie­len aus der Prax­is sollen Teil­nehmende in den Aus­tausch kom­men\, was sich bewährt hat und welche Erfahrungen/Methoden/Tipps  über die Net­zw­erke von VCARE weit­er zu ver­mit­teln sind. \n(*Die Ini­tia­tive VCARE http://vcare.health/ wurde von der 2. Gen­er­a­tion viet­name­sis­ch­er Einwanderer:innen gegrün­det\, um junge viet­nam­stäm­mige Men­schen zu empow­ern und ein Net­zw­erk zum Aus­tausch und zur gegen­seit­i­gen Unter­stützung aufzubauen.) \nDamit die beruf­stäti­gen Ange­höri­gen teil­nehmen kön­nen\, find­et die Ver­anstal­tung am Fre­itag\, den 17.06.2022 von 16 bis 18 Uhr statt. Der Ort ist die Human­is­tis­che Akademie\, Brück­en­str. 5A\, 10179 Berlin\, die wir dank Interkul­turellem Hos­piz­di­enst Dong Ban Ja nutzen kön­nen. Die TN-Zahl ist jedoch begrenzt. \nFür die Teil­nehmenden aus der Ferne wird eine Onlineteil­nahme per Zoom ermöglicht. Reg­istrierung ist hier erforderlich. \nGastgeber:in: Interkul­tureller Hos­piz­di­enst Dong Ban (HVD) Ja mit Thanh Ha Pham \nKon­takt: nozomi.spennemann@via-in-berlin.de  \n 
URL:https://www.via-in-berlin.de/events/netzwerk-alter-und-vietnamesische-migration-wenn-kinder-mit-ihren-eltern-reden/
LOCATION:Humanistische Akademie\, Brückenstr. 5A\, Berlin\, 10179
CATEGORIES:Netzwerktreffen
ATTACH;FMTTYPE=image/png:https://www.via-in-berlin.de/wp-content/uploads/2022/05/Offener-Gespraechskreis-mit-Viet-Deutschen-der-2.-Generation-Post-e1655205989753.png
END:VEVENT
END:VCALENDAR