BEGIN:VCALENDAR
VERSION:2.0
PRODID:-//VIA - ECPv5.12.2//NONSGML v1.0//EN
CALSCALE:GREGORIAN
METHOD:PUBLISH
X-WR-CALNAME:VIA
X-ORIGINAL-URL:https://www.via-in-berlin.de
X-WR-CALDESC:Veranstaltungen für VIA
REFRESH-INTERVAL;VALUE=DURATION:PT1H
X-Robots-Tag:noindex
X-PUBLISHED-TTL:PT1H
BEGIN:VTIMEZONE
TZID:Europe/Berlin
BEGIN:DAYLIGHT
TZOFFSETFROM:+0100
TZOFFSETTO:+0200
TZNAME:CEST
DTSTART:20220327T010000
END:DAYLIGHT
BEGIN:STANDARD
TZOFFSETFROM:+0200
TZOFFSETTO:+0100
TZNAME:CET
DTSTART:20221030T010000
END:STANDARD
END:VTIMEZONE
BEGIN:VEVENT
DTSTART;TZID=Europe/Berlin:20220628T130000
DTEND;TZID=Europe/Berlin:20220628T150000
DTSTAMP:20260425T221300
CREATED:20220613T102612Z
LAST-MODIFIED:20220613T102738Z
UID:4896-1656421200-1656428400@www.via-in-berlin.de
SUMMARY:BEFaN Netzwerk: Online-Fachgespräch "Berliner Mehrsprachigkeitskonzept - neue Chancen und Perspektiven?"
DESCRIPTION:Im Rahmen der Veranstaltungsreihe zum VIII. Berliner Fachtags 2022 “Recht auf Mitsprache(n)” lädt das BEFaN Netzwerk zu einem Online-Fachgespräch ein.\nAnmeldung bitte unter folgendem Link.
URL:https://www.via-in-berlin.de/events/befan-netzwerk-fachgespraech-berliner-mehrsprachigkeitskonzept/
LOCATION:per Zoom
CATEGORIES:Fachveranstaltungen,Netzwerktreffen
ATTACH;FMTTYPE=image/png:https://www.via-in-berlin.de/wp-content/uploads/2021/10/BEFaN-Baer-Logo-klein.png
END:VEVENT
END:VCALENDAR