BEGIN:VCALENDAR
VERSION:2.0
PRODID:-//VIA - ECPv5.12.2//NONSGML v1.0//EN
CALSCALE:GREGORIAN
METHOD:PUBLISH
X-WR-CALNAME:VIA
X-ORIGINAL-URL:https://www.via-in-berlin.de
X-WR-CALDESC:Veranstaltungen für VIA
REFRESH-INTERVAL;VALUE=DURATION:PT1H
X-Robots-Tag:noindex
X-PUBLISHED-TTL:PT1H
BEGIN:VTIMEZONE
TZID:Europe/Berlin
BEGIN:DAYLIGHT
TZOFFSETFROM:+0100
TZOFFSETTO:+0200
TZNAME:CEST
DTSTART:20220327T010000
END:DAYLIGHT
BEGIN:STANDARD
TZOFFSETFROM:+0200
TZOFFSETTO:+0100
TZNAME:CET
DTSTART:20221030T010000
END:STANDARD
END:VTIMEZONE
BEGIN:VEVENT
DTSTART;TZID=Europe/Berlin:20220716T120000
DTEND;TZID=Europe/Berlin:20220716T180000
DTSTAMP:20260426T000113
CREATED:20220614T111326Z
LAST-MODIFIED:20220614T112200Z
UID:4909-1657972800-1657994400@www.via-in-berlin.de
SUMMARY:Sportfest zum Tag des Afrikanischen Kindes
DESCRIPTION:
URL:https://www.via-in-berlin.de/events/sportfest-zum-tag-des-afrikanischen-kindes/
LOCATION:Bühne vor dem CoLab im Görli\, Görlitzer Str. 1 Haus 3\, Berlin\, 10997\, Deutschland
CATEGORIES:Empowerment,Weitere Veranstaltungen
ATTACH;FMTTYPE=image/jpeg:https://www.via-in-berlin.de/wp-content/uploads/2022/06/PfD-Logo-Update-RZ-K-blau-72-e1655205485140.jpg
ORGANIZER;CN="Koordinierungs-%20und%20Fachstellen%20%28KUF%29%20der%20Partnerschaften%20f%C3%BCr%20Demokratie%20Friedrichshain%20%26%20Kreuzberg":MAILTO:kuf@via-in-berlin.de
END:VEVENT
END:VCALENDAR