BEGIN:VCALENDAR
VERSION:2.0
PRODID:-//VIA - ECPv5.12.2//NONSGML v1.0//EN
CALSCALE:GREGORIAN
METHOD:PUBLISH
X-WR-CALNAME:VIA
X-ORIGINAL-URL:https://www.via-in-berlin.de
X-WR-CALDESC:Veranstaltungen für VIA
REFRESH-INTERVAL;VALUE=DURATION:PT1H
X-Robots-Tag:noindex
X-PUBLISHED-TTL:PT1H
BEGIN:VTIMEZONE
TZID:Europe/Berlin
BEGIN:DAYLIGHT
TZOFFSETFROM:+0100
TZOFFSETTO:+0200
TZNAME:CEST
DTSTART:20220327T010000
END:DAYLIGHT
BEGIN:STANDARD
TZOFFSETFROM:+0200
TZOFFSETTO:+0100
TZNAME:CET
DTSTART:20221030T010000
END:STANDARD
END:VTIMEZONE
BEGIN:VEVENT
DTSTART;TZID=Europe/Berlin:20220802T170000
DTEND;TZID=Europe/Berlin:20220802T200000
DTSTAMP:20260426T010557
CREATED:20220619T154210Z
LAST-MODIFIED:20220707T125557Z
UID:4952-1659459600-1659470400@www.via-in-berlin.de
SUMMARY:Selbstständigkeit als Perspektive für den Beruf
DESCRIPTION:Anmel­dung:    anmeldung-iq@via-in-berlin.de                                               Ref­er­entin: Hat­ice Ersoy |Unternehmens­ber­a­terin\, Coach\, Dozentin\n\n❗Begren­zte Platz­zahl vor Ort\, Anmel­dung erforderlich.\n\n\n\n\nKrisen haben den Nachteil\, dass Unsicher­heit in unser Leben ein­tritt und wir plöt­zlich dazu gezwun­gen wer­den\, aktiv über die eigene finanzielle Zukun­ft nachzu­denken. Doch manch­mal bieten Krisen auch eine Chance\, etwas zu ändern\, neue Wege einzuschla­gen oder einen neuen Anfang anzus­treben. Ein­er dieser Wege ist die Selb­st­ständigkeit\, die uns die Möglichkeit geben kön­nte\, unab­hängig und flex­i­bel zu arbeit­en\, unsere Kom­pe­ten­zen auszuschöpfen und unseren Arbeit­sall­t­ag so zu gestal­ten\, wie es uns am besten passt. Schwierig sind nur die Fra­gen\, wie man den ersten Schritt macht\, wie man sich den finanziellen Unter­halt langfristig sich­ern kann und wie man strate­gisch nach­haltig in die eigene Selb­st­ständigkeit geht. In diesem Arbeits­mark­t­ge­spräch wer­den wir deswe­gen darüber sprechen\, \n\nwas Selb­st­ständigkeit bzw. Exis­ten­z­grün­dung prak­tisch bedeutet\,\nwie man sich die eigene Selb­st­ständigkeit auf­bauen kann und\nwie man Hin­dernisse strate­gisch und gezielt über­winden kann.\n\nWir – als Teil­pro­jekt „Kom­mune Interkul­turell“ im IQ-Net­zw­erk Berlin – laden Sie in Koop­er­a­tion mit Box66 und I.S.I. e.V. ganz her­zlich zu dieser Ver­anstal­tung ein. Auf­grund der erforder­lichen COVID-19-Maß­nah­men in Berlin gibt es eine begren­zte Platz­zahl und eine Anmel­dung ist erforderlich. \nDie Ver­anstal­tung find­et auf Deutsch statt. Die Teil­nahme ist kostenlos. \n 
URL:https://www.via-in-berlin.de/events/selbststaendigkeit-als-perspektive-fuer-den-beruf/
LOCATION:I.S.I. e.V.\, Kurfürstenstraße 126\, Berlin\, 10785
CATEGORIES:IQ Kommune Interkulturell,Mitgliedsorganisationen,Seminare für Migrant*innen
ATTACH;FMTTYPE=image/png:https://www.via-in-berlin.de/wp-content/uploads/2022/06/Veranstaltungsbanner-Arbeitsmarktgespräche-1.png
END:VEVENT
END:VCALENDAR