BEGIN:VCALENDAR
VERSION:2.0
PRODID:-//VIA - ECPv5.12.2//NONSGML v1.0//EN
CALSCALE:GREGORIAN
METHOD:PUBLISH
X-WR-CALNAME:VIA
X-ORIGINAL-URL:https://www.via-in-berlin.de
X-WR-CALDESC:Veranstaltungen für VIA
REFRESH-INTERVAL;VALUE=DURATION:PT1H
X-Robots-Tag:noindex
X-PUBLISHED-TTL:PT1H
BEGIN:VTIMEZONE
TZID:Europe/Berlin
BEGIN:DAYLIGHT
TZOFFSETFROM:+0100
TZOFFSETTO:+0200
TZNAME:CEST
DTSTART:20220327T010000
END:DAYLIGHT
BEGIN:STANDARD
TZOFFSETFROM:+0200
TZOFFSETTO:+0100
TZNAME:CET
DTSTART:20221030T010000
END:STANDARD
END:VTIMEZONE
BEGIN:VEVENT
DTSTART;TZID=Europe/Berlin:20220825T100000
DTEND;TZID=Europe/Berlin:20220825T130000
DTSTAMP:20260426T012253
CREATED:20220818T134225Z
LAST-MODIFIED:20220822T081906Z
UID:5117-1661421600-1661432400@www.via-in-berlin.de
SUMMARY:Online-Workshop für MO "Der Verein als Arbeitgeber II"
DESCRIPTION:Die VIA Ser­vices­telle für Migrant:innenorganisationen (MO) im Interkul­turellen Kom­pe­ten­znet­zw­erk (IKMO) Berlin lädt her­zlich zum 2. Teil des Online-Work­shops “Der Vere­in als Arbeit­ge­ber” ein.\n\nAuf­bauend auf dem 1. Work­shop-Teil\, der am 30.06.2022 stat­tfand\, wid­met sich dieser Work­shop ver­schiede­nen weit­er­führen­den Fra­gen der Arbeit­ge­ber­schaft des Vereins.\n\nIm zweit­en Teil des Work­shops soll es noch ein­mal ver­tieft um die Per­son­alkostenabrech­nung bei Finanzierung von Stellen aus mehreren Pro­jek­t­förderun­gen und um die fol­gen­den The­men gehen: \n\nGer­ingfügige Beschäf­ti­gung (Mini­jobs)\nHon­o­rarverträge (Dien­stver­trag – Werkver­trag – Leistungsvertrag)\nEhre­namt­sein­satz\nKün­stler­sozialka­sse KSK\nBetrieb­sprü­fung\n\n\nDie Teil­nahme am 1. Teil ist keine Voraus­set­zung für die Teil­nahme an diesem Work­shop! Zur Vor­bere­itung kön­nen die Unter­la­gen zum 1. Work­shop-Teil den Teil­nehmenden zur Ver­fü­gung gestellt werden.\n\nRef­er­enten: Fuat Şengül\, Jörg Volbe­d­ing & Hol­ger Förster (VIA Ser­vices­telle für MO) \n\nDie Ver­anstal­tung richtet sich an neue und erfahrene Vertreter:innen von Berlin­er MO. Die Teil­nahme ist kosten­frei. Die Ver­anstal­tung find­et dig­i­tal per ZOOM statt\, der Link wird kurz vor der Ver­anstal­tung per E‑Mail zugeschickt. \nEine Anmel­dung per E‑Mail an Nina Grube ist bis spätestens 23.08.2022 erforder­lich: servicestelle@via-in-berlin.de \n\n 
URL:https://www.via-in-berlin.de/events/online-workshop-fuer-mo-verein-als-arbeitgeber-ii/
LOCATION:Digitaler Schulungsraum VIA Berlin/Brandenburg\, Berlin\, Deutschland
CATEGORIES:Qualifizierung für MO,Seminare für Migrant*innen,Workshop
ATTACH;FMTTYPE=image/jpeg:https://www.via-in-berlin.de/wp-content/uploads/2022/05/Workshop-Verein-als-Arbeitgeber.jpg
ORGANIZER;CN="VIA%20Servicestelle%20f%C3%BCr%20MO%20im%20IKMO%20Berlin":MAILTO:servicestelle@via-in-berlin.de
END:VEVENT
END:VCALENDAR