BEGIN:VCALENDAR
VERSION:2.0
PRODID:-//VIA - ECPv5.12.2//NONSGML v1.0//EN
CALSCALE:GREGORIAN
METHOD:PUBLISH
X-WR-CALNAME:VIA
X-ORIGINAL-URL:https://www.via-in-berlin.de
X-WR-CALDESC:Veranstaltungen für VIA
REFRESH-INTERVAL;VALUE=DURATION:PT1H
X-Robots-Tag:noindex
X-PUBLISHED-TTL:PT1H
BEGIN:VTIMEZONE
TZID:Europe/Berlin
BEGIN:DAYLIGHT
TZOFFSETFROM:+0100
TZOFFSETTO:+0200
TZNAME:CEST
DTSTART:20220327T010000
END:DAYLIGHT
BEGIN:STANDARD
TZOFFSETFROM:+0200
TZOFFSETTO:+0100
TZNAME:CET
DTSTART:20221030T010000
END:STANDARD
END:VTIMEZONE
BEGIN:VEVENT
DTSTART;TZID=Europe/Berlin:20220829T140000
DTEND;TZID=Europe/Berlin:20220829T170000
DTSTAMP:20260426T011316
CREATED:20220714T144929Z
LAST-MODIFIED:20220823T122140Z
UID:5071-1661781600-1661792400@www.via-in-berlin.de
SUMMARY:Qualifizierungsseminar Wissenstransfer und Austausch zur Arbeitsmarktintegration von Geflüchteten aus der Ukraine
DESCRIPTION:Anmel­dung: anmeldung-iq@via-in-berlin.de \n\nViele Migrant*innenorganisationen set­zen sich bere­its aktiv  für die ank­om­menden Men­schen aus der Ukraine ein. Neben der hohen Moti­va­tion und Ein­satzbere­itschaft gibt es auch viele Fra­gen und Unsicher­heit­en.  In unserem Sem­i­nar wollen wir die aktuellen Bedarfe und das Stim­mungs­bild von Geflüchteten in sozialen Medi­en beleucht­en\, sowie die Beson­der­heit­en des Anerken­nungsver­fahrens und die wichti­gen Voraus­set­zun­gen für gelun­genen Arbeits­mark­te­in­stieg für diese Ziel­gruppe  besprechen. Im Aus­tausch kön­nen ihre Fra­gen von Expert*innen beant­worten werden. \nWir laden haupt- und ehre­namtliche Mitarbeiter*innen von Migrant*innenorganisationen sowie Engagierte mit Bezug zur The­matik her­zlich ein. \nDas VIA-Teil­pro­jekt „Kom­mune Interkul­turell“ im IQ-Net­zw­erk Berlin bietet Beratun­gen und Qual­i­fizierungsange­bote für MO im Bere­ich der Arbeits­mark­t­in­te­gra­tion an\, die mit Migran­tinnen\, Migranten und geflüchteten Men­schen arbeit­en. Diese Ver­anstal­tung wird in Koop­er­a­tion mit der “Faire Inte­gra­tion”\, Beratung zur Anerken­nung beru­flich­er Abschlüsse von Club Dia­log\, Social Media Beratung für Geflüchtete Men­schen aus der Ukraine “SMUK” von Mínor durchge­führt. Die Ver­anstal­tung find­et auf Deutsch statt und ist kostenlos. \nEine Anmel­dung ist erforder­lich unter: anmeldung-iq@via-in-berlin.de \nAnmel­dung:     anmeldung-iq@via-in-berlin.de \nTer­min:     29.08.2022\, 14:00–17:00 Uhr \nOrt:        4. Stock Schu­lungsraum\, Peters­burg­er Str.92\, 10247 VIA \nRef­er­entin­nen:         Julia Mer­ian | Anerken­nungs­ber­atung Club Dialog \nOlga Klus | Faire Integration \nKatery­na Gor­shko­va | SMUK Minor
URL:https://www.via-in-berlin.de/events/qualifizierungsseminar-wissenstransfer-und-austausch-zur-arbeitsmarktintegration-von-gefluechteten-aus-der-ukraine/
LOCATION:VIA — Verband für Interkulturelle Arbeit Regionalverband Berlin/Brandenburg e.V. (VIA Regional)\, Petersburger Str. 92\, Berlin\, 10247\, Deutschland
CATEGORIES:IQ Kommune Interkulturell,Qualifizierung für MO
ATTACH;FMTTYPE=image/png:https://www.via-in-berlin.de/wp-content/uploads/2022/07/Veranstaltungsbanner-Qualifizierungsseminare.png
END:VEVENT
END:VCALENDAR