BEGIN:VCALENDAR
VERSION:2.0
PRODID:-//VIA - ECPv5.12.2//NONSGML v1.0//EN
CALSCALE:GREGORIAN
METHOD:PUBLISH
X-WR-CALNAME:VIA
X-ORIGINAL-URL:https://www.via-in-berlin.de
X-WR-CALDESC:Veranstaltungen für VIA
REFRESH-INTERVAL;VALUE=DURATION:PT1H
X-Robots-Tag:noindex
X-PUBLISHED-TTL:PT1H
BEGIN:VTIMEZONE
TZID:Europe/Berlin
BEGIN:DAYLIGHT
TZOFFSETFROM:+0100
TZOFFSETTO:+0200
TZNAME:CEST
DTSTART:20220327T010000
END:DAYLIGHT
BEGIN:STANDARD
TZOFFSETFROM:+0200
TZOFFSETTO:+0100
TZNAME:CET
DTSTART:20221030T010000
END:STANDARD
END:VTIMEZONE
BEGIN:VEVENT
DTSTART;TZID=Europe/Berlin:20220903T153000
DTEND;TZID=Europe/Berlin:20220903T163000
DTSTAMP:20260426T012409
CREATED:20220819T094819Z
LAST-MODIFIED:20220824T102216Z
UID:5125-1662219000-1662222600@www.via-in-berlin.de
SUMMARY:Demokratiekonferenz der PfD Xberg "AntiSchwarzem Rassismus entgegentreten"
DESCRIPTION:  \nWeitere Infos zum Görli Jam-Fest 2022 gibt es hier.\n 
URL:https://www.via-in-berlin.de/events/demokratiekonferenz2022-xberg/
LOCATION:Bühne vor dem CoLab im Görli\, Görlitzer Str. 1 Haus 3\, Berlin\, 10997\, Deutschland
CATEGORIES:Empowerment,Fachveranstaltungen,Weitere Veranstaltungen
ATTACH;FMTTYPE=image/jpeg:https://www.via-in-berlin.de/wp-content/uploads/2022/06/PfD-Logo-Update-RZ-K-blau-72-e1655205485140.jpg
ORGANIZER;CN="Koordinierungs-%20und%20Fachstellen%20%28KUF%29%20der%20Partnerschaften%20f%C3%BCr%20Demokratie%20Friedrichshain%20%26%20Kreuzberg":MAILTO:kuf@via-in-berlin.de
END:VEVENT
END:VCALENDAR