BEGIN:VCALENDAR
VERSION:2.0
PRODID:-//VIA - ECPv5.12.2//NONSGML v1.0//EN
CALSCALE:GREGORIAN
METHOD:PUBLISH
X-WR-CALNAME:VIA
X-ORIGINAL-URL:https://www.via-in-berlin.de
X-WR-CALDESC:Veranstaltungen für VIA
REFRESH-INTERVAL;VALUE=DURATION:PT1H
X-Robots-Tag:noindex
X-PUBLISHED-TTL:PT1H
BEGIN:VTIMEZONE
TZID:Europe/Berlin
BEGIN:DAYLIGHT
TZOFFSETFROM:+0100
TZOFFSETTO:+0200
TZNAME:CEST
DTSTART:20220327T010000
END:DAYLIGHT
BEGIN:STANDARD
TZOFFSETFROM:+0200
TZOFFSETTO:+0100
TZNAME:CET
DTSTART:20221030T010000
END:STANDARD
END:VTIMEZONE
BEGIN:VEVENT
DTSTART;TZID=Europe/Berlin:20221117T130000
DTEND;TZID=Europe/Berlin:20221117T150000
DTSTAMP:20260426T055838
CREATED:20221104T111414Z
LAST-MODIFIED:20221104T112306Z
UID:5399-1668690000-1668697200@www.via-in-berlin.de
SUMMARY:BEFaN Netzwerk: Online-Seminar „Stereotypische Sprache und Bilder in Unterrichtsmaterialien als Spiegel eines kolonialen Weltbildes”
DESCRIPTION:Anmeldung bitte über das Online-Formular
URL:https://www.via-in-berlin.de/events/befan-netzwerk-online-seminar-stereotype-unterrichtsmaterialien/
LOCATION:per Zoom
CATEGORIES:Fachveranstaltungen,Workshop
ATTACH;FMTTYPE=image/jpeg:https://www.via-in-berlin.de/wp-content/uploads/2020/09/BEFAN-Logoklein.jpg
END:VEVENT
END:VCALENDAR