BEGIN:VCALENDAR
VERSION:2.0
PRODID:-//VIA - ECPv5.12.2//NONSGML v1.0//EN
CALSCALE:GREGORIAN
METHOD:PUBLISH
X-WR-CALNAME:VIA
X-ORIGINAL-URL:https://www.via-in-berlin.de
X-WR-CALDESC:Veranstaltungen für VIA
REFRESH-INTERVAL;VALUE=DURATION:PT1H
X-Robots-Tag:noindex
X-PUBLISHED-TTL:PT1H
BEGIN:VTIMEZONE
TZID:Europe/Berlin
BEGIN:DAYLIGHT
TZOFFSETFROM:+0100
TZOFFSETTO:+0200
TZNAME:CEST
DTSTART:20210328T010000
END:DAYLIGHT
BEGIN:STANDARD
TZOFFSETFROM:+0200
TZOFFSETTO:+0100
TZNAME:CET
DTSTART:20211031T010000
END:STANDARD
END:VTIMEZONE
BEGIN:VEVENT
DTSTART;TZID=Europe/Berlin:20210601T140000
DTEND;TZID=Europe/Berlin:20210601T170000
DTSTAMP:20260426T000053
CREATED:20210512T114521Z
LAST-MODIFIED:20210512T114648Z
UID:3096-1622556000-1622566800@www.via-in-berlin.de
SUMMARY:Selbstdarstellung und Ideenpräsentation – Kommunikation in der Arbeitswelt
DESCRIPTION:Ihr möchtet euch auf einen Job bewer­ben und seid zu nervös\, um selb­st­be­wusst aufzutreten? Ihr seid dabei zu grün­den\, wollt eure Geschäft­sidee pitchen und wisst nicht\, wie ihr andere davon überzeu­gen kön­nt? Die Selb­st­darstel­lung sowie die Kom­mu­nika­tion von Din­gen\, für die wir bren­nen\, wird oft genau dann schwierig\, wenn’s drauf ankommt. Als Migrant*innen sind wir gut in unser­er Arbeit\, haben aber mit mehr Hin­dernissen zu kämpfen als Men­schen\, die hier aufgewach­sen sind. Genau hier knüpft dieses Sem­i­nar an und unter­stützt uns dabei\, uns selb­st und unsere Ideen adäquat präsen­tieren zu kön­nen. In diesem Arbeits­mark­t­ge­spräch wer­den unter anderem Fra­gen beant­wortet wie \n\nwie trete ich in Vorstel­lungs­ge­sprächen sou­verän auf?\nwie präsen­tiere ich eine Idee am besten\, damit sie umge­set­zt wird?\nwelche Tools gibt es\, um selb­st­sich­er auf der Arbeit aufzutreten?\n\n  \nWir – als Teil­pro­jekt „Kom­mune Interkul­turell“ im IQ-Net­zw­erk Berlin – laden Sie in Koop­er­a­tion mit Fraue­na­lia gUG und Xochicuicatl e.V. - lateinamerikanis­ch­er Frauen­vere­in her­zlich zu dieser Ver­anstal­tung ein. Die Ver­anstal­tung find­et auf Deutsch statt und die Teil­nahme ist kostenlos. \nAuf­grund der erforder­lichen COVID-19-Maß­nah­men in Berlin wird diese Ver­anstal­tung dig­i­tal durchge­führt. Die Teilnehmer*innenzahl ist auf 20 Plätze begren­zt\, wir bit­ten um verbindliche Anmeldung. \nAnmel­dung:    anmeldung-iq@via-in-berlin.de \nRef­er­entin:    Sabine Beck | Bera­terin\, beckand­bold | Kul­tur­wis­senschaft­lerin M.A.
URL:https://www.via-in-berlin.de/events/selbstdarstellung-und-ideenpraesentation-kommunikation-in-der-arbeitswelt/
LOCATION:Berlin
CATEGORIES:IQ Kommune Interkulturell,Mitgliedsorganisationen,Seminare für Migrant*innen
ATTACH;FMTTYPE=image/png:https://www.via-in-berlin.de/wp-content/uploads/2021/05/Veranstaltungsbanner-Arbeitsmarktgespräch.png
END:VEVENT
BEGIN:VEVENT
DTSTART;TZID=Europe/Berlin:20210602T130000
DTEND;TZID=Europe/Berlin:20210602T150000
DTSTAMP:20260426T000053
CREATED:20210521T150148Z
LAST-MODIFIED:20210521T150525Z
UID:3162-1622638800-1622646000@www.via-in-berlin.de
SUMMARY:BEFaN-Netzwerk: Podiumsdiskussion "Herkunftssprachen auf die Fahnen!"
DESCRIPTION:  \nAnmel­dung bitte hier.
URL:https://www.via-in-berlin.de/events/befan-netzwerk-podiumsdiskussion-herkunftssprachen-auf-die-fahnen/
LOCATION:per Zoom
END:VEVENT
BEGIN:VEVENT
DTSTART;TZID=Europe/Berlin:20210603T100000
DTEND;TZID=Europe/Berlin:20210603T120000
DTSTAMP:20260426T000053
CREATED:20210512T080554Z
LAST-MODIFIED:20210512T080748Z
UID:3087-1622714400-1622721600@www.via-in-berlin.de
SUMMARY:6. Netzwerktreffen AG Arbeitsmarktintegration des Migrationsbeirats Mitte
DESCRIPTION:Nach der Auf­tak­tver­anstal­tung am 03. Mai 2019 möchten wir Sie nun schon zum sech­sten Net­zw­erk­tr­e­f­fen der Arbeits­gruppe (AG) Arbeit und Beschäftigung und Arbeits­mark­t­in­te­gra­tion ein­laden. Die AG hat sich zum Ziel geset­zt\, die Arbeits­mark­t­in­te­gra­tion von Zuge­wan­derten zu fördern und bei prekären Lebenssi­t­u­a­tio­nen wie Arbeit­saus­beu­tung von Migran­tinnen\, Migranten und Geflüchteten mit niedrigem Bil­dungsniveau zu unterstützen. \nWir — das VIA-Teil­pro­jekt „Kom­mune interkul­turell — Inte­gra­tion von Bezirksver­wal­tun­gen und Migrant*innenorganisationen (MO) im Kon­text der Arbeits­mark­t­in­te­gra­tion in Berlin­er Bezirken“ im IQ Lan­desnet­zw­erk Berlin laden Sie in Koop­er­a­tion mit dem Migra­tions­beirat Mitte sowie der Migra­tions­beauf­tragten des Job­cen­ters Mitte her­zlich zum 6. Tre­f­fen der AG Arbeits­mark­t­in­te­gra­tion ein: \nam Don­ner­stag den 03. Juni 2021 von 10:00 bis 12:00 Uhr. \n\n\n\n\nAm sech­sten Tre­f­fen nimmt Mari­na Man­tay\, Europabeauf­tragte und Lei­t­erin der Geschäftsstelle “Bezirk­lich­es Bündnis für Wirtschaft und Arbeit” (BBWA)” teil. Sie gibt den Ein­blick in ihre tägliche Arbeit\, die sich um Öffentlichkeitsthemen\, überbezirkliche Ver­net­zung sowie Koor­di­na­tion der ESF-Förderprogramme dreht. Im Anschluss stellt Mari­na Man­tay ein ESF gefördertes Pro­jekt aus Mitte vor. \nAnmel­dung bis spätestens zum 28. Mai 2021 unter anmeldung-iq@via-in-berlin.de. \n  \n\nAuf­grund der erforder­lichen COVID-19-Maß­nah­men in Berlin wird diese Ver­anstal­tung dig­i­tal durchgeführt.
URL:https://www.via-in-berlin.de/events/6-netzwerktreffen-ag-arbeitsmarktintegration-des-migrationsbeirats-mitte/
LOCATION:Berlin
CATEGORIES:IQ Kommune Interkulturell,Netzwerktreffen
ATTACH;FMTTYPE=image/png:https://www.via-in-berlin.de/wp-content/uploads/2021/03/Veranstaltungsbanner-Netzwerke.png
END:VEVENT
BEGIN:VEVENT
DTSTART;TZID=Europe/Berlin:20210609T100000
DTEND;TZID=Europe/Berlin:20210609T120000
DTSTAMP:20260426T000053
CREATED:20210413T115721Z
LAST-MODIFIED:20210526T110907Z
UID:2995-1623232800-1623240000@www.via-in-berlin.de
SUMMARY:Netzwerktreffen "Alter und vietnamesische Migration"
DESCRIPTION:TOP: \n\nVorstel­lung des BMG Mod­ell­pro­jek­ts Brück­en­bauerIn­nen Pal­lia­tive Care (Suphaphorn Laux/ Diakonie Stadtmitte)\nAus­tausch über die Bedarf­s­la­gen viet­name­sis­ch­er Senior*innen in der Pandemie\nAus­tausch über die Möglichkeit­en ein­er Fachver­anstal­tung „Älter wer­den viet­name­sis­ch­er Berliner­in­nen und Berlin­er 2.0: Per­spek­tive der Gen­er­a­tion Kinder“\n\nKon­takt & Anmel­dung: nozomi.spennemann@via-in-berlin.de
URL:https://www.via-in-berlin.de/events/netzwerktreffen-alter-und-vietnamesische-migration-3/
LOCATION:Digitaler Schulungsraum VIA Berlin/Brandenburg\, Berlin\, Deutschland
CATEGORIES:Netzwerktreffen
END:VEVENT
BEGIN:VEVENT
DTSTART;TZID=Europe/Berlin:20210610T100000
DTEND;TZID=Europe/Berlin:20210610T120000
DTSTAMP:20260426T000053
CREATED:20210401T105550Z
LAST-MODIFIED:20210519T105626Z
UID:3109-1623319200-1623326400@www.via-in-berlin.de
SUMMARY:10. Netzwerktreffen Steglitz-Zehlendorf
DESCRIPTION:Im Jahr 2018 ist im Bezirk Steglitz-Zehlen­dorf das Net­zw­erk zum The­ma „Arbeits­mark­t­in­te­gra­tion von Zuge­wan­derten\, ins­beson­dere von Frauen und EU- Zuge­wan­derten“ gegründet und etabliert worden. \nWir – das VIA-Teil­pro­jekt „Kom­mune interkul­turell“ im IQ Lan­desnet­zw­erk Berlin laden Sie in Koop­er­a­tion mit der Inte­gra­tions­beauf­tragten des Bezirkes und der Migra­tions­beauf­tragten des Job­cen­ters Steglitz-Zehlen­dorf her­zlich zum zehn­ten Net­zw­erk­tr­e­f­fen ein am Don­ner­stag\, den 10. Juni 2021 von 10:00 bis 12:00 Uhr. \nAls Exper­tin­nen und Experten sind dieses Mal Referent*innen von der Agen­tur für Arbeit Pots­dam — Erwerb­sleben Ver­bund Berlin-Bran­den­burg Süd mit aktuellen Infor­ma­tio­nen bezüglich der Berufs­ber­atung im Erwerb­sleben ein­ge­laden. Darüber hin­aus wird uns die Koor­di­na­torin für Allein­erziehende des Bezirks Steglitz-Zehlen­dorf das neue Net­zw­erk vorstellen sowie die Pro­jek­tleitung des Pro­jek­tes Eltern­club des Trägers Wort­laut berichten. \nTage­sor­d­nung: \n10:00 Begrüßung und Vorstellungsrunde\n10:10 Input und Diskus­sion- Agen­tur für Arbeit Pots­dam- Erwerb­sleben Ver­bund Berlin-Bran­den­burg Süd\, Herr Kunze\n10:40 Input und Diskus­sion- Koor­dinierungsstelle für Allein­erziehende\, Frau Wilde 11:00 Vorstel­lung des Pro­jekt Eltern­club\, Frau Hermann\n11:20 Austauschgespräch\n12:00 Ausklang \nAuf­grund der erforder­lichen COVID-19-Maß­nah­men in Berlin wird diese Ver­anstal­tung dig­i­tal durchgeführt. \nAnmel­dung: bis spätestens zum 04. Juni 2021 unter anmeldung-iq@via-in-berlin.de.
URL:https://www.via-in-berlin.de/events/10-netzwerktreffen-steglitz-zehlendorf/
LOCATION:Digitaler Schulungsraum VIA Berlin/Brandenburg\, Berlin\, Deutschland
CATEGORIES:IQ Kommune Interkulturell,Netzwerktreffen
ATTACH;FMTTYPE=image/png:https://www.via-in-berlin.de/wp-content/uploads/2021/05/Veranstaltungsbanner-Netzwerk.png
END:VEVENT
BEGIN:VEVENT
DTSTART;TZID=Europe/Berlin:20210610T180000
DTEND;TZID=Europe/Berlin:20210610T200000
DTSTAMP:20260426T000053
CREATED:20210601T105528Z
LAST-MODIFIED:20210601T110346Z
UID:3219-1623348000-1623355200@www.via-in-berlin.de
SUMMARY:Box66 | MBE | Infoveranstaltung "Fachkräfteeinwanderungsgesetz“ (Online)
DESCRIPTION:Die MBE — Migra­tions­ber­atung für Erwach­sene in der BOX66 lädt alle Inter­essierten zu der dig­i­tal­en Infor­ma­tionsver­anstal­tung zum Thema\n„ Fachkräf­teein­wan­derungs­ge­setz“ ein. Als Ref­er­entin ist die Fachan­wältin für Asyl- und Migra­tionsrecht Mariela Witt eingeladen. \nFol­gende Fra­gen wer­den thematisiert: \n\nWelche Arten von Fachkräften wer­den vom neuen Gesetz berücksichtigt?\nInwiefern vere­in­facht das Gesetz den Ein­tritt von Fachkräften?\nWenn ich keine Diplom- oder Arbeit­ser­fahrun­gen habe\, was sind meine Optionen?\nKön­nte ich einen Aufen­thalt­sti­tel für Arbeitssuche oder Diplo­man­erken­nung beantragen?\n\nDie Ver­anstal­tung ist kosten­frei und wird in deutsch­er Sprache mit kon­seku­tiv­er Über­set­zung ins Spanis­che durchge­führt. Für die Teil­nahme an der Ver­anstal­tung ist eine Anmel­dung per E‑Mail notwendig (Ansprech­part­ner­in­nen: Frau Lori­ta Fac­chi­ni\, Frau Rocio Vazquez). Der Link zur Ver­anstal­tung geht nach der Anmel­dung per E‑Mail zu (WICHTIG: Falls Sie keine Antwort von uns erhal­ten\, kon­trol­lieren Sie bitte Ihren Spam-Ord­ner oder schreiben Sie uns bitte erneut eine Email ggf. mit Telefonnumer). \n******************* \nVer­sión española \nEn el mar­co del pro­gra­ma MBE\, asesores en migración para adul­tos\, lxs invi­ta­mos a nue­stro próx­i­mo even­to infor­ma­ti­vo sobre la nue­va ley de inn­mi­gración para tra­ba­jadores cal­i­fi­ca­dos con la abo­ga­da Mariela Witt espe­cial­ista en dere­cho de asi­lo y migratorio. \n¿Qué tipo de tra­ba­jadores migrantes son con­sid­er­a­dos por la nue­va ley? \n¿En qué medi­da se facili­ta la migración de trabajadores? \n¿De qué opciones dispon­go si no ten­go estu­dios\, cal­i­fi­ca­ciones ni expe­ri­en­cia lab­o­ral en mi país de origen? \n¿Puedo obten­er un per­miso de res­i­den­cia para bus­car tra­ba­jo u homolog­ar mis diplo­mas y titulaciones? \nEl even­to será en alemán con tra­duc­ción con­sec­u­ti­va al español \nInscrip­ciones: mbe-box66@via-in-berlin.de. Después de la inscrip­ción recibirán el link un día antes del even­to. Si no reci­bier­an la con­fir­ma­ción de la inscrip­ción por favor ver­i­ficar en su ban­de­ja de Spam.
URL:https://www.via-in-berlin.de/events/box66-infoveranstaltung-fachkraefteeinwanderungsgesetz/
LOCATION:Digitaler Schulungsraum VIA Berlin/Brandenburg
CATEGORIES:Fachveranstaltungen,Seminare für Migrant*innen
END:VEVENT
BEGIN:VEVENT
DTSTART;TZID=Europe/Berlin:20210614T160000
DTEND;TZID=Europe/Berlin:20210614T190000
DTSTAMP:20260426T000053
CREATED:20210503T142243Z
LAST-MODIFIED:20210503T142243Z
UID:3052-1623686400-1623697200@www.via-in-berlin.de
SUMMARY:Arbeitsrecht - ein Überblick
DESCRIPTION:Sie haben einen neuen Job\, ken­nen sich aber nicht mit Arbeitsverträ­gen aus? Sie machen viele Über­stun­den und möcht­en Sie ein­fordern? Sie wur­den grund­los ent­lassen und wis­sen nicht\, warum Sie für Ihre “Ent­las­sung” unter­schreiben müssen? Wir als Migrant*innen sind gut in unser­er Arbeit\, ken­nen uns aber nicht immer mit allen arbeit­srechtlichen For­mal­itäten aus. Dies führt oft dazu\, dass wir unsere Rechte nicht ein­fordern kön­nen oder dass wir unwis­send Schritte unternehmen\, die uns schaden. Aus diesem Grund haben wir ein Arbeits­mark­t­ge­spräch organ­isiert\, das einen Überblick in das Arbeit­srecht gibt und Fra­gen beant­wortet wie \n\nauf was muss ich bei einem Ver­trag acht­en\, bevor ich unterschreibe?\nwelche Rechte habe ich\, was Urlaub\, Über­stun­den\, Krankheit betrifft?\nwas kann ich tun\, wenn ich arbeit­srechtliche Prob­leme habe?\n\n  \nWir – als Teil­pro­jekt „Kom­mune Interkul­turell“ im IQ-Net­zw­erk Berlin – laden Sie in Koop­er­a­tion mit Salam e.V. - Kul­tur- und Sport­club und dem Berlin­er Beratungszen­trum für Migra­tion und Gute Arbeit BEMA her­zlich zu dieser Ver­anstal­tung ein. \nDie Ver­anstal­tung find­et auf Deutsch statt. Bei Bedarf wird eine Sprach­mit­tlung für ara­bis­chsprachige Men­schen bere­it­gestellt. Die Teil­nahme ist kostenlos. \nAuf­grund der erforder­lichen COVID-19-Maß­nah­men in Berlin wird diese Ver­anstal­tung dig­i­tal durchgeführt. \n  \nAnmel­dung:    info@salamkulturclub.de \nRef­er­entin:    Anna Bas­ten | BEMA — Berlin­er Beratungszen­trum für Migra­tion und Gute Arbeit
URL:https://www.via-in-berlin.de/events/arbeitsrecht-ein-ueberblick/
LOCATION:Digitaler Schulungsraum VIA Berlin/Brandenburg\, Berlin\, Deutschland
CATEGORIES:IQ Kommune Interkulturell,Mitgliedsorganisationen,Seminare für Migrant*innen
ATTACH;FMTTYPE=image/png:https://www.via-in-berlin.de/wp-content/uploads/2021/05/Veranstaltungsbanner-Arbeitsmarktgespräche-1.png
END:VEVENT
BEGIN:VEVENT
DTSTART;TZID=Europe/Berlin:20210617T100000
DTEND;TZID=Europe/Berlin:20210617T130000
DTSTAMP:20260426T000053
CREATED:20210604T104351Z
LAST-MODIFIED:20210607T130628Z
UID:3237-1623924000-1623934800@www.via-in-berlin.de
SUMMARY:Freelancing – und wie funktioniert das mit den Finanzen nochmal?
DESCRIPTION:WER kann als Freelancer*in arbeit­en\, WIE funk­tion­iert Free­lanc­ing in Deutsch­land und WAS kann man damit alles machen? Mit diesen drei Fra­gen haben wir uns in unserem let­zten Arbeits­mark­t­ge­spräch am 20. Mai 2021 befasst. Auf­grund der großen Nach­frage wer­den wir in einem zweit­en Sem­i­nar nun auf die finanztech­nis­chen Rah­menbe­din­gun­gen einge­hen und Migrant*innen mit tief­gründi­gen Detail­in­for­ma­tio­nen dabei unter­stützen\, sich in Deutsch­land selb­st­ständig zu machen. In diesem Sem­i­nar wer­den wir uns mit Fra­gen rund um die Finanzen als Freelancer*in beschäfti­gen wie \n\nWie stelle ich Rechnungen?\nwie gehe ich mit meinen Einkün­ften und Kosten um?\nSozialver­sicherung\, Buch­hal­tung\, Steuern – was muss ich wissen?\n\nWir – als Teil­pro­jekt „Kom­mune Interkul­turell“ im IQ-Net­zw­erk Berlin – laden Sie in Koop­er­a­tion mit Xochicuicatl e.V. — lateinamerikanis­ch­er Frauen­vere­in her­zlich zu dieser Ver­anstal­tung ein. \nDie Ver­anstal­tung find­et auf Spanisch statt. Die Teil­nahme ist kosten­los. Auf­grund der erforder­lichen COVID-19-Maß­nah­men in Berlin wird diese Ver­anstal­tung dig­i­tal durchgeführt. \nAnmel­dung: berat.arbeit@xochicuicatl.de\nRef­er­entin: Aran­cha Vallez Zamar­ro | Coachin
URL:https://www.via-in-berlin.de/events/freelancing-und-wie-funktioniert-das-mit-den-finanzen-nochmal/
LOCATION:Digitaler Schulungsraum VIA Berlin/Brandenburg\, Berlin\, Deutschland
CATEGORIES:IQ Kommune Interkulturell,Mitgliedsorganisationen,Seminare für Migrant*innen
ATTACH;FMTTYPE=image/png:https://www.via-in-berlin.de/wp-content/uploads/2021/06/Veranstaltungsbanner-Arbeitsmarktgespräch-Xochi-2.png
END:VEVENT
BEGIN:VEVENT
DTSTART;TZID=Europe/Berlin:20210617T160000
DTEND;TZID=Europe/Berlin:20210617T190000
DTSTAMP:20260426T000053
CREATED:20210519T141143Z
LAST-MODIFIED:20210525T151558Z
UID:3143-1623945600-1623956400@www.via-in-berlin.de
SUMMARY:Vorbilder zeigen mit Yekmal: Erfolgreiche Führung – Projektmanagement
DESCRIPTION:Ein­er der häu­fig­ste Wege\, den Men­schen ein­schla­gen\, um im sozialen Bere­ich tätig zu wer­den\, ist das Pro­jek­t­man­age­ment. Pro­jek­t­man­age­ment bein­hal­tet das Ini­ti­ieren\, Pla­nen\, Steuern\, Kon­trol­lieren und Abschließen von Pro­jek­ten – Auf­gaben\, die eine aus­geprägte Führungskom­pe­tenz voraus­set­zen. Was soll­ten ange­hende Projektmanager*innen also unbe­d­ingt wis­sen – und kön­nen – um im sozialen Bere­ich erfol­gre­ich tätig zu wer­den? In diesem Event wer­den wir uns mit Fra­gen beschäfti­gen wie \n\nwie steige ich als Projektmanager*in in den sozialen Bere­ich ein?\nwelche Schwierigkeit­en bzw. Hin­dernisse sind zu beachten?\nwas sind die A und Os für gute Projektmanager*innen?\n\n  \nDiese Fachver­anstal­tung aus der Gespräch­srei­he „Vor­bilder zeigen“ gibt einen Ein­blick in Ein­stiegs- und Pro­fes­sion­al­isierungsmöglichkeit­en in Berlin. Sie wird von ein­er Per­son aus ein­er bes­timmten Com­mu­ni­ty geführt\, die hierzu­lande bere­its erfol­gre­ich tätig ist\, und richtet sich an Men­schen aus der­sel­ben Com­mu­ni­ty\, die sich auf dem Arbeits­markt behaupten möchten. \nWir – als Teil­pro­jekt „Kom­mune Interkul­turell“ im IQ-Net­zw­erk Berlin – laden Sie in Koop­er­a­tion mit Yek­mal e.V. und Box66 ganz her­zlich zu dieser Ver­anstal­tung ein. Die Ver­anstal­tung find­et auf Kur­disch statt. Die Teil­nahme ist kostenlos. \nAnmel­dung:    leitung-box66@via-in-berlin.de \nRef­er­entin:    Günay Dari­ci | Projektmanagerin
URL:https://www.via-in-berlin.de/events/vorbilder-zeigen-yekmal-erfolgreiche-fuehrung-projektmanagement/
LOCATION:Digitaler Schulungsraum VIA Berlin/Brandenburg\, Berlin\, Deutschland
CATEGORIES:IQ Kommune Interkulturell,Mitgliedsorganisationen,Seminare für Migrant*innen
ATTACH;FMTTYPE=image/png:https://www.via-in-berlin.de/wp-content/uploads/2021/05/Veranstaltungsbanner-Vorbilder-zeigen.png
END:VEVENT
BEGIN:VEVENT
DTSTART;TZID=Europe/Berlin:20210617T170000
DTEND;TZID=Europe/Berlin:20210617T200000
DTSTAMP:20260426T000053
CREATED:20210603T123411Z
LAST-MODIFIED:20210603T123411Z
UID:3228-1623949200-1623960000@www.via-in-berlin.de
SUMMARY:Straßenveranstaltung "Stop AIDS. Gib Diskriminierung keine Chance! Null Stigma!"
DESCRIPTION:Die Net­zw­erk­stelle HIV und Migra­tion gemein­sam mit Halah Al Hayik organ­isiert am 17. Juni in Neukölln eine Straßen­ver­anstal­tung gegen HIV-bezo­gene Stig­ma­tisierung und Diskri­m­inierung. Wir tre­f­fen uns um 17 Uhr am Her­man­nplatz und gehen um 18 Uhr nach Rathaus Neukölln. Bei der Aktion wer­den wir mehrsprachige Trans­par­ente mit Infor­ma­tio­nen über HIV und gegen Stig­ma hal­ten\, mit Pas­san­ten ins Gespräch kom­men und mehrsprachige Infor­ma­tions­broschüre verteilen. \nDie Hygien­eregeln wer­den eingehalten. \nWir freuen uns über Ihr/Euer Mitmachen.
URL:https://www.via-in-berlin.de/events/strassenveranstaltung-stop-aids/
LOCATION:Hermannplatz\, Berlin-Neukölln\, Hermannplatz\, Berlin
END:VEVENT
BEGIN:VEVENT
DTSTART;TZID=Europe/Berlin:20210626T140000
DTEND;TZID=Europe/Berlin:20210626T180000
DTSTAMP:20260426T000053
CREATED:20210615T114954Z
LAST-MODIFIED:20210617T075930Z
UID:3314-1624716000-1624730400@www.via-in-berlin.de
SUMMARY:Online-Fortbildung: Deine Gesundheit\, Dein Glaube – HIV-Prävention in afrikanischen Kirchengemeinden
DESCRIPTION:Im Rah­men der Maß­nahme „Deine Gesund­heit\, Dein Glaube – HIV-Präven­tion in afrikanis­chen Kirchenge­mein­den“ wer­den afrikanis­che Pas­toren\, lokale Multiplikator*innen und Koop­er­a­tionspart­ner method­isch und fach­lich weit­erge­bildet\, um HIV/STIs und Hepati­tis ‑Präven­tion im Set­ting Kirche angemessen zu gestal­ten. Darüber hin­aus strebt die Fort­bil­dung die Stärkung der lokalen Ver­net­zung sowie des Aus­tausches als Basis guter Koop­er­a­tio­nen an. \nDie Fort­bil­dung ver­mit­telt the­o­retis­che Ken­nt­nisse zur Infor­ma­tionsver­mit­tlung und Gesprächs­führung und bietet Gele­gen­heit zur Einar­beitung  in das Arbeits­feld HIV/STIs und Hepati­tis ‑Präven­tion. Dabei dienen Fall­beispiele aus der Prax­is in afrikanis­chen Kirchenge­mein­den als Übungs­felder. Die Fort­bil­dung regt zur Selb­stre­flex­ion und Auseinan­der­set­zung mit den Chan­cen und Gren­zen der HIV-Präven­tion in der Kirche an und ermöglicht es\, eigene Fra­gen einzubrin­gen und diese in der Gruppe zu bear­beit­en. Es beste­ht auch die Möglichkeit\, sich über Covid-19 auszutauschen. \nDie kosten­freie Fort­bil­dung wird von der Deutschen AIDS-Hil­fe e.V. (DAH) in enger Koop­er­a­tion mit dem Afrikanis­chen Gesund­heits- & HIV-Net­zw­erk in Deutsch­land (AGH­NiD) organ­isiert und find­et auf Deutsch und Englisch statt.  \nUm Anmel­dung wird gebeten\, entwed­er per E‑Mail an Ros­aline M’bayo  bzw. Stephen Amoah oder tele­fonisch unter 0176/59 74 33 54. \n  \n 
URL:https://www.via-in-berlin.de/events/deine-gesundheit-dein-glaube/
LOCATION:per Zoom
END:VEVENT
BEGIN:VEVENT
DTSTART;TZID=Europe/Berlin:20210628T090000
DTEND;TZID=Europe/Berlin:20210628T130000
DTSTAMP:20260426T000053
CREATED:20210603T115414Z
LAST-MODIFIED:20210603T115636Z
UID:3078-1624870800-1624885200@www.via-in-berlin.de
SUMMARY:Box66 | Offene Werkstatt - Erstberatung Gründung und Selbstständigkeit (Online)
DESCRIPTION:Diese Ver­anstal­tung find­et ab 31.05.2021 immer an jedem let­zten Mon­tag im Monat statt! \n  \n \nDie BOX66 lädt in Koop­er­a­tion mit I.S.I. e.V. alle Frauen\, die sich mit dem Gedanken beschäfti­gen\, eine selb­ständi­ge Tätigkeit auszuüben\, zur offe­nen Werk­statt “Selb­st­ständigkeit und Exis­tenzber­atung” ein. \nEs wer­den u. a. fol­gende Fra­gen und The­men besprochen: \n\nMit welch­er Geschäft­sidee möcht­en Sie sich selb­ständig machen?\nWas motiviert Sie zur Selbständigkeit?\nWo ste­hen Sie aktuell mit Ihrer Selbständigkeit?\nWelche näch­sten Schritte soll­ten Sie gehen\, damit Sie Ihren Traum der Selb­ständigkeit verwirklichen?\nWelche Coach­ing Meth­ode\, Einzel- oder Grup­pen­coach­ing ist sin­nvoll für Sie?\n\nIn diesem offe­nen Werk­stattge­spräch geben wir Ihnen einen Überblick zur klaren Entschei­dung\, ob Selb­ständigkeit für Sie eine Zukun­ftsper­spek­tive darstellt. Bei Bedarf wird Sprach­mit­tlung auf Spanisch\, Pol­nisch\, Ital­ienisch oder Franzö­sisch zur Ver­fü­gung gestellt. \nLeitung: Jen­ny Xavier Kocher­il (Grün­dungs­ber­a­terin). \nBei Inter­esse wird um Anmel­dung per E‑Mail an Remziye Uykun gebeten. \nDie Teil­nahme ist kostenfrei.
URL:https://www.via-in-berlin.de/events/box66-offene-werkstatt-erstberatung-gruendung-und-selbststaendigkeit-juni/
LOCATION:Digitaler Schulungsraum VIA Berlin/Brandenburg
CATEGORIES:Fachveranstaltungen,Seminare für Migrant*innen
END:VEVENT
END:VCALENDAR