BEGIN:VCALENDAR
VERSION:2.0
PRODID:-//VIA - ECPv5.12.2//NONSGML v1.0//EN
CALSCALE:GREGORIAN
METHOD:PUBLISH
X-WR-CALNAME:VIA
X-ORIGINAL-URL:https://www.via-in-berlin.de
X-WR-CALDESC:Veranstaltungen für VIA
REFRESH-INTERVAL;VALUE=DURATION:PT1H
X-Robots-Tag:noindex
X-PUBLISHED-TTL:PT1H
BEGIN:VTIMEZONE
TZID:Europe/Berlin
BEGIN:DAYLIGHT
TZOFFSETFROM:+0100
TZOFFSETTO:+0200
TZNAME:CEST
DTSTART:20220327T010000
END:DAYLIGHT
BEGIN:STANDARD
TZOFFSETFROM:+0200
TZOFFSETTO:+0100
TZNAME:CET
DTSTART:20221030T010000
END:STANDARD
END:VTIMEZONE
BEGIN:VEVENT
DTSTART;TZID=Europe/Berlin:20220405T090000
DTEND;TZID=Europe/Berlin:20220405T113000
DTSTAMP:20260425T181628
CREATED:20220302T124546Z
LAST-MODIFIED:20220302T134709Z
UID:4454-1649149200-1649158200@www.via-in-berlin.de
SUMMARY:Thematischen Fachrunde (Fortbildung) für vietnamesische Fachkräfte "Menschenhandel" (online per Zoom)
DESCRIPTION:Da es kaum legale Ein­reisewege für Men­schen aus Viet­nam gibt\, wer­den immer wieder die Ange­bote für die Ein­schleusung nach Europa in Anspruch genommen.\nDieser Weg ist fast immer mit hohen Schulden ver­bun­den\, so dass ein extremes Abhängigkeitsver­hält­nis in die Schleusungsstruk­turen der Tran­sit- und Ziel­län­der entste­hen kann. Aus dem Schleusungsange­bot kann sich Men­schen­han­del entwickeln. \nDie Fort­bil­dung richtet sich an viet­name­sis­che Fachkräfte der Beratungsstellen und Pro­jek­te. Sie ken­nen die die Umstände der Migra­tion aus Viet­nam und haben einen guten Zugang zu Frauen und Män­nern\, die neu in Deutsch­land sind. \nIn der ein­führen­den Fort­bil­dung soll \n\nder Unter­schied zwis­chen Schleusung und Men­schen­han­del her­aus­gear­beit­et werden\n\nund \n\nüber Wege aus diesen Abhängigkeit­en (Exit-Struk­turen) gesprochen werden.\n\nSchließlich soll gemein­sam mit teil­nehmenden Fachkräften disku­tiert wer­den\, welchen Beitrag sie an der Basis in den Com­mu­ni­ties leis­ten kön­nen und wann und wie fach­liche Hil­fen einzu­holen sind. \nBan Ying e.V. berät seit über 30 Jahren Frauen weltweit (mit dem Schw­er­punkt Asien und Afri­ka)\, die Betrof­fene von Aus­beu­tung und Men­schen­han­del sind. \nThe­ma­tis­che Fachrunde ist eine Qual­i­fizierungsrei­he für MO. Teil­nehmen kön­nen haupt- und ehre­namtliche Mitarbeiter*innen ein­er Migrant*innenorganisation.Die Teil­nahme ist kosten­los. Den Teil­nah­melink für Zoom-Meet­ing erhal­ten Sie nach der Anmel­dung bis zum 29.03.2022 an: nozomi.spennemann@via-in-berlin.de.  \nEine Ver­anstal­tung in Koop­er­a­tion mit:
URL:https://www.via-in-berlin.de/events/thematischen-fachrunde-fuer-vietnamesische-fachkraefte-menschenhandel/
LOCATION:Digitaler Schulungsraum VIA Berlin/Brandenburg\, Berlin\, Deutschland
CATEGORIES:Qualifizierung für MO
END:VEVENT
BEGIN:VEVENT
DTSTART;TZID=Europe/Berlin:20220428T100000
DTEND;TZID=Europe/Berlin:20220428T130000
DTSTAMP:20260425T181628
CREATED:20220401T101313Z
LAST-MODIFIED:20220413T104908Z
UID:4610-1651140000-1651150800@www.via-in-berlin.de
SUMMARY:Freelancing - Praxistipps für den Arbeitsalltag  Trabajar como Freelancer: consejos prácticos para el día a día
DESCRIPTION:Anmel­dung:    anmeldung-iq@via-in-berlin.de                                           Referent*in: Berta Blan­co Gar­cia | Bera­terin für Freelancer*innen \n❗Begren­zte Platz­zahl vor Ort. Bitte geben Sie an\, in welch­er Form Sie teil­nehmen möcht­en. Alle\, die keinen Platz vor Ort erhal­ten haben\, kön­nen via Zoom teilnehmen. \nⓘ Español: ver abajo \n\nFree­lanc­ing gibt uns ein­er­seits große Frei­heit in unserem Arbeit­sall­t­ag\, kann aber auch gle­ichzeit­ig über­wälti­gend sein\, wenn es um die bürokratis­chen Dinge geht\, um die wir uns küm­mern müssen. Aus diesem Grund wer­den wir in diesem Arbeits­mark­t­ge­spräch über genau das The­ma sprechen\, das alle Freelancer*innen beschäftigt: den bürokratis­chen Dschun­gel – und wie wir am effek­tivsten damit umge­hen kön­nen. Es wer­den Fra­gen beant­wortet wie \n\nwelche bürokratis­che Vor- und Nachteile habe ich als Freelancer*in?\num welche bürokratis­chen Angele­gen­heit­en muss ich mich vor Beginn aber auch während mein­er freiberu­flichen Tätigkeit kümmern?\nWelche Meth­o­d­en gibt es\, um bürokratis­che Hür­den zu überwinden?\n\nWir – als Teil­pro­jekt „Kom­mune Interkul­turell“ im IQ Net­zw­erk Berlin – laden Sie in Koop­er­a­tion mit Xochicuicatl e.V. - lateinamerikanis­ch­er Frauen­vere­in her­zlich zu dieser Ver­anstal­tung ein. \nDie Ver­anstal­tung find­et auf Spanisch statt. Die Teil­nahme ist kostenlos. \nAuf­grund der Coro­na-Pan­demie wird dieses Arbeits­mark­t­ge­spräch als Hybrid-Ver­anstal­tung durchge­führt (begren­zte Plätze vor Ort). Anmel­dung bis zum 25. April 2022 unter anmeldung-iq@via-in-berlin.de.  Dies ist eine Hybrid-Ver­anstal­tung\, geben Sie bei der Anmel­dung an\, in welch­er Form Sie teil­nehmen möcht­en. Weit­er unten find­en Sie Infor­ma­tio­nen zu den Hygien­eregelun­gen für die und während der Veranstaltung. \n  \nBesondere Teilnahmebedingungen bei Hybridveranstaltungen in Zusammenhang mit der Corona-Pandemie\n\nAuf­grund der Coro­na-Pan­demie gibt es nur begren­zt Plätze vor Ort. Alle\, die sich nach der Erre­ichung dieser Zahl anmelden\, haben aber die Möglichkeit\, via Zoom an dieser Ver­anstal­tung teilzunehmen.\n\n\nUm auch weit­er­hin die Gesund­heit aller Teil­nehmenden sich­er­stellen zu kön­nen\, dür­fen inner­halb geschlossen­er Räume (nicht jedoch außer­halb) grund­sät­zlich nur voll­ständig geimpfte\, gene­sene oder neg­a­tiv getestete Per­so­n­en (max. 24 Stun­den alter Anti­gen-Schnell­test) mit einem entsprechen­den Nach­weis teil­nehmen. In den Räum­lichkeit­en beste­ht weit­er­hin Maskenpflicht\, unab­hängig des Impfstatus.\nWir behal­ten uns vor\, dieses Tre­f­fen online durchzuführen\, sollte ein Präsen­ztr­e­f­fen auf­grund von COVID-19 nicht mehr vertret­bar sein.\n\n  \n\nTrabajar como Freelancer: consejos prácticos para el día a día\nEl tra­ba­jo como Free­lance nos da una gran lib­er­tad en nues­tra vida lab­o­ral diaria y al mis­mo tiem­po\, puede lle­gar a resul­tar abru­mado­ra toda la buro­c­ra­cia que hay que lidiar\nDurante la char­la\, inter­cam­biare­mos expe­ri­en­cias\, dudas y tratare­mos de respon­der cues­tiones como: \n\n¿Qué ven­ta­jas e incon­ve­nientes ten­go como Freelancer?\n¿Qué cues­tiones buro­cráti­cas ten­go que resolver tan­to antes de empezar las activi­dades como durante el tiem­po que ejerza mi tra­ba­jo como Freelancer?\n¿Qué podemos hac­er para super­ar los obstácu­los buro­cráti­cos sin morir en el intento?\n\nTan­to el Proyec­to “Kom­mune Interkul­turell” (VIA e.V.) de la Red IQ de Berlín como la Aso­ciación de Mujeres Lati­noamer­i­canas Xochicuicatl e.V\, ten­emos el plac­er de invi­tar­las a par­tic­i­par en este encuentro \nEl acto se realizará en español y la par­tic­i­pación es gra­tui­ta. La Char­la se realizará en un for­ma­to híbri­do (on line y prs­es­en­cial\, con plazas limitadas) \nInscrip­ción: Reg­istro antes del 25 de abril de 2022 en anmeldung-iq@via-in-berlin.de\nFecha: 28. Abril 2022\, 10:00 — 13:00 h.\nLugar: VIA Dig­i­taler Schulungsraum\,\nXochicuicatl e.V.\, Winsstraße 58\, 10405 Berlin (sesión presencial)\nPonente: Berta Blan­co Gar­cía | Aseso­ra para Freelancer*innen \n\nVIA-Teilprojekt “Kommune Interkulturell” goes digital\nDas VIA-Teil­pro­jekt “Kom­mune Interkul­turell” möchte Teilnehmer*innen während der COVID-19-Pan­demie die Möglichkeit geben\, sich sich­er und gesund­heits­be­wusst weit­erzu­bilden. Aus diesem Grund bieten wir unsere Sem­i­nare und Work­shops nun auch online an. Melden Sie sich an und wir ver­schick­en Ihnen ein paar Tage vor dem Arbeits­mark­t­ge­spräch den Veranstaltungslink.
URL:https://www.via-in-berlin.de/events/freelancing-praxistipps-arbeitsalltag-trabajar-freelancer-consejos-practicos/
LOCATION:Xochicuicatl\, Winsstraße 58\, 10405\, Berlin
CATEGORIES:IQ Kommune Interkulturell,Mitgliedsorganisationen,Seminare für Migrant*innen
ATTACH;FMTTYPE=image/png:https://www.via-in-berlin.de/wp-content/uploads/2022/03/Veranstaltungsbanner-Arbeitsmarktgespräche.png
END:VEVENT
BEGIN:VEVENT
DTSTART;TZID=Europe/Berlin:20220428T100000
DTEND;TZID=Europe/Berlin:20220428T130000
DTSTAMP:20260425T181628
CREATED:20220412T092513Z
LAST-MODIFIED:20220420T173953Z
UID:4640-1651140000-1651150800@www.via-in-berlin.de
SUMMARY:Projektmanagement in MO I: Einführung in das Projektmanagement
DESCRIPTION:Die VIA Ser­vices­telle für Migrant:innenorganisationen (MO) im Interkul­turellen Kom­pe­ten­znet­zw­erk (IKMO) Berlin lädt her­zlich zu Teil I ein­er vierteili­gen mod­u­laren Work­shoprei­he zum The­ma “Pro­jek­t­man­age­ment in MO” ein. \nMod­ul I wird sich mit der Ein­führung in das Pro­jek­t­man­age­ment befassen und u. a. auf die fol­gen­den Aspek­te eingehen:\n• Finanzierung des Vereins\n• Was ist ein Projekt?\n• Grund­la­gen der Projektförderung\n• Typen der Projektförderung\n• Ablauf und Plan eines Pro­jek­ts (Pro­jek­t­phasen)\n• Projektantrag \nRef­er­enten: Hol­ger Förster & Fuat Şengül (VIA Region­alver­band Berlin/Brandenburg e.V.) \nDie Ver­anstal­tung richtet sich an neue und erfahrene Vertreter:innen von Berlin­er MO. Die Teil­nahme ist kosten­frei. Die Ver­anstal­tung find­et dig­i­tal per ZOOM statt\, der Link wird kurz vor der Ver­anstal­tung per E‑Mail zugeschickt. \nEine Anmel­dung per E‑Mail an Nina Grube ist bis spätestens 26.04.2022 erforder­lich: servicestelle@via-in-berlin.de. \n  \nHier geht es zu den anderen Workshops\nPro­jek­t­man­age­ment in MO II: Fördertöpfe und –pro­gramme \nPro­jek­t­man­age­ment in MO III: Wie funk­tion­iert ein Projekt? \nPro­jek­t­man­age­ment in MO IV: Ver­wen­dungsnach­weis und Abschlussbericht
URL:https://www.via-in-berlin.de/events/projektmanagement-in-migrantinnenorganisationen-i-einfuehrung-in-das-projektmanagement/
LOCATION:Digitaler Schulungsraum VIA Berlin/Brandenburg\, Berlin\, Deutschland
CATEGORIES:Qualifizierung für MO,Seminare für Migrant*innen,Workshop
ATTACH;FMTTYPE=image/png:https://www.via-in-berlin.de/wp-content/uploads/2022/04/Projektmanagement-in-MO-1-e1738058720650.png
ORGANIZER;CN="VIA%20Servicestelle%20f%C3%BCr%20MO%20im%20IKMO%20Berlin":MAILTO:servicestelle@via-in-berlin.de
END:VEVENT
END:VCALENDAR