BEGIN:VCALENDAR
VERSION:2.0
PRODID:-//VIA - ECPv5.12.2//NONSGML v1.0//EN
CALSCALE:GREGORIAN
METHOD:PUBLISH
X-WR-CALNAME:VIA
X-ORIGINAL-URL:https://www.via-in-berlin.de
X-WR-CALDESC:Veranstaltungen für VIA
REFRESH-INTERVAL;VALUE=DURATION:PT1H
X-Robots-Tag:noindex
X-PUBLISHED-TTL:PT1H
BEGIN:VTIMEZONE
TZID:Europe/Berlin
BEGIN:DAYLIGHT
TZOFFSETFROM:+0100
TZOFFSETTO:+0200
TZNAME:CEST
DTSTART:20220327T010000
END:DAYLIGHT
BEGIN:STANDARD
TZOFFSETFROM:+0200
TZOFFSETTO:+0100
TZNAME:CET
DTSTART:20221030T010000
END:STANDARD
END:VTIMEZONE
BEGIN:VEVENT
DTSTART;TZID=Europe/Berlin:20220505T100000
DTEND;TZID=Europe/Berlin:20220505T130000
DTSTAMP:20260425T194100
CREATED:20220414T115300Z
LAST-MODIFIED:20220420T174027Z
UID:4647-1651744800-1651755600@www.via-in-berlin.de
SUMMARY:Projektmanagement in MO II: Fördertöpfe und –programme
DESCRIPTION:Die VIA Ser­vices­telle für Migrant:innenorganisationen (MO) im Interkul­turellen Kom­pe­ten­znet­zw­erk (IKMO) Berlin lädt her­zlich zu Teil II ein­er vierteili­gen Work­shoprei­he zum The­ma “Pro­jek­t­man­age­ment in MO” ein. \nTeil II wird sich mit Fördertöpfen und –pro­gram­men befassen und u. a. auf die fol­gen­den Aspek­te eingehen: \n\nGrund­la­gen der Pro­jek­t­förderung aus öffentlich­er Hand\nPro­gramm-Auss­chrei­bun­gen\, Inter­essen­bekun­dungsver­fahren\, Bewil­li­gungs- und Zuwendungsverfahren\nVorstel­lung ein­er Auswahl von Fördertöpfen und Pro­gram­men für MO (auf kom­mu­naler\, Lan­des- und Bundesebene)\nFörderung durch Stiftungen\n\nRef­er­enten: Hol­ger Förster & Fuat Şengül (VIA Region­alver­band Berlin/Brandenburg e.V.) \nDie Ver­anstal­tung richtet sich an neue und erfahrene Vertreter:innen von Berlin­er MO. Die Teil­nahme ist kosten­frei. Die Ver­anstal­tung find­et dig­i­tal per ZOOM statt\, der Link wird kurz vor der Ver­anstal­tung per E‑Mail zugeschickt. \nEine Anmel­dung per E‑Mail an Nina Grube ist bis spätestens 03.05.2022 erforder­lich: servicestelle@via-in-berlin.de. \n  \nHier geht es zu den anderen Workshops\nPro­jek­t­man­age­ment in MO I: Ein­führung in das Projektmanagement \nPro­jek­t­man­age­ment in MO III: Wie funk­tion­iert ein Projekt? \nPro­jek­t­man­age­ment in MO IV: Ver­wen­dungsnach­weis und Abschlussbericht
URL:https://www.via-in-berlin.de/events/projektmanagement-in-mo-ii-foerdertoepfe-und-programme/
LOCATION:Digitaler Schulungsraum VIA Berlin/Brandenburg\, Berlin\, Deutschland
CATEGORIES:Qualifizierung für MO,Seminare für Migrant*innen,Workshop
ATTACH;FMTTYPE=image/png:https://www.via-in-berlin.de/wp-content/uploads/2022/04/Projektmanagement-in-MO-2.png
ORGANIZER;CN="VIA%20Servicestelle%20f%C3%BCr%20MO%20im%20IKMO%20Berlin":MAILTO:servicestelle@via-in-berlin.de
END:VEVENT
BEGIN:VEVENT
DTSTART;TZID=Europe/Berlin:20220512T100000
DTEND;TZID=Europe/Berlin:20220512T130000
DTSTAMP:20260425T194100
CREATED:20220414T121007Z
LAST-MODIFIED:20220420T174127Z
UID:4651-1652349600-1652360400@www.via-in-berlin.de
SUMMARY:Projektmanagement in MO III: Wie funktioniert ein Projekt?
DESCRIPTION:Die VIA Ser­vices­telle für Migrant:innenorganisationen (MO) im Interkul­turellen Kom­pe­ten­znet­zw­erk (IKMO) Berlin lädt her­zlich zu Teil III ein­er vierteili­gen Work­shoprei­he zum The­ma “Pro­jek­t­man­age­ment in MO” ein. \nTeil III wird sich mit der Frage “Wie funk­tion­iert ein Pro­jekt?” befassen und u. a. auf die fol­gen­den Aspek­te eingehen: \n\nDas Pro­jekt vom Konzept bis zum Verwendungsnachweis\nInstru­mente und Meth­o­d­en der Projektumsetzung\nPer­son­alein­satz im Projekt\nFinanz­pla­nung und –Con­trol­ling\, Mit­te­labruf und –ein­satz\nBerichtswe­sen\n\nRef­er­enten: Hol­ger Förster & Fuat Şengül (VIA Region­alver­band Berlin/Brandenburg e.V.) \nDie Ver­anstal­tung richtet sich an neue und erfahrene Vertreter:innen von Berlin­er MO. Die Teil­nahme ist kosten­frei. Die Ver­anstal­tung find­et dig­i­tal per ZOOM statt\, der Link wird kurz vor der Ver­anstal­tung per E‑Mail zugeschickt. \nEine Anmel­dung per E‑Mail an Nina Grube ist bis spätestens 10.05.2022 erforder­lich: servicestelle@via-in-berlin.de. \n  \nHier geht es zu den anderen Workshops\nPro­jek­t­man­age­ment in MO I: Ein­führung in das Projektmanagement \nPro­jek­t­man­age­ment in MO II: Fördertöpfe und –pro­gramme \nPro­jek­t­man­age­ment in MO IV: Ver­wen­dungsnach­weis und Abschlussbericht
URL:https://www.via-in-berlin.de/events/projektmanagement-in-mo-iii-wie-funktioniert-ein-projekt/
LOCATION:Digitaler Schulungsraum VIA Berlin/Brandenburg\, Berlin\, Deutschland
CATEGORIES:Qualifizierung für MO,Seminare für Migrant*innen,Workshop
ATTACH;FMTTYPE=image/png:https://www.via-in-berlin.de/wp-content/uploads/2022/04/Projektmanagement-in-MO-3.png
ORGANIZER;CN="VIA%20Servicestelle%20f%C3%BCr%20MO%20im%20IKMO%20Berlin":MAILTO:servicestelle@via-in-berlin.de
END:VEVENT
BEGIN:VEVENT
DTSTART;TZID=Europe/Berlin:20220519T100000
DTEND;TZID=Europe/Berlin:20220519T130000
DTSTAMP:20260425T194100
CREATED:20220414T120955Z
LAST-MODIFIED:20220420T174148Z
UID:4652-1652954400-1652965200@www.via-in-berlin.de
SUMMARY:Projektmanagement in MO IV: Verwendungsnachweis und Abschlussbericht
DESCRIPTION:Die VIA Ser­vices­telle für Migrant:innenorganisationen (MO) im Interkul­turellen Kom­pe­ten­znet­zw­erk (IKMO) Berlin lädt her­zlich zu Teil IV ein­er vierteili­gen Work­shoprei­he zum The­ma “Pro­jek­t­man­a­gen­emt in MO” ein. \nTeil IV wird sich mit der Frage “Ver­wen­dungsnach­weis und Abschluss­bericht” befassen und u. a. auf die fol­gen­den Aspek­te eingehen: \n\nGrund­la­gen des Zuwen­dungsrechts (ANBest.\, LHO\, BHO usw.)\nFinanz­con­trol­ling II\nZahlen­mäßiger Nachweis\nBelegerfas­sung\, ‑führung und –über­sicht\nPro­jek­t­bericht\nNach­haltige Doku­men­ta­tion und Öffentlichkeitsarbeit\nRück­forderung von Mitteln\n\nRef­er­enten: Hol­ger Förster & Fuat Şengül (VIA Region­alver­band Berlin/Brandenburg e.V.) \nDie Ver­anstal­tung richtet sich an neue und erfahrene Vertreter:innen von Berlin­er MO. Die Teil­nahme ist kosten­frei. Die Ver­anstal­tung find­et dig­i­tal per ZOOM statt\, der Link wird kurz vor der Ver­anstal­tung per E‑Mail zugeschickt. \nEine Anmel­dung per E‑Mail an Nina Grube ist bis spätestens 17.05.2022 erforder­lich: servicestelle@via-in-berlin.de. \n  \nHier geht es zu den anderen Workshops\nPro­jek­t­man­age­ment in MO I: Ein­führung in das Projektmanagement \nPro­jek­t­man­age­ment in MO II: Fördertöpfe und –pro­gramme \nPro­jek­t­man­age­ment in MO III: Wie funk­tion­iert ein Projekt?
URL:https://www.via-in-berlin.de/events/projektmanagement-in-mo-iv-verwendungsnachweis-und-abschlussbericht/
LOCATION:Digitaler Schulungsraum VIA Berlin/Brandenburg\, Berlin\, Deutschland
CATEGORIES:Qualifizierung für MO,Seminare für Migrant*innen,Workshop
ATTACH;FMTTYPE=image/png:https://www.via-in-berlin.de/wp-content/uploads/2022/04/Projektmanagement-in-MO-4.png
ORGANIZER;CN="VIA%20Servicestelle%20f%C3%BCr%20MO%20im%20IKMO%20Berlin":MAILTO:servicestelle@via-in-berlin.de
END:VEVENT
BEGIN:VEVENT
DTSTART;TZID=Europe/Berlin:20220521T200000
DTEND;TZID=Europe/Berlin:20220522T220000
DTSTAMP:20260425T194100
CREATED:20220520T091057Z
LAST-MODIFIED:20220520T091129Z
UID:4760-1653163200-1653256800@www.via-in-berlin.de
SUMMARY:Aufführungen des Theaterprojekts "Kontakt gesucht"
DESCRIPTION:Der VIA Region­alver­band lädt im Rah­men seines Koop­er­a­tionspro­jek­ts mit der Hel­lenis­chen Gemeinde zu Berlin e.V.\, dem Interkul­turellen Frauen- und Fam­i­lien­zen­trum To Spi­ti und dem TAK The­ater Auf­bau Kreuzberg gGmbH zu den Vorstel­lun­gen des The­ater­pro­jek­ts “Kon­takt gesucht” ein.  \n „Hal­lo. Ich bin kein Schaus­piel­er. Ich bin ein Wesen mit 16 Köpfen. Die Bühne ist heute mein Zuhause\, die Garder­obe mein Wohnzimmer.\nIch ste­he heute vor euch\, um meine Gefüh­le und Gedanken zu offen­baren. Es ist an der Zeit\, dass ihr seht\, was in mir vorge­ht. Wer ich bin. \nIn der näch­sten Stunde werde ich Geschicht­en men­schlichen Kon­tak­ts mit­teilen.Anschnallen! Wir wer­den in die Sonne und die ferne Zukun­ft reisen. \nParis und das Meer wer­den uns während der Reise begleit­en. Pup­pen\, Tiere und Men­schen\, legt euer Desin­fek­tion­s­mit­tel auf und legt los!“  \n„Γεια σας. Δεν είμαι ηθοποιός. Είμαι μια οντότητα με 16 κεφάλια. Η σκηνή είναι το σπίτι μου για αυτές τις μέρες\, το καμαρίνι είναι το σαλόνι μου.\nΒρίσκομαι απόψε ενώπιων σας για να σας ανοίξω την καρδία και το μυαλό μου. Ήρθε η στιγμή\, τα βιώματα και οι σκέψεις μου να ζωντανέψουν μπροστά στα μάτια σας.\nΓια την επόμενη ώρα θα μοιραστούμε εμπειρίες Ανθρώπινης Επαφής. Προσδεθείτε. Θα ταξιδέψουμε στον ήλιο και στο μακρινό μέλλον.\nΤο Παρίσι και η θάλασσα θα συντροφεύουν το ταξίδι μας. Κούκλες\, Ζώα και Άνθρωποι\, βάλτε το αντισηπτικό σας και ξεκινάμε.”  \nVon & Mit: Anna-Maria Sidiropoulou | Anto­nia Chris­tou | Dim­i­tra Tsiba |\nElp­i­da Dami­ana­ki | Evan­gelia Markar­i­an| Evi Ska­li­di |Geor­gia Frantz |\nIason Wag­n­er| Ifi­ge­nia Chris­tou | Ioli Karani­ka | Katia Evangeliou |\nLouiza Voul­gari | Nefe­li Ntoula | Orestis Karanikas | Reve­ka Ntan­ta­mi | Valentin Thomaidis \nRegie: Ele­na Sokra­tous | Michail Fotopoulos\nFotos: Pana­gi­o­tis Paschalidis\nMusik & Video: Michail Fotopou­los\nÜber­set­zung: Rosa Eichack­er \n\n\nNur mit Reservierung unter: 017680692712 / elena-soc@hotmail.com\n 
URL:https://www.via-in-berlin.de/events/auffuehrungen-des-theaterprojekts-kontakt-gesucht/
LOCATION:TAK Theater\, Aufbau Haus am Moritzplatz Prinzenstrasse 85 F\, 10969 Berlin\, Berlin\, 10969\, Deutschland
CATEGORIES:Ausstellungen,Lesung,Vernissage,Weitere Veranstaltungen
ATTACH;FMTTYPE=image/jpeg:https://www.via-in-berlin.de/wp-content/uploads/2022/05/Poster-digital.jpg
END:VEVENT
BEGIN:VEVENT
DTSTART;TZID=Europe/Berlin:20220531T170000
DTEND;TZID=Europe/Berlin:20220531T200000
DTSTAMP:20260425T194100
CREATED:20220516T174439Z
LAST-MODIFIED:20220524T112501Z
UID:4735-1654016400-1654027200@www.via-in-berlin.de
SUMMARY:Ehrenamt als Schlüssel für den Karrierestart für soziale Berufe
DESCRIPTION:Anmel­dung: leitung-box66@via-in-berlin.de                    Ort: BOX66\, Dolziger Straße 16\, 10247 Berlin                    Ref­er­entin: Doro­ta Kot | Kul­tur­man­agerin \n\nEin Kar­ri­er­estart als Migrant*in ist nicht immer ein­fach\, vor allem\, wenn man einen Beruf ausübt\, der von hoher Konkur­renz auf dem Arbeits­markt geprägt ist. In diesem Vor­bilder zeigen wird uns deswe­gen die Kul­tur­man­agerin Doro­ta Kot erk­lären\, warum und wie Ehre­namt dazu genutzt wer­den kann\, um den Beruf­se­in­stieg zu erzie­len. Wir wer­den unter anderem darüber sprechen\, \n\nwas Ehre­namt genau ist und warum man es machen sollte\nwie man den Sprung vom Ehre­namt in den Beruf schaf­fen kann und\nwie die per­sön­lichen Erfahrun­gen der Ref­er­entin mit dem Ehre­namt zum Kar­ri­er­estart beitra­gen kon­nten und wie dieser Prozess aussah.\n\nDiese Fachver­anstal­tung aus der Gespräch­srei­he „Vor­bilder zeigen“ gibt einen Ein­blick in Ein­stiegs- und Pro­fes­sion­al­isierungsmöglichkeit­en in Berlin. Sie wird von ein­er Per­son aus Ihrer Com­mu­ni­ty geführt\, die hierzu­lande bere­its erfol­gre­ich tätig ist\, und richtet sich an Men­schen aus der­sel­ben Com­mu­ni­ty\, die sich auf dem Arbeits­markt behaupten möchten. \nWir – als Teil­pro­jekt „Kom­mune Interkul­turell“ im IQ-Net­zw­erk Berlin – laden Sie in Koop­er­a­tion mit Box66 ganz her­zlich zu dieser Ver­anstal­tung ein. Die Ver­anstal­tung find­et auf Pol­nisch statt. Die Teil­nahme ist kosten­los. Auf­grund der erforder­lichen COVID-19-Maß­nah­men in Berlin gibt es eine begren­zte Platz­zahl und eine Anmel­dung ist erforderlich. \nBesondere Teilnahmebedingungen bei Veranstaltungen\n\nAuf­grund der Coro­na-Pan­demie gibt es nur begren­zt Plätze vor Ort.\n\nUm auch weit­er­hin die Gesund­heit aller Teil­nehmenden sich­er­stellen zu kön­nen\, dür­fen inner­halb geschlossen­er Räume (nicht jedoch außer­halb) grund­sät­zlich nur voll­ständig geimpfte\, gene­sene oder neg­a­tiv getestete Per­so­n­en (max. 24 Stun­den alter Anti­gen-Schnell­test) mit einem entsprechen­den Nach­weis teil­nehmen. In den Räum­lichkeit­en beste­ht weit­er­hin Maskenpflicht\, unab­hängig des Impfstatus.\n\n\nWir behal­ten uns vor\, dieses Tre­f­fen online durchzuführen\, sollte ein Präsen­ztr­e­f­fen auf­grund von COVID-19 nicht mehr vertret­bar sein.\n\n\nWolontariat jako klucz do kariery w zawodach socjalnych\nLicz­ba miejsc jest ograniczona. \nProsimy o zgłoszenia drogą mailową: leitung-box66@via-in-berlin.de \nWydarze­nie odbędzie się w języku polskim. \nRef­er­en­t­ka: Doro­ta Kot\, menedżer­ka kultury \nRozpoczę­cie kari­ery jako migrant­ka jest częs­to niełatwe\, szczegól­nie w zawodach\, w których konkurenc­ja na rynku jest duża. Dlat­ego w naszym wydarze­niu z cyk­lu Vor­bilder zeigen (Pokazy­wanie przykładów) menedżer­ka kul­tu­ry Doro­ta Kot wyjaśni nam\, jak wolon­tari­at może służyć rozwi­ja­niu dro­gi zawodowej w tej branży. \nBędziemy roz­maw­iać między inny­mi o tym: \n\nCzym jest wolon­tari­at i dlaczego powin­no się go praktykować?\nJak dokon­ać prze­jś­cia z wolon­tariatu do pełnopłat­nej pracy?\nJak oso­biste doświad­czenia ref­er­en­t­ki wpłynęły na jej rozwój kari­ery i jak wyglą­dał ten proces?\n\nWydarze­nie z cyk­lu Vor­bilder zeigen daje nam wgląd w pro­cesy rozpoczy­na­nia i pro­fesjon­al­iza­cji kari­ery w Berlin­ie. Jest prowad­zone przez osobę z Waszego com­mu­ni­ty\, która w danej dziedzinie już osią­ga sukcesy i skierowane do osób\, które chci­ały­by rozwinąć się na tute­jszym rynku pracy. \nMy\, jako część pro­jek­tu Kom­mune Interkul­turell w IQ-Net­zw­erk w Berlin­ie serdecznie zaprasza­my Was do wzię­cia udzi­ału w tym wydarzeniu. \nOdbędzie się ono w języku pol­skim\, a udzi­ał jest bezpłatny. \nZe wzglę­du na sytu­ację pan­demiczną związaną z Covid-19\,  licz­ba miejsc jest ogranic­zona\, dlat­ego wyma­gane jest wcześniejsze zgłosze­nie drogą mailową. \n  \nSzczególne warunki dotyczące wydarzeń z udziałem osobistym na miejscu:\nLicz­ba miejsc w pomieszczeni­ach zamknię­tych jest ogranic­zona. Aby zapewnić dostate­czną ochronę zdrowia wszys­t­kich uczest­niczek\, w pomieszcze­niu mogą zna­j­dować się tylko oso­by w pełni zaszczepi­one prze­ci­wko Covid-19\, ozdrowień­cy\, lub z negaty­wnym wynikiem tes­tu nie starszym niż 24 godziny. W pomieszczeni­ach obow­iązu­je nadal obow­iązek noszenia maseczek ochronnych. \nZas­trzegamy sobie pra­wo do przeprowadzenia spotka­nia online\, gdy­by z powodów pan­demicznych przeprowadze­nie go na miejs­cu nie było możliwe.
URL:https://www.via-in-berlin.de/events/ehrenamt-als-schluessel-fuer-den-karrierestart-fuer-soziale-berufe/
LOCATION:Box66 — Interkulturelles Beratungs- und Begegnungszentrum für Frauen und Familien in Friedrichshain\, Dolziger Straße 16\, Berlin\, 10247\, Deutschland
CATEGORIES:IQ Kommune Interkulturell,Mitgliedsorganisationen,Seminare für Migrant*innen
ATTACH;FMTTYPE=image/png:https://www.via-in-berlin.de/wp-content/uploads/2022/05/Veranstaltungsbanner-Vorbilder-zeigen-polnisch.png
END:VEVENT
END:VCALENDAR