BEGIN:VCALENDAR
VERSION:2.0
PRODID:-//VIA - ECPv5.12.2//NONSGML v1.0//EN
CALSCALE:GREGORIAN
METHOD:PUBLISH
X-WR-CALNAME:VIA
X-ORIGINAL-URL:https://www.via-in-berlin.de
X-WR-CALDESC:Veranstaltungen für VIA
REFRESH-INTERVAL;VALUE=DURATION:PT1H
X-Robots-Tag:noindex
X-PUBLISHED-TTL:PT1H
BEGIN:VTIMEZONE
TZID:Europe/Berlin
BEGIN:DAYLIGHT
TZOFFSETFROM:+0100
TZOFFSETTO:+0200
TZNAME:CEST
DTSTART:20220327T010000
END:DAYLIGHT
BEGIN:STANDARD
TZOFFSETFROM:+0200
TZOFFSETTO:+0100
TZNAME:CET
DTSTART:20221030T010000
END:STANDARD
END:VTIMEZONE
BEGIN:VEVENT
DTSTART;VALUE=DATE:20220707
DTEND;VALUE=DATE:20220709
DTSTAMP:20260425T223315
CREATED:20220630T125224Z
LAST-MODIFIED:20220630T130015Z
UID:5009-1657152000-1657324799@www.via-in-berlin.de
SUMMARY:Afrikaherz auf dem Kenako Afrika Festival 2022
DESCRIPTION:Das Kenako Afri­ka Fes­ti­val find­et in diesem Jahr zum acht­en Mal auf dem Berlin­er Alexan­der­platz statt. Ein afrikanis­ch­er Mark­t­platz mit Zel­ten und Bühne bietet seinen Gästen ein viel­seit­iges Programm.  \nAuf dem Mark­t­platz kön­nen Besuch­er handgemachte Kunst­werke\, Klei­dung\, Kos­metik und Kuli­nar­isches erwer­ben. Die Bühne bietet ein kul­turelles Pro­gramm aus Musik\, Tanz und The­ater. Außer­dem ste­hen im Rah­men des Pro­jek­ts Glob­ales Ler­nen Work­shops\, Lesun­gen\, Filmvor­führun­gen und Diskus­sion­srun­den auf dem Plan. \nAfrika­herz wird mit seinem Pro­jekt Mi-Health HIV-Part­ner­ship mit einem Info­s­tand auf dem Fes­ti­val vertreten sein und über HIV-Präven­tions- und HIV-Tes­tange­bote für afrikanis­che Migrant:innen informieren.
URL:https://www.via-in-berlin.de/events/afrikaherz-auf-dem-kenako-afrika-festival-2022/
LOCATION:Alexanderplatz\, Alexanderplatz 1\, Berlin\, 10178
CATEGORIES:Empowerment,Weitere Veranstaltungen
ATTACH;FMTTYPE=image/jpeg:https://www.via-in-berlin.de/wp-content/uploads/2021/11/logo-afrikaherz-e1656593920876.jpg
END:VEVENT
BEGIN:VEVENT
DTSTART;TZID=Europe/Berlin:20220709T140000
DTEND;TZID=Europe/Berlin:20220709T190000
DTSTAMP:20260425T223315
CREATED:20220630T130457Z
LAST-MODIFIED:20220630T130715Z
UID:5017-1657375200-1657393200@www.via-in-berlin.de
SUMMARY:Afrikaherz beim Starlight Women Grill Feast auf dem Tempelhofer Feld
DESCRIPTION:Afrika­herz wird mit einem Info­s­tand zu HIV/Aids-Präven­tions- und Tes­tange­boten für afrikanis­che Migrant:innen beim Starlight Women Grill Feast auf dem Tem­pel­hofer Feld vertreten sein. \n 
URL:https://www.via-in-berlin.de/events/afrikaherz-beim-starlight-women-grill-feast/
LOCATION:Tempelhofer Feld\, Tempelhofer Feld\, Berlin\, 12101
CATEGORIES:Empowerment,Weitere Veranstaltungen
ATTACH;FMTTYPE=image/jpeg:https://www.via-in-berlin.de/wp-content/uploads/2021/11/logo-afrikaherz-e1656593920876.jpg
END:VEVENT
BEGIN:VEVENT
DTSTART;TZID=Europe/Berlin:20220716T120000
DTEND;TZID=Europe/Berlin:20220716T180000
DTSTAMP:20260425T223315
CREATED:20220614T111326Z
LAST-MODIFIED:20220614T112200Z
UID:4909-1657972800-1657994400@www.via-in-berlin.de
SUMMARY:Sportfest zum Tag des Afrikanischen Kindes
DESCRIPTION:
URL:https://www.via-in-berlin.de/events/sportfest-zum-tag-des-afrikanischen-kindes/
LOCATION:Bühne vor dem CoLab im Görli\, Görlitzer Str. 1 Haus 3\, Berlin\, 10997\, Deutschland
CATEGORIES:Empowerment,Weitere Veranstaltungen
ATTACH;FMTTYPE=image/jpeg:https://www.via-in-berlin.de/wp-content/uploads/2022/06/PfD-Logo-Update-RZ-K-blau-72-e1655205485140.jpg
ORGANIZER;CN="Koordinierungs-%20und%20Fachstellen%20%28KUF%29%20der%20Partnerschaften%20f%C3%BCr%20Demokratie%20Friedrichshain%20%26%20Kreuzberg":MAILTO:kuf@via-in-berlin.de
END:VEVENT
END:VCALENDAR