BEGIN:VCALENDAR
VERSION:2.0
PRODID:-//VIA - ECPv5.12.2//NONSGML v1.0//EN
CALSCALE:GREGORIAN
METHOD:PUBLISH
X-WR-CALNAME:VIA
X-ORIGINAL-URL:https://www.via-in-berlin.de
X-WR-CALDESC:Veranstaltungen für VIA
REFRESH-INTERVAL;VALUE=DURATION:PT1H
X-Robots-Tag:noindex
X-PUBLISHED-TTL:PT1H
BEGIN:VTIMEZONE
TZID:Europe/Berlin
BEGIN:DAYLIGHT
TZOFFSETFROM:+0100
TZOFFSETTO:+0200
TZNAME:CEST
DTSTART:20220327T010000
END:DAYLIGHT
BEGIN:STANDARD
TZOFFSETFROM:+0200
TZOFFSETTO:+0100
TZNAME:CET
DTSTART:20221030T010000
END:STANDARD
END:VTIMEZONE
BEGIN:VEVENT
DTSTART;TZID=Europe/Berlin:20220902T160000
DTEND;TZID=Europe/Berlin:20220902T173000
DTSTAMP:20260426T012538
CREATED:20220712T095230Z
LAST-MODIFIED:20220822T083605Z
UID:5059-1662134400-1662139800@www.via-in-berlin.de
SUMMARY:Infoveranstaltung für Angehörige von vietnamesischen Menschen mit psychischen Problemen
DESCRIPTION:Liebe Ange­hörige von viet­name­sis­chen Men­schen mit psy­chis­chen Problemen\, \nin Berlin gibt es mit­tler­weile eine aus­d­if­feren­zierte Ver­sorgungsstruk­tur für viet­name­sis­chsprachige Men­schen mit psy­chis­chen Prob­le­men und Erkrankun­gen. Diese reichen von der niedrigschwelli­gen Beratung über die medi­zinis­che Ver­sorgung bis hin zur Nach­sorge im Betreuten Einzel­wohnen und Selb­sthil­fe­gruppe\, die im Net­zw­erk für psy­chis­che Gesund­heit von viet­name­sis­chen Migrant:innen organ­isiert sind. \nEs gibt jedoch noch zu wenig Ange­bote für Ange­hörige. Ange­hörige von Per­so­n­en\, die aus unter­schiedlichen Grün­den für eine pro­fes­sionelle Hil­fe (noch) nicht bere­it sind; Ange­hörige\, die im Umgang mit Mutter/Vater/Kind mit psy­chis­chen Erkrankun­gen über­fordert sind; Ange­hörige\, die selb­st Beratung und Unter­stützung benöti­gen usw. ste­hen oft­mals allein. Dabei gibt es dur­chaus Unter­stützungsmöglichkeit­en für sie\, vor allem für deutschsprachige Angehörige. \nDer Infoabend (online) bieten die Möglichkeit\, sich über die beste­hen­den Ange­bote zu informieren und auszu­tauschen. Fol­gende Organ­i­sa­tio­nen stellen sich kurz vor\, bevor wir in die Fragerunde gehen. \n\nAnge­hörige psy­chisch erkrank­ter Men­schen ApK Lan­desver­band Berlin e.V. (Beratung und Selb­sthil­fe) | Dr. Susanne Kappesser\nOstkreuz City gGmbH (Eingliederung­shil­fe und Zugang dazu) | Anja Luft und Denise Schmid\nOstkreuz City im KEH (Häu­fig gestellte Fra­gen von Ange­höri­gen) | Thuy Le\n\nApK berät und begleit­et seit 1989 Ange­hörige von Men­schen mit psy­chis­chen Prob­le­men und ste­ht offen für viet­deutsche Fam­i­lien. Ostkreuz ist erfahren­er Träger in der Begleitung von viet­name­sis­chen Fam­i­lien durch mut­ter­sprach­liche Fachkräfte.
URL:https://www.via-in-berlin.de/events/infoveranstaltung-fuer-angehoerige-von-vietnamesischen-menschen-mit-psychischen-problemen/
LOCATION:Digitaler Schulungsraum VIA Berlin/Brandenburg\, Berlin\, Deutschland
CATEGORIES:Seminare für Migrant*innen
ORGANIZER;CN="Wir%20reden%20dr%C3%BCber%21%20Psychische%20Erkrankungen%20im%20vietnamesischen%20Berlin":MAILTO:nozomi.spennemann@via-in-berlin.de
END:VEVENT
BEGIN:VEVENT
DTSTART;TZID=Europe/Berlin:20220903T153000
DTEND;TZID=Europe/Berlin:20220903T163000
DTSTAMP:20260426T012538
CREATED:20220819T094819Z
LAST-MODIFIED:20220824T102216Z
UID:5125-1662219000-1662222600@www.via-in-berlin.de
SUMMARY:Demokratiekonferenz der PfD Xberg "AntiSchwarzem Rassismus entgegentreten"
DESCRIPTION:  \nWeitere Infos zum Görli Jam-Fest 2022 gibt es hier.\n 
URL:https://www.via-in-berlin.de/events/demokratiekonferenz2022-xberg/
LOCATION:Bühne vor dem CoLab im Görli\, Görlitzer Str. 1 Haus 3\, Berlin\, 10997\, Deutschland
CATEGORIES:Empowerment,Fachveranstaltungen,Weitere Veranstaltungen
ATTACH;FMTTYPE=image/jpeg:https://www.via-in-berlin.de/wp-content/uploads/2022/06/PfD-Logo-Update-RZ-K-blau-72-e1655205485140.jpg
ORGANIZER;CN="Koordinierungs-%20und%20Fachstellen%20%28KUF%29%20der%20Partnerschaften%20f%C3%BCr%20Demokratie%20Friedrichshain%20%26%20Kreuzberg":MAILTO:kuf@via-in-berlin.de
END:VEVENT
BEGIN:VEVENT
DTSTART;TZID=Europe/Berlin:20220912T100000
DTEND;TZID=Europe/Berlin:20220912T120000
DTSTAMP:20260426T012538
CREATED:20220714T120414Z
LAST-MODIFIED:20220714T120414Z
UID:5066-1662976800-1662984000@www.via-in-berlin.de
SUMMARY:9. Netzwerktreffen Mitte
DESCRIPTION:Anmel­dung: anmeldung-iq@via-in-berlin.de \n\nNach der Auf­tak­tver­anstal­tung am 03. Mai 2019 möcht­en wir Sie zum näch­sten Net­zw­erk­tr­e­f­fen der Arbeits­gruppe (AG) Arbeit und Beschäf­ti­gung und Arbeits­mark­t­in­te­gra­tion ein­laden. Die AG hat sich zum Ziel geset­zt\, die Arbeits­mark­t­in­te­gra­tion von Zuge­wan­derten zu fördern und bei prekären Lebenssi­t­u­a­tio­nen wie Arbeit­saus­beu­tung von Migran­tinnen\, Migranten und Geflüchteten mit niedrigem Bil­dungsniveau zu unterstützen. \nWir — das VIA-Teil­pro­jekt „Kom­mune Interkul­turell — Inte­gra­tion von Bezirksver­wal­tun­gen und Migrant*innenorganisationen (MO) im Kon­text der Arbeits­mark­t­in­te­gra­tion in Berlin­er Bezirken“ im IQ Net­zw­erk Berlin laden Sie in Koop­er­a­tion mit dem Inte­gra­tions­büro Mitte sowie der Migra­tions­beauf­tragten des Job­cen­ters Mitte her­zlich zum 9. Tre­f­fen der AG Arbeits­mark­t­in­te­gra­tion ein: \nam Mon­tag\, den 12. Sep­tem­ber  von 10:00 bis 12:00 Uhr \nOrt: VIA 4. Stock Schu­lungsraum\, Peters­burg­er Str. 92\, 10247 Berlin \nAuf der Tage­sor­d­nung ste­hen die Eval­u­a­tion der Zusam­me­nar­beit in der let­zten Förder­pe­ri­ode vom 2019–2022 im Rah­men des IQ Teil­pro­jek­tes “Kom­mune Interkul­turell”\, sowie die Empfehlun­gen für den neuen Par­tizipa­tions­beirat Berlin Mitte. \nWir freuen uns sehr auf Ihre Teil­nahme und bit­ten um Anmel­dung bis spätestens zum 05.09.2022 unter anmeldung-iq@via-in-berlin.de.
URL:https://www.via-in-berlin.de/events/9-netzwerktreffen-mitte/
LOCATION:VIA — Verband für Interkulturelle Arbeit Regionalverband Berlin/Brandenburg e.V. (VIA Regional)\, Petersburger Str. 92\, Berlin\, 10247\, Deutschland
CATEGORIES:IQ Kommune Interkulturell,Netzwerktreffen
ATTACH;FMTTYPE=image/png:https://www.via-in-berlin.de/wp-content/uploads/2021/03/Veranstaltungsbanner-Netzwerke.png
END:VEVENT
BEGIN:VEVENT
DTSTART;TZID=Europe/Berlin:20220919T180000
DTEND;TZID=Europe/Berlin:20220919T210000
DTSTAMP:20260426T012538
CREATED:20220914T105403Z
LAST-MODIFIED:20220914T105403Z
UID:5220-1663610400-1663621200@www.via-in-berlin.de
SUMMARY:Sozialarbeit: ein Beruf mit und für Menschen
DESCRIPTION:Anmel­dung: info@gr-gemeinde.de                     Ter­min: 19.9.2022\, 18:00–21:00 Uhr                      Ort: Hel­lenis­che Gemeinde zu Berlin e.V.\, Mit­tel­str. 33\, 12167 Berlin \n\nWer in die Sozialar­beit in Berlin ein­steigen möchte hat unter­schiedliche Möglichkeit­en\, in diesem Beruf Fuß zu fassen: über einen Quere­in­stieg\, ein Prak­tikum\, eine duale Aus­bil­dung\, eine Weit­er­bil­dung oder ein staatlich anerkan­ntes Studi­um – die Möglichkeit­en sind zahlre­ich. In diesem Fachge­spräch wird deswe­gen die Sozialar­bei­t­erin Pinelopi Papadopoulou über ihren Beruf und ihren eige­nen beru­flichen Weg sprechen und darüber\, wie man den Ein­stieg in diesen men­schen­be­zo­ge­nen Beruf schafft. Es wer­den Fra­gen beant­wortet wie \n\nwelche Möglichkeit­en es gibt\, um in der Sozialar­beit tätig zu werden\,\nwie ein Studi­um zur staatlich anerkan­nten Sozialar­beit aussieht und\nwelche Hin­dernisse auftreten & wie diese über­wun­den wer­den können.\n\nDiese Fachver­anstal­tung aus der Gespräch­srei­he „Vor­bilder zeigen“ gibt einen Ein­blick in Ein­stiegs- und Pro­fes­sion­al­isierungsmöglichkeit­en in Berlin. Sie wird von ein­er Per­son aus Ihrer Com­mu­ni­ty geführt\, die hierzu­lande bere­its erfol­gre­ich tätig ist\, und richtet sich an Men­schen aus der­sel­ben Com­mu­ni­ty\, die sich auf dem Arbeits­markt behaupten möchten. \nWir – als Teil­pro­jekt „Kom­mune Interkul­turell“ im IQ-Net­zw­erk Berlin – laden Sie in Koop­er­a­tion mit der Hel­lenis­chen Gemeinde zu Berlin und der Ref­er­entin Pinelopi Papadopoulou ganz her­zlich zu dieser Ver­anstal­tung ein. \nDie Ver­anstal­tung find­et auf Griechisch statt. Die Teil­nahme ist kostenlos.
URL:https://www.via-in-berlin.de/events/sozialarbeit-ein-beruf-mit-und-fuer-menschen/
LOCATION:Hellenische Gemeinde zu Berlin e.V.\, Mittelstr. 33\, Berlin\, 12167\, Deutschland
CATEGORIES:IQ Kommune Interkulturell,Mitgliedsorganisationen,Seminare für Migrant*innen
ATTACH;FMTTYPE=image/png:https://www.via-in-berlin.de/wp-content/uploads/2022/09/Veranstaltungsbanner-Vorbilder-zeigen-I-HGB.png
END:VEVENT
BEGIN:VEVENT
DTSTART;TZID=Europe/Berlin:20220920T160000
DTEND;TZID=Europe/Berlin:20220920T190000
DTSTAMP:20260426T012538
CREATED:20220901T105450Z
LAST-MODIFIED:20220901T111251Z
UID:5178-1663689600-1663700400@www.via-in-berlin.de
SUMMARY:Qualifizierungsseminar "Erfahrungen und Chancen in der Fachkräfteeinwanderung in Berlin"
DESCRIPTION:Anmel­dung: zebi-forschung@web.de (Betr­e­ff „Anmel­dung 20.9.2022“)                                                                20. Sep­tem­ber 2022s            16:00 – 19:00 Uhr \n\nFachkräftezuwan­derung gilt in Deutsch­land als Mit­tel\, den Bedarf nach Per­son­al in zahlre­ichen Berufen sich­ern zu kön­nen. Damit sind Her­aus­forderun­gen sowohl für Betriebe als auch neu ange­wor­bene inter­na­tionale Fachkräfte ver­bun­den. Wir möcht­en uns mit Euch\, d.h. zuge­wan­derten Fachkräften\, Unternehmen und Migrant*innenorganisationen über Erfahrun­gen zum betrieblichen Inte­gra­tions­man­age­ment aus­tauschen und Eure Sicht darauf diskutieren: \n\nBegrüßung: Inna Schulze (IQ TP „Kom­mune Interkul­turell“ von VIA e.V.)\nErfahrun­gen inter­na­tionaler Fachkräfte in Berlin­er Pflegeein­rich­tun­gen und Betrieben der Gesundheitswirtschaft\nBeispiele zu The­men des Integrationsmanagements: \nFam­i­li­en­nachzug zu Fachkräften\nSozialver­sicherung in Deutschland\nWoh­nungssuche in Berlin\n\n\nFeed­back­runde: Was war gut? Was sollte bess­er gemacht werden?\n\nDas Pro­jekt „Fachkräftegewin­nung für Berlin“ wird von ZeBI durchge­führt und bietet im Net­zw­erk „Inte­gra­tion durch Qual­i­fizierung“ Infor­ma­tio­nen über das Fachkräf­teein­wan­derungs­ge­setz und das Inte­gra­tions­man­age­ment für Unternehmen\, Migrant*innen-Organisationen und Net­zw­erke der Fachkräf­teein­wan­derung an. Das Pro­jekt „Kom­mune Interkul­turell“ von VIA e.V. bietet eben­falls im IQ-Net­zw­erk Berlin darüber hin­aus Beratun­gen und Qual­i­fizierungsange­bote für Migrant*innenorganisationen im Bere­ich der Arbeits­mark­t­in­te­gra­tion an. \nDie Ver­anstal­tung find­et auf Deutsch statt\, die Teil­nahme ist kostenlos.
URL:https://www.via-in-berlin.de/events/qualifizierungsseminar-erfahrungen-und-chancen-in-der-fachkraefteeinwanderung-in-berlin/
LOCATION:VIA — Verband für Interkulturelle Arbeit Regionalverband Berlin/Brandenburg e.V. (VIA Regional)\, Petersburger Str. 92\, Berlin\, 10247\, Deutschland
CATEGORIES:IQ Kommune Interkulturell,Qualifizierung für MO
ATTACH;FMTTYPE=image/png:https://www.via-in-berlin.de/wp-content/uploads/2022/09/Veranstaltungsbanner-Qualifizierungsseminare.png
END:VEVENT
BEGIN:VEVENT
DTSTART;TZID=Europe/Berlin:20220920T170000
DTEND;TZID=Europe/Berlin:20220920T200000
DTSTAMP:20260426T012538
CREATED:20220913T081943Z
LAST-MODIFIED:20220913T090656Z
UID:5208-1663693200-1663704000@www.via-in-berlin.de
SUMMARY:Arbeitsmarktintegration in Deutschland: Beschäftigungsarten und Versicherungstypen
DESCRIPTION:Anmel­dung:    info@gr-gemeinde.de                      Ter­min:     20. Sep­tem­ber 2022\, 17:00 — 20:00 Uhr                        Hel­lenis­che Gemeinde zu Berlin e.V.\, Mit­tel­str. 33\, 12167 Berlin \n\nWer in den deutschen Arbeits­markt ein­treten möchte\, wird erst­mal mit einem völ­lig neuen Sys­tem kon­fron­tiert. Nicht immer gibt es ein Äquiv­a­lent zu unserem bish­eri­gen Job zu Hause. Wir müssen also erst ein­mal das neue Sys­tem ken­nen­ler­nen und die jew­eili­gen Vor- und Nachteile erken­nen kön­nen\, um eine fundierte Entschei­dung über unsere Zukun­ft tre­f­fen zu kön­nen. Welche Beschäf­ti­gungsart passt am besten zu mir? Welche Kranken‑\, Renten- und Sozialver­sicherung kom­men für welche Beschäf­ti­gungsart über­haupt in Frage und auf was muss ich acht­en? In diesem Arbeits­mark­t­ge­spräch sprechen wir über unter­schiedliche beru­fliche Möglichkeit­en sowie über das Sozialver­sicherungssys­tem im All­ge­meinen\, es wer­den Fra­gen beant­wortet wie \n\nwelche Beschäf­ti­gungsarten und entsprechende Ver­sicherungs­for­men gibt es\,\nwo entste­hen ver­sicherung­stech­nis­che Hin­dernisse bei der Auf­nahme von Arbeit und was kann ich dage­gen tun und\nauf was muss ich acht­en\, wenn ich einen neuen Job beginne\, und wie kann ich faire Arbeitsver­hält­nisse verhandeln.\n\nWir – als Teil­pro­jekt „Kom­mune Interkul­turell“ im IQ Net­zw­erk Berlin – laden Sie in Koop­er­a­tion mit der Hel­lenis­chen Gemeinde zu Berlin e.V. ganz her­zlich zu diesem Arbeits­mark­t­ge­spräch ein. \nDie Ver­anstal­tung find­et auf Griechisch und Deutsch statt\, die Teil­nahme ist kostenlos. \nAnmel­dung:    info@gr-gemeinde.de \nTer­min:     20. Sep­tem­ber 2022\, 17:00 — 20:00 Uhr \nOrt:        Hel­lenis­che Gemeinde zu Berlin e.V.\, Mit­tel­str. 33\, 12167 Berlin \nRef­er­entin:    Christi­na Fro­nista | Beraterin
URL:https://www.via-in-berlin.de/events/arbeitsmarktintegration-in-deutschland-beschaeftigungsarten-und-versicherungstypen/
LOCATION:Hellenische Gemeinde zu Berlin e.V.\, Mittelstr. 33\, Berlin\, 12167\, Deutschland
CATEGORIES:IQ Kommune Interkulturell,Mitgliedsorganisationen,Seminare für Migrant*innen
ATTACH;FMTTYPE=image/png:https://www.via-in-berlin.de/wp-content/uploads/2022/09/Veranstaltungsbanner-Arbeitsmarktgespräche-1.png
END:VEVENT
BEGIN:VEVENT
DTSTART;TZID=Europe/Berlin:20220921T160000
DTEND;TZID=Europe/Berlin:20220921T210000
DTSTAMP:20260426T012538
CREATED:20220819T102437Z
LAST-MODIFIED:20220819T102728Z
UID:5136-1663776000-1663794000@www.via-in-berlin.de
SUMMARY:BOX66: Jubiläumsfeier zum 30-jährigen Bestehen
DESCRIPTION:Liebe Frauen\, liebe Kol­legin­nen und Kol­le­gen\, liebe Fre­und*innen der Box66\,\nin diesem Jahr feiert die Box66 ihr 30-jähriges Beste­hen. Dies möcht­en wir zum Anlass nehmen\, uns mit einem kleinen Fest bei unserem Team\, bei Kol­leg*innen\, Koop­er­a­tionspart­ner*innen sowie unseren Klient*innen und Fre­und*innen für das Ver­trauen sowie die gute Zusam­me­nar­beit und das Engage­ment zu bedanken. \nWir laden Sie/Euch ganz her­zlich dazu ein\, gemein­sam mit uns  \nam Mittwoch\, dem 21.Sep­tem­ber 2022\,\nab 16.00 Uhr in der Box66  \nauf unser 30-jähriges Jubiläum anzus­toßen! \nWir freuen uns auf Ihr/Euer Kom­men!Wir haben ein buntes und stim­mungsvolles Pro­gramm für Sie/Euch vor­bere­it­et\, für Essen und Trinken ist auch gesorgt.Um Anmel­dung bis 12.09.2022 per E‑Mail an Frau Remziye Uykun wird gebeten.Eine Bestä­ti­gungs­mail für Ihre Anmel­dung erhal­ten Sie urlaub­s­be­d­ingt erst am 15.09.2022. \n  \n Pro­gramm16.00 Uhr Ein­lass16.30 Uhr Musikalis­ch­er Auf­takt & Sek­temp­fang17:00 Uhr Begrüßung Remziye Uykun | Leitung Box6617.15 Uhr Gruß­wort Petra Koch Knö­bel |  Frauen und Gle­ich­stel­lungs­beauf­tragteBezirk­samt Friedrichshain -Kreuzberg17.30 Uhr Aus­tauschrunde „Eine Reise in die Zeit­geschichte der Box66“• Sel­va Aven­dano | ehemalige MBE Mitar­beiterin• Agniesz­ka Lühr |  ehem. MBE Mitar­bei­t­erin u. Lei­t­erin Box66• Natalia Bugay –Wol­fram | ehem. MBE Mitar­beit­ern (ange­fragt)• Remziye Uykun| Leitung Box66• Hol­ger Förster| Geschäfts­führer Ver­band für Interkul­turelle Arbeit (VIA)18.00 Uhr Eröff­nung Büf­fet18.30 Uhr Tanz mit Tablao Fla­men­co Tem­pel­hof19.00 Uhr Pro­jek­tvorstel­lung an ver­schiede­nen Sta­tio­nen19:30 Uhr Danksa­gung Remziye Uykun | Leitung Box6620.00 Uhr Informeller Aus­tausch mit Musik und Tanz
URL:https://www.via-in-berlin.de/events/box66-30-jubilaeum/
LOCATION:Box66 — Interkulturelles Beratungs- und Begegnungszentrum für Frauen und Familien in Friedrichshain\, Dolziger Straße 16\, Berlin\, 10247\, Deutschland
CATEGORIES:Weitere Veranstaltungen
ATTACH;FMTTYPE=image/png:https://www.via-in-berlin.de/wp-content/uploads/2020/08/BOX-2020_LOGO_NEW_JULI-2020-e1660904841181.png
END:VEVENT
BEGIN:VEVENT
DTSTART;TZID=Europe/Berlin:20220922T120000
DTEND;TZID=Europe/Berlin:20220922T150000
DTSTAMP:20260426T012538
CREATED:20220908T124115Z
LAST-MODIFIED:20220908T124115Z
UID:5190-1663848000-1663858800@www.via-in-berlin.de
SUMMARY:Eine Einführung in Soziale Berufe in Berlin
DESCRIPTION:Anmel­dung:    info@salamkulturclub.de                                   Ter­min:     22.9.2022\, 12:00 — 15:00 UhrOrt                                   Salam e.V.\, Buttmannstraße 9A\, 13357 Berlin \n\nSoziale Berufe sind ein sehr wichtiger Bestandteil jed­er Gesellschaft. Denn soziale Berufe sind Berufe\, bei denen sich Men­schen um Men­schen küm­mern. Um Men­schen in dieser Stadt jedoch die best­mögliche Unter­stützung in unter­schiedlichen Lebenssi­t­u­a­tio­nen bieten zu kön­nen\, braucht Berlin mehr Vielfalt in diesen Beruf­s­grup­pen – Men­schen\, die den sozialen und kul­turellen Bedürfnis­sen aller Bürger*innen dieser Stadt gerecht wer­den kön­nen. In diesem Arbeits­mark­t­ge­spräch wer­den wir deshalb einige dieser sozialen Berufe präsen­tieren und Fra­gen beant­worten wie \n\nwas machen päd­a­gogis­che Assistent*innen\, Erzieher*innen und Sozialarbeiter*innen genau\,\nwie kann man in diese Berufe ein­steigen bzw. welche Aus­bil­dun­gen wer­den dafür benötigt und\nwas für Bewer­bungsmöglichkeit­en gibt es in Berlin für diese Berufsgruppen.\n\nWir – als Teil­pro­jekt „Kom­mune Interkul­turell“ im IQ-Net­zw­erk Berlin – laden Sie in Koop­er­a­tion mit Salam e.V. - Kul­tur- und Sport­club her­zlich zu dieser Ver­anstal­tung ein. Die Ver­anstal­tung find­et auf Ara­bisch statt. Die Teil­nahme ist kostenlos.
URL:https://www.via-in-berlin.de/events/eine-einfuehrung-in-soziale-berufe-in-berlin/
LOCATION:Salam e.V.\, Buttmannstraße 9A\, Berlin\, Berlin\, 13357
CATEGORIES:IQ Kommune Interkulturell,Seminare für Migrant*innen
ATTACH;FMTTYPE=image/png:https://www.via-in-berlin.de/wp-content/uploads/2022/09/Veranstaltungsbanner-Arbeitsmarktgespräche.png
END:VEVENT
BEGIN:VEVENT
DTSTART;TZID=Europe/Berlin:20220923T093000
DTEND;TZID=Europe/Berlin:20220923T160000
DTSTAMP:20260426T012538
CREATED:20220720T104447Z
LAST-MODIFIED:20220913T125631Z
UID:5079-1663925400-1663948800@www.via-in-berlin.de
SUMMARY:30 Jahre VIA Regionalverband Berlin/Brandenburg e.V. | Fachtag "Migrant:innenorganisationen als Akteurinnen der Sozialarbeit – Erfahrungen und Ausblick"
DESCRIPTION:Der VIA Region­alver­band Berlin/Brandenburg e.V. lädt anlässlich seines 30-jähri­gen Bestehens \nalle Mit­glied­sor­gan­i­sa­tio­nen\, Kooperationspartner:innen\, Wegbegleiter:innen und die inter­essierte Fachöf­fentlichkeit  zu einem Fach­tag ein. \nWir möcht­en uns gemein­sam mit Ihnen/Euch dem Thema \n“Migrant:innenorganisationen als Akteurin­nen der Sozialar­beit – Erfahrun­gen und Aus­blick” \nwid­men. \nWir bitten um verbindliche Anmeldung hier.\nDie Teil­nahme ist kostenfrei. \nDas Pro­gramm find­en Sie weit­er unten. \n  \n \n \n 
URL:https://www.via-in-berlin.de/events/30-jahre-via/
LOCATION:Akademie Hotel Berlin\, Heinrich-Mann-Str. 29\, Berlin\, Berlin\, 13156\, Deutschland
CATEGORIES:Fachveranstaltungen,Mitgliedsorganisationen
END:VEVENT
BEGIN:VEVENT
DTSTART;TZID=Europe/Berlin:20220926T100000
DTEND;TZID=Europe/Berlin:20220926T140000
DTSTAMP:20260426T012538
CREATED:20220819T104135Z
LAST-MODIFIED:20220819T104235Z
UID:5141-1664186400-1664200800@www.via-in-berlin.de
SUMMARY:BEFaN Netzwerk: VIII. Berliner Fachtag 2022 „Recht auf Mitsprache(n)”
DESCRIPTION:Anmeldung bitte über das Online-Formular. 
URL:https://www.via-in-berlin.de/events/befan-fachtag2022/
LOCATION:per Zoom
CATEGORIES:Empowerment,Fachveranstaltungen
END:VEVENT
BEGIN:VEVENT
DTSTART;TZID=Europe/Berlin:20220929T170000
DTEND;TZID=Europe/Berlin:20220929T190000
DTSTAMP:20260426T012538
CREATED:20220909T124803Z
LAST-MODIFIED:20220909T125008Z
UID:5200-1664470800-1664478000@www.via-in-berlin.de
SUMMARY:Online-Inforveranstaltung "Ausbildung und Arbeit in Deutschland/Formazione e lavoro in Germania"
DESCRIPTION:Gen­tili clienti\, \nnell´ambito del Pro­gram­ma MBE – Migra­tions­ber­atung für Erwach­sene e in coop­er­azione con l´organizzazione KOBRA orga­nizzi­amo un even­to infor­ma­ti­vo sul tema: \n“For­mazione e lavoro in Germania” \nL´evento vert­er sul­la strut­tura del sis­tema for­ma­ti­vo tedesco e su diverse tem­atiche legate alla ricer­ca del per­cor­so for­ma­ti­vo più adat­to\, ricer­ca del lavoro e can­di­datu­ra\, svilup­po di una car­ri­era pro­fes­sion­ale e pos­si­bil­ità di inser­i­men­to nel mer­ca­to del lavoro in assen­za dei req­ui­si­ti for­mali (Quere­in­stieg). \nInoltre ver­rà pre­sen­ta­ta una panoram­i­ca dei diver­si cen­tri di con­sulen­za e sup­por­to pre­sen­ti nel ter­ri­to­rio di Berlino. \nA guidar­ci in questo pomerig­gio sarà Rosaria Chiri­co con­sulente pres­so KOBRA. \nRosaria Chiri­co è lau­re­a­ta in let­tere e ha una lun­ga espe­rien­za lavo­ra­ti­va nel set­tore del­la for­mazione degli adul­ti. Come figlia di migranti ital­iani conosce le prob­lem­atiche legate all´integrazione e al lavoro in un paese straniero. Offre con­sulen­ze pro­fes­sion­ali sul tema “lavoro e for­mazione” anche in lin­gua ital­iana e si ritiene un’ac­com­pa­g­na­trice del per­cor­so d’in­ser­i­men­to nel mon­do lavo­ra­ti­vo berlinese. \nKOBRA – Beruf Bil­dung Arbeit — è un prog­et­to finanzi­a­to dal Sen­a­to Berli­nese (Sen­atsver­wal­tung für Wis­senschaft\, Gesund­heit\, Pflege und Gle­ich­stel­lung Abteilung II Frauen und Gle­ich­stel­lung / Dipar­ti­men­to II Donne e uguaglian­za dei generi) final­iz­za­to ad offrire con­sulen­za a donne — res­i­den­ti o che lavo­ra­no a Berli­no – in tutte le ques­tioni riguardan­ti la tem­at­i­ca del lavoro. \nA con­clu­sione dell´intervento ver­rà dato ampio spazio alle domande e alla dis­cus­sione con il pubblico. \nLa parte­ci­pazione all´evento è gra­tui­ta\, bas­ta reg­is­trar­si all´indirizzo mail. \nUna vol­ta rice­vu­ta la reg­is­trazione vi invier­e­mo il link ZOOM tramite il quale potrete avere acces­so all´evento. \nFace­book.  \nVi aspet­ti­amo!!! \nCor­diali Saluti \nIl team di BOX66 \n 
URL:https://www.via-in-berlin.de/events/mbe-box66-formazione-e-lavoro-in-germani/
LOCATION:per Zoom
CATEGORIES:Seminare für Migrant*innen
ORGANIZER;CN="MBE%20%7C%20Migrationsberatung%20f%C3%BCr%20Erwachsene%20in%20der%20BOX66":MAILTO:mbe-box66@via-in-berlin.de
END:VEVENT
END:VCALENDAR