BEGIN:VCALENDAR
VERSION:2.0
PRODID:-//VIA - ECPv5.12.2//NONSGML v1.0//EN
CALSCALE:GREGORIAN
METHOD:PUBLISH
X-WR-CALNAME:VIA
X-ORIGINAL-URL:https://www.via-in-berlin.de
X-WR-CALDESC:Veranstaltungen für VIA
REFRESH-INTERVAL;VALUE=DURATION:PT1H
X-Robots-Tag:noindex
X-PUBLISHED-TTL:PT1H
BEGIN:VTIMEZONE
TZID:Europe/Berlin
BEGIN:DAYLIGHT
TZOFFSETFROM:+0100
TZOFFSETTO:+0200
TZNAME:CEST
DTSTART:20220327T010000
END:DAYLIGHT
BEGIN:STANDARD
TZOFFSETFROM:+0200
TZOFFSETTO:+0100
TZNAME:CET
DTSTART:20221030T010000
END:STANDARD
END:VTIMEZONE
BEGIN:VEVENT
DTSTART;TZID=Europe/Berlin:20221004T160000
DTEND;TZID=Europe/Berlin:20221004T180000
DTSTAMP:20260426T025358
CREATED:20220822T130127Z
LAST-MODIFIED:20220822T130711Z
UID:5152-1664899200-1664906400@www.via-in-berlin.de
SUMMARY:Berlin Fast track City Summit 2022: Veranstaltung "HIV-Teststrategie: Modellprojekt Afrikaherz"
DESCRIPTION:Berlin Fast track City Sum­mit 2022 \nVer­anstal­tung “HIV-Test­strate­gie: Mod­ell­pro­jekt Afrikaherz” \nIn Deutsch­land bet­rifft fast jede dritte HIV-Neuin­fek­tion Per­so­n­en mit einem Migra­tionsh­in­ter­grund. Bei Neu­di­ag­nosen machen Men­schen aus Sub­sa­hara Afri­ka mehr als 50% der Fälle aus. Als wichtige Maß­nahme und erste Schritte des öffentlichen Gesund­heitswe­sens zur Behand­lung und Pflege von Betrof­fe­nen gel­ten HIV-Tests. Bis 2021 gab es in Berlin keine spez­i­fis­chen und kul­turell angepassten HIV-Tes­tange­bote\, die sich speziell an afrikanis­che Com­mu­ni­ties richt­en. Um die Test­bere­itschaft von Men­schen aus Sub­sa­hara Afri­ka zu erhöhen und die gesund­heitliche Ver­sorgung zu verbessern\, hat Afrika­herz daher ein Mod­ell­pro­jekt seit Okto­ber 2021 gestal­tet. Im Rah­men dieser Ver­anstal­tung wer­den einige Ergeb­nisse des Test­pro­jek­ts vorgestellt. Diese sollen Möglichkeit­en für einen Aus­tausch mit dem Pub­likum eröff­nen\, um so über beste­hende Bar­ri­eren und mögliche Lösungsan­sätze für HIV-Tests in afrikanis­chen Com­mu­ni­ties in Berlin disku­tieren zu können. \n Ziel­gruppe: Migrant/innen aus Sub­sa­hara-Afri­ka (MiS­SA)\, Per­so­n­en im Bere­ich Öffentlichkeit­sar­beit aus den einzel­nen Pro­jek­ten; Grund­sät­zlich gedacht für alle Inter­essierten am Thema \nReferent:innen: Ros­aline M’bayo & Stephen Amoah | Pro­jekt Afrika­herz des VIA Region­alver­ban­des Berlin/Brandenburg e.V. \nDie Teil­nehmenden­zahl ist auf max. 35 Per­so­n­en begren­zt. Eine Teil­nahme ist nur nach vorheriger verbindlich­er Anmel­dung bis spätestens 16.09.2022 per E‑Mail möglich: Afrikaherz@via-in-berlin.de\, stephen.amoah@via-in-berlin.de \nAnmelde­schluss: 16.09.2022 \n **Die Ver­anstal­tung wird auf Englisch abgehalten.
URL:https://www.via-in-berlin.de/events/berlin-fast-track-city-summit-2022-veranstaltung-hiv-teststrategie-modellprojekt-afrikaherz/
LOCATION:ZIK Orangerie\, Reichenberger Str. 129\, Berlin\, Berlin\, 10999\, Deutschland
CATEGORIES:Fachveranstaltungen,Workshop
ATTACH;FMTTYPE=image/jpeg:https://www.via-in-berlin.de/wp-content/uploads/2022/06/fast-track-city-berlin-600x389-1-e1660907242791.jpg
END:VEVENT
BEGIN:VEVENT
DTSTART;TZID=Europe/Berlin:20221009T100000
DTEND;TZID=Europe/Berlin:20221009T180000
DTSTAMP:20260426T025358
CREATED:20221005T101955Z
LAST-MODIFIED:20221005T102455Z
UID:5261-1665309600-1665338400@www.via-in-berlin.de
SUMMARY:KIDS BANTABA - Empowerment-Workshop für BIPOC Kids & Jugendliche
DESCRIPTION:Die Koor­dinierungs- und Fach­stelle (KuF) der Part­ner­schaft­für Demokratie Friedrichshain lädt alle BIPOC Kinder und Jugendlichen zu\nKIDS BANTABA am 09.10.2022 ins YAAM ein!\nWir ver­längern dieses Jahr den Som­mer bis in den Okto­ber! Kids Banta­ba ist eine Sum­mer School\, die mit ras­sis­mus- und diskri­m­inierungskri­tis­chen Work­shops und Ver­anstal­tun­gen\, mit Nach­hil­fe und Aus­flü­gen\, mit Kun­st und Musik BIPOC Kinder und Jugendliche empow­ern möchte.\nAlle BIPOC Kids und Jugendlichen sind herzlich willkommen!\nDie Teil­nahme ist kosten­frei. Um Anmel­dung per E‑Mail an  die KUF oder an Nyi­ma Jadama wird gebeten.\nDie Ver­anstal­tung find­et in Koop­er­a­tion mit YAAM Berlin — KULT e.V. Vere­in zur Förderung der Jugend­kul­tur statt.
URL:https://www.via-in-berlin.de/events/kids-bantaba-2022/
LOCATION:YAAM Berlin
CATEGORIES:Empowerment,Seminare für Migrant*innen,Weitere Veranstaltungen,Workshop
ATTACH;FMTTYPE=image/jpeg:https://www.via-in-berlin.de/wp-content/uploads/2022/10/PfD-Logo-Update-RZ-F-gruen-72-e1664965172110.jpg
ORGANIZER;CN="Koordinierungs-%20und%20Fachstellen%20%28KUF%29%20der%20Partnerschaften%20f%C3%BCr%20Demokratie%20Friedrichshain%20%26%20Kreuzberg":MAILTO:kuf@via-in-berlin.de
END:VEVENT
BEGIN:VEVENT
DTSTART;TZID=Europe/Berlin:20221014T173000
DTEND;TZID=Europe/Berlin:20221014T220000
DTSTAMP:20260426T025358
CREATED:20221007T134426Z
LAST-MODIFIED:20221007T134525Z
UID:5285-1665768600-1665784800@www.via-in-berlin.de
SUMMARY:Empowerment von Frauen* - Die eigene Stimme entdecken: Abschlussveranstaltung des Projekts
DESCRIPTION:Anmeldungen bitte an Khazar Varnosi.
URL:https://www.via-in-berlin.de/events/empowerment-von-frauen-abschlussveranstaltung/
LOCATION:BIWOC Rising\, Dresdner Str. 11\, Berlin\, Berlin\, 10999
CATEGORIES:Empowerment
ORGANIZER;CN="BOX66%20%7C%20Projekt%20%22Empowerment%20von%20Frauen%20-%20Die%20eigene%20Stimme%20entdecken%22":MAILTO:emempowerment-box66@via-in-berlin.de
END:VEVENT
BEGIN:VEVENT
DTSTART;TZID=Europe/Berlin:20221018T160000
DTEND;TZID=Europe/Berlin:20221018T180000
DTSTAMP:20260426T025358
CREATED:20221005T100127Z
LAST-MODIFIED:20221005T100659Z
UID:5249-1666108800-1666116000@www.via-in-berlin.de
SUMMARY:BEFaN Netzwerk: Online-Podiumsdiskussion "Berlin braucht Lehrkräfte! Hürden für qualifizierte Migrant*innen abbauen!"
DESCRIPTION:Anmeldung bitte hier über das Online-Formular. 
URL:https://www.via-in-berlin.de/events/befan_podiumsdiskussion_berlin-braucht-lehrkraefte/
LOCATION:per Zoom
CATEGORIES:Fachveranstaltungen
ATTACH;FMTTYPE=image/jpeg:https://www.via-in-berlin.de/wp-content/uploads/2020/09/BEFAN-Logoklein.jpg
END:VEVENT
BEGIN:VEVENT
DTSTART;TZID=Europe/Berlin:20221027T140000
DTEND;TZID=Europe/Berlin:20221027T160000
DTSTAMP:20260426T025358
CREATED:20220927T175637Z
LAST-MODIFIED:20221006T131044Z
UID:5232-1666879200-1666886400@www.via-in-berlin.de
SUMMARY:Thematische Fachrunde für MO: „Gesundheitsbezogene Selbsthilfe für Migrant:innen“ (Zoom)
DESCRIPTION:In Deutsch­land tre­f­fen sich jeden Tag zahlre­iche Men­schen in Selb­sthil­fe­grup­pen. Sie tauschen Erfahrun­gen und Infor­ma­tio­nen aus und bieten sich gegen­seit­ig Unter­stützung bei der Bewäl­ti­gung von Krankheit­en. Die Selb­sthil­fe find­et als eine Form der Gesund­heits­förderung längst gesellschaftliche sowie poli­tis­che Anerken­nung und wird durch Krankenkassen entsprechend gefördert. \nEs gibt zunehmend auch Selb­sthil­fe­grup­pen von Migrant*innen in Berlin\, aber die Möglichkeit­en der Kassen­förderung und der Begleitung von Selb­sthil­fe­grup­pen durch spezial­isierte Stellen sind nicht hin­re­ichend bekannt. \nFrau Azra Tatare­vic (Pro­jekt Selb­sthil­fe und Migra­tion und Kompetenzzentrum/ Selb­sthil­fe- und Stadt­teilezen­trum Berlin Neukölln ) berät und unter­stützt seit Jahren Migrant:innen bei der Ini­ti­ierung und Grün­dung der Selb­sthil­fe­grup­pen. Sie stellt die Rah­menbe­din­gun­gen der Selb­sthil­fe­förderung durch die geset­zlichen Krankenkassen im Rah­men von § 20c SGB V vor und berichtet aus der Prax­is\, wie die Grup­pen zusam­menkom­men\, wofür die Förderung aus­gegeben wer­den kann und was die typ­is­chen Grup­pe­nak­tiv­itäten sind. Es geht auch um die Frage\, ob eine Online-Gruppe anerkan­nt wird und welche Chancen/Risiken ein Online­for­mat mit sich bringt. \nNach einem Input gibt es für diejeni­gen\, die erst­mals einen Antrag auf die Kassen­förderung stellen wollen\, Möglichkeit­en für indi­vidu­elle Beratung (Bitte bei der Anmel­dung angeben). \nTeil­nah­melink für Zoom wird nach Anmel­dung ver­schickt. Anmel­dung bis zum 20.10.2022 an: nozomi.spennemann@via-in-berlin.de
URL:https://www.via-in-berlin.de/events/thematische-fachrunde-fuer-mo-gesundheitsbezogene-selbsthilfe-fuer-migrantinnen-zoom/
LOCATION:Digitaler Schulungsraum VIA Berlin/Brandenburg\, Berlin\, Deutschland
CATEGORIES:Qualifizierung für MO
END:VEVENT
END:VCALENDAR