BEGIN:VCALENDAR
VERSION:2.0
PRODID:-//VIA - ECPv5.12.2//NONSGML v1.0//EN
CALSCALE:GREGORIAN
METHOD:PUBLISH
X-WR-CALNAME:VIA
X-ORIGINAL-URL:https://www.via-in-berlin.de
X-WR-CALDESC:Veranstaltungen für VIA
REFRESH-INTERVAL;VALUE=DURATION:PT1H
X-Robots-Tag:noindex
X-PUBLISHED-TTL:PT1H
BEGIN:VTIMEZONE
TZID:Europe/Berlin
BEGIN:DAYLIGHT
TZOFFSETFROM:+0100
TZOFFSETTO:+0200
TZNAME:CEST
DTSTART:20220327T010000
END:DAYLIGHT
BEGIN:STANDARD
TZOFFSETFROM:+0200
TZOFFSETTO:+0100
TZNAME:CET
DTSTART:20221030T010000
END:STANDARD
END:VTIMEZONE
BEGIN:VEVENT
DTSTART;TZID=Europe/Berlin:20221107T150000
DTEND;TZID=Europe/Berlin:20221107T170000
DTSTAMP:20260426T042920
CREATED:20221017T090548Z
LAST-MODIFIED:20221017T090548Z
UID:5342-1667833200-1667840400@www.via-in-berlin.de
SUMMARY:Netzwerk Alter und vietnamesische Migration
DESCRIPTION:Nach langer Pause eines Präsen­ztr­e­f­fens möchte ich Sie/Euch her­zlich zum näch­sten Tre­f­fen ein­laden\, das wir dankenswert­er­weise in den Prax­is­räu­men von Mai Thy Phan-Nguyen\, Fachärztin für All­ge­mein­medi­zin\, durchführen. \nMai Thy hat ab dieser Woche die Prax­is AllMed.berlin in Licht­en­berg geöffnet\, vor allem für hausärztliche Ver­sorgung von Men­schen u.a. aus Viet­nam. Diese Gele­gen­heit wollen wir nutzen\, um die das Prax­is­team ken­nen zu ler­nen und zugle­ich uns über die gesund­heitliche Ver­sorgung von älteren und älter wer­den­den viet­name­sis­chen Men­schen auszutauschen. \nIch hoffe auf zahlre­ich­es Erscheinen\, bitte den­noch um eine verbindliche Anmel­dung spätestens bis zum 31.10.2022 auf­grund der begren­zten Plätze. \nTer­min: Mon­tag\, 07.11.2022\, 15–17 Uhr \nOrt:  AllMed.berlin\, Möl­len­dorf­s­traße 47 (1. OG)\, 10367 Berlin
URL:https://www.via-in-berlin.de/events/netzwerk-alter-und-vietnamesische-migration/
LOCATION:AllMed.berlin\, Möllendorfstraße 47 (1. OG)\,\, Berlin\, 10367
CATEGORIES:Netzwerktreffen
END:VEVENT
BEGIN:VEVENT
DTSTART;TZID=Europe/Berlin:20221108T170000
DTEND;TZID=Europe/Berlin:20221108T200000
DTSTAMP:20260426T042920
CREATED:20221021T123315Z
LAST-MODIFIED:20221025T131024Z
UID:5346-1667926800-1667937600@www.via-in-berlin.de
SUMMARY:Demokratiekonferenz der PfD Friedrichshain 2022: Diskriminierung von Migrant*innen bei Behördengängen
DESCRIPTION:
URL:https://www.via-in-berlin.de/events/demokratiekonferenz-pfd-friedrichshain-2022/
LOCATION:per Zoom
CATEGORIES:Fachveranstaltungen,Seminare für Migrant*innen,Workshop
ATTACH;FMTTYPE=image/jpeg:https://www.via-in-berlin.de/wp-content/uploads/2022/10/PfD-Logo-Update-RZ-F-gruen-72-e1664965172110.jpg
ORGANIZER;CN="Koordinierungs-%20und%20Fachstellen%20%28KUF%29%20der%20Partnerschaften%20f%C3%BCr%20Demokratie%20Friedrichshain%20%26%20Kreuzberg":MAILTO:kuf@via-in-berlin.de
END:VEVENT
BEGIN:VEVENT
DTSTART;TZID=Europe/Berlin:20221109T130000
DTEND;TZID=Europe/Berlin:20221109T150000
DTSTAMP:20260426T042920
CREATED:20221028T085635Z
LAST-MODIFIED:20221028T090157Z
UID:5362-1667998800-1668006000@www.via-in-berlin.de
SUMMARY:Fachveranstaltung des BEFaN Netzwerks: "Mehrsprachigkeit als Brücke zur Partizipation"
DESCRIPTION:In den let­zten Jahren wur­den in Berlin wichtige Ziele zur Förderung von Mehrsprachigkeit an Schulen erre­icht. Der § 15 des Berlin­er Schulge­set­zes wurde durch Beschluss des Abge­ord­neten­haus­es im Sep­tem­ber 2021 geän­dert. Aus “Unter­richt für Schü­lerin­nen und Schüler nicht­deutsch­er Herkun­ftssprache” wurde “Förderung von Zwei- und Mehrsprachigkeit”. Der stig­ma­tisierende und defiz­ito­ri­en­tierte Begriff ndH (nicht deutsch­er Herkun­ftssprache) soll nicht mehr ver­wen­det wer­den. Zudem hat die Sen­atsver­wal­tung für Bil­dung\, Jugend und Fam­i­lie ein Mehrsprachigkeit­skonzept entwick­elt und dieses Ende 2021 veröf­fentlicht. Basierend darauf soll in den Berlin­er Schulen die Mehrsprachigkeit umfassend gefördert wer­den. Das BEFaN-Net­zw­erk hat dazu auch eine Stel­lung­nahme veröffentlicht: \n     BEFaN Posi­tion­spa­pi­er Mehrsprachigkeit.pdf\n \nIm Rah­men der Online- Debat­te möcht­en wir fol­gende Fra­gen diskutieren: \n\nIst die Förderung der Mehrsprachigkeit weit­er­hin ein poli­tis­ches Ziel des Berlin­er Abge­ord­neten­haus­es? Wie kann dieses Ziel erfol­gre­ich umge­set­zt wer­den\, welche Schritte sind dafür erforderlich?\nWas sind die großen Her­aus­forderun­gen und Hür­den bei der Umset­zung des Mehrsprachigkeit­skonzeptes an den Berlin­er Schulen?\nIst Mehrsprachigkeit eine Brücke für die Par­tizipa­tion an (oder in) der Gesellschaft?\nWie kann man bess­er die Ressourcen und Poten­ziale der mehrsprachi­gen Gesellschaft abholen und für ein par­tizipa­tives Schulmod­ell nutzen?\nStellen die Lehrkräfte mit aus­ländis­chen Qual­i­fika­tio­nen ins­beson­dere in dieser Zeit des Lehrkräfte­man­gels nicht eine große Chance für Berlin­er Schulen dar?\nSind die Parteien bere­it\, sich die Mehrsprachigkeit auf die Fahne zu schreiben?\n\nAnmeldung unter über das Online-Formular erforderlich!\n 
URL:https://www.via-in-berlin.de/events/befan-podium-mehrsprachigkeit-bruecke-partizipation/
LOCATION:Berlin
CATEGORIES:Fachveranstaltungen
ATTACH;FMTTYPE=image/jpeg:https://www.via-in-berlin.de/wp-content/uploads/2020/09/BEFAN-Logoklein.jpg
END:VEVENT
BEGIN:VEVENT
DTSTART;TZID=Europe/Berlin:20221117T130000
DTEND;TZID=Europe/Berlin:20221117T150000
DTSTAMP:20260426T042920
CREATED:20221104T111414Z
LAST-MODIFIED:20221104T112306Z
UID:5399-1668690000-1668697200@www.via-in-berlin.de
SUMMARY:BEFaN Netzwerk: Online-Seminar „Stereotypische Sprache und Bilder in Unterrichtsmaterialien als Spiegel eines kolonialen Weltbildes”
DESCRIPTION:Anmeldung bitte über das Online-Formular
URL:https://www.via-in-berlin.de/events/befan-netzwerk-online-seminar-stereotype-unterrichtsmaterialien/
LOCATION:per Zoom
CATEGORIES:Fachveranstaltungen,Workshop
ATTACH;FMTTYPE=image/jpeg:https://www.via-in-berlin.de/wp-content/uploads/2020/09/BEFAN-Logoklein.jpg
END:VEVENT
BEGIN:VEVENT
DTSTART;TZID=Europe/Berlin:20221118T093000
DTEND;TZID=Europe/Berlin:20221118T163000
DTSTAMP:20260426T042920
CREATED:20221031T121626Z
LAST-MODIFIED:20221031T122815Z
UID:5370-1668763800-1668789000@www.via-in-berlin.de
SUMMARY:4. Landeskonferenz der Migrant*innenorganisationen (LKMO 2022)
DESCRIPTION:Der VIA Region­alver­band Berlin/Brandenburg e.V. freut sich\, zur diesjähri­gen Lan­deskon­ferenz der Migrant*innenorganisationen (LKMO 2022) einzu­laden. Die LKMO wird jährlich vom Türkischen Bund Berlin-Bran­den­burg (TBB) e.V. aus­gerichtet\, VIA ist auch dieses Jahr wieder Teil des Organisationsteams. \nVorläufiges Programm\nIntern­er Teil: 9:30 – 13:00 Uhr (Nur für Vertreter*innen von MOs\, Geflüchtetenini­tia­tiv­en und Integrationsbeiräte) \n9:30 Uhr Ein­lass und Ankommen10:00 Uhr Eröff­nung und Begrüßung10:15 Uhr Ein­teilung in Arbeits­grup­pen10:30 Uhr Vorstel­lung der AG-Inputs\, The­men­samm­lung\, Diskus­sion12:30 Uhr Zusam­men­fas­sung der AG-Ergeb­nisse \nPause: 13:00 – 14:00 Uhr \nÖffentlich­er Teil: 14:00 – 16:30 \n14:00 Uhr Eröff­nung des öffentlichen Teils\, Gruß­wort der Sen­a­torin für Inte­gra­tion\,Arbeit und Soziales\, Kat­ja Kip­ping14:15 Uhr Vorstel­lung der AG-Ergeb­nisse14:45 Uhr Reak­tio­nen aus der Ver­wal­tung15:00 Uhr Podi­ums­diskus­sion16:30 Uhr Ver­ab­schiedung und Ver­anstal­tungsende \nAnfra­gen bitte per E‑Mail direkt an den TBB richten!
URL:https://www.via-in-berlin.de/events/4-landeskonferenz-der-migrantinnenorganisationen-lkmo-2022/
LOCATION:bUm — Raum für die engagierte Zivilgesellschaft\, Paul-Lincke-Ufer 21\, Berlin\, 10999\, Deutschland
CATEGORIES:Fachveranstaltungen,Mitgliedsorganisationen
END:VEVENT
BEGIN:VEVENT
DTSTART;TZID=Europe/Berlin:20221123T170000
DTEND;TZID=Europe/Berlin:20221123T190000
DTSTAMP:20260426T042920
CREATED:20221103T124118Z
LAST-MODIFIED:20221103T124118Z
UID:5394-1669222800-1669230000@www.via-in-berlin.de
SUMMARY:Partnerschaften für Demokratie Friedrichshain-Kreuzberg: Projektvorstellungen Aktions- und Initiativfonds 2022
DESCRIPTION:
URL:https://www.via-in-berlin.de/events/partnerschaften-fuer-demokratie-friedrichshain-kreuzberg-projektvorstellungen-aktions-und-initiativfonds-2022/
LOCATION:Jugendclub Skandal\, Gryphiusstr. 29\, Berlin\, Berlin\, 10245\, Deutschland
CATEGORIES:Fachveranstaltungen,Workshop
ATTACH;FMTTYPE=image/jpeg:https://www.via-in-berlin.de/wp-content/uploads/2022/06/PfD-Logo-Update-RZ-F-K-petrol-72-e1655209124548.jpg
ORGANIZER;CN="Koordinierungs-%20und%20Fachstellen%20%28KUF%29%20der%20Partnerschaften%20f%C3%BCr%20Demokratie%20Friedrichshain%20%26%20Kreuzberg":MAILTO:kuf@via-in-berlin.de
END:VEVENT
BEGIN:VEVENT
DTSTART;TZID=Europe/Berlin:20221130T160000
DTEND;TZID=Europe/Berlin:20221130T180000
DTSTAMP:20260426T042920
CREATED:20221121T091053Z
LAST-MODIFIED:20221121T091548Z
UID:5413-1669824000-1669831200@www.via-in-berlin.de
SUMMARY:MBE Online-Infoveranstaltung: Pflege\, Versicherung und Eingliederungshilfe – Ein Einblick in die Regeln Von SGB IX und SGB XII
DESCRIPTION:  \n \nDie Online-Infover­anstal­tung beschäftigt sich mit dem The­ma „Pflege“. Ins­beson­dere wird der Fokus auf die Vorschriften des SGB IX gelegt\, welche die Pflegeleis­tun­gen und die Leis­tun­gen für pfle­gende Fam­i­lien­ange­hörige regeln. Im Anschluss wer­den ver­schiedene For­men der Eingliederung­shil­fe\, wie z.B. Leis­tun­gen zur medi­zinis­chen Reha­bil­i­ta­tion\, zur Teil­habe am Arbeit­sleben\, zur Bil­dung usw. thematisiert. \nDie Recht­san­wältin für Sozial­recht Frau Ste­fanie Her­fuhrt-Schmidt stellt ihre Fachkom­pe­ten­zen als Ref­er­entin zur Ver­fü­gung. Anschließend wird es Raum für Fra­gen geben. \nDie Ver­anstal­tung wird in deutsch­er Sprache durchgeführt. \nFür die Teil­nahme an der Ver­anstal­tung ist eine Anmel­dung per E‑mail an Lori­ta Fac­chi­ni notwendig. Nach der Anmel­dung wird der Link zur Ver­anstal­tung per Email zugeschickt (bitte Spam-Ord­ner kontrollieren!). \nLink Face­book  \n \n 
URL:https://www.via-in-berlin.de/events/mbe-infoveranstaltung-pflege-versicherung-und-eingliederung/
LOCATION:per Zoom
CATEGORIES:Seminare für Migrant*innen
ATTACH;FMTTYPE=image/jpeg:https://www.via-in-berlin.de/wp-content/uploads/2021/01/csm_BAMF_Logo_MBE_RGB_LANG_1bd80e08fa-e1669021542316.jpeg
ORGANIZER;CN="MBE%20%7C%20Migrationsberatung%20f%C3%BCr%20Erwachsene%20in%20der%20BOX66":MAILTO:mbe-box66@via-in-berlin.de
END:VEVENT
END:VCALENDAR